BEGIN:VCALENDAR
VERSION:2.0
PRODID:-//Port Jefferson Station - BSA Troop 354 - ECPv6.2.3.2//NONSGML v1.0//EN
CALSCALE:GREGORIAN
METHOD:PUBLISH
X-ORIGINAL-URL:https://bsatroop354.com
X-WR-CALDESC:Events for Port Jefferson Station - BSA Troop 354
REFRESH-INTERVAL;VALUE=DURATION:PT1H
X-Robots-Tag:noindex
X-PUBLISHED-TTL:PT1H
BEGIN:VTIMEZONE
TZID:America/New_York
BEGIN:DAYLIGHT
TZOFFSETFROM:-0500
TZOFFSETTO:-0400
TZNAME:EDT
DTSTART:20220313T070000
END:DAYLIGHT
BEGIN:STANDARD
TZOFFSETFROM:-0400
TZOFFSETTO:-0500
TZNAME:EST
DTSTART:20221106T060000
END:STANDARD
END:VTIMEZONE
BEGIN:VEVENT
DTSTART;TZID=America/New_York:20220103T193000
DTEND;TZID=America/New_York:20220103T210000
DTSTAMP:20260419T113506
CREATED:20211123T161138Z
LAST-MODIFIED:20211228T170053Z
UID:3653-1641238200-1641243600@bsatroop354.com
SUMMARY:Troop Meeting
DESCRIPTION:This meeting will be at Norwood Ave School\, 7:30 to 9:00 pm\, Class B uniforms. \nWelcome to the New Year! \nFor the boys working on the First Aid merit badge\, remember to work on Requirement 5a for the merit badge. \n5a) Prepare a first-aid kit for your home.  Display and discuss it’s contents with your counselor.  (Bring it to the meeting.) \n  \nFor the boys working on Communications merit badge\, remember to work on Requirement 2a for the merit badge. \n2a) Think of a creative way to describe yourself using\, for example\, a collage\, short story or autobiography\, drawing or series of photographs\, or a song or skit. \nUsing the aid you created\, make a presentation to your counselor about yourself. (Bring it to the meeting).
URL:https://bsatroop354.com/event/troop-meeting-145/
LOCATION:Norwood Avenue School\, 290 Norwood Ave\, Port Jefferson Station\, NY\, 11776
END:VEVENT
BEGIN:VEVENT
DTSTART;TZID=America/New_York:20220110T193000
DTEND;TZID=America/New_York:20220110T210000
DTSTAMP:20260419T113506
CREATED:20220113T183847Z
LAST-MODIFIED:20220113T183847Z
UID:3684-1641843000-1641848400@bsatroop354.com
SUMMARY:Troop Meeting
DESCRIPTION:This meeting will be at Norwood Ave School\, 7:30 to 9:00 pm\, Class B uniforms. \n 
URL:https://bsatroop354.com/event/troop-meeting-146/
LOCATION:Norwood Avenue School\, 290 Norwood Ave\, Port Jefferson Station\, NY\, 11776
END:VEVENT
BEGIN:VEVENT
DTSTART;TZID=America/New_York:20220115T100000
DTEND;TZID=America/New_York:20220115T120000
DTSTAMP:20260419T113506
CREATED:20211228T165724Z
LAST-MODIFIED:20220104T154122Z
UID:3680-1642240800-1642248000@bsatroop354.com
SUMMARY:Skating Merit Badge
DESCRIPTION:Mr. Reed is going to run Skating Merit badge at the rink in the community center up in Port Jefferson on Saturday January 8th\, from 10:00 am to approximately 12:00 noon.  The merit badge can be earned all on this day.  The cost will be $20.00 for the use of the facility\, the skating rental\, and there will be pizza and soda afterwards.  The first part of the badge will be on the ice\, and the second part will be inside the center in a class room setting to finish the requirements.  Pizza and soda will be served at the end.  You need to let us know ahead of time if you are coming\, so please respond to this email if you are attending.  You can pay us at next week’s meeting.  Bring some warm clothes and good socks for the skating part.
URL:https://bsatroop354.com/event/skating-merit-badge-4/
END:VEVENT
BEGIN:VEVENT
DTSTART;TZID=America/New_York:20220124T193000
DTEND;TZID=America/New_York:20220124T210000
DTSTAMP:20260419T113506
CREATED:20220113T183929Z
LAST-MODIFIED:20220113T183929Z
UID:3686-1643052600-1643058000@bsatroop354.com
SUMMARY:Troop Meeting
DESCRIPTION:This meeting will be at Norwood Ave School\, 7:30 to 9:00 pm\, Class A uniforms. \nThe Webelos II from Pack 354 will be visiting with us this night and \nwe will be showing them some of what boy scouting is about.
URL:https://bsatroop354.com/event/troop-meeting-147/
LOCATION:Norwood Avenue School\, 290 Norwood Ave\, Port Jefferson Station\, NY\, 11776
END:VEVENT
BEGIN:VEVENT
DTSTART;TZID=America/New_York:20220131T193000
DTEND;TZID=America/New_York:20220131T210000
DTSTAMP:20260419T113506
CREATED:20220113T183957Z
LAST-MODIFIED:20220113T183957Z
UID:3688-1643657400-1643662800@bsatroop354.com
SUMMARY:Troop Meeting
DESCRIPTION:This meeting will be at Norwood Ave School\, 7:30 to 9:00 pm\, Class B uniforms. \nWe will be returning to working on First Aid and Communications Merit badges\, and advancement.
URL:https://bsatroop354.com/event/troop-meeting-148/
LOCATION:Norwood Avenue School\, 290 Norwood Ave\, Port Jefferson Station\, NY\, 11776
END:VEVENT
END:VCALENDAR