BEGIN:VCALENDAR
VERSION:2.0
PRODID:-//Port Jefferson Station - BSA Troop 354 - ECPv6.2.3.2//NONSGML v1.0//EN
CALSCALE:GREGORIAN
METHOD:PUBLISH
X-ORIGINAL-URL:https://bsatroop354.com
X-WR-CALDESC:Events for Port Jefferson Station - BSA Troop 354
REFRESH-INTERVAL;VALUE=DURATION:PT1H
X-Robots-Tag:noindex
X-PUBLISHED-TTL:PT1H
BEGIN:VTIMEZONE
TZID:America/New_York
BEGIN:DAYLIGHT
TZOFFSETFROM:-0500
TZOFFSETTO:-0400
TZNAME:EDT
DTSTART:20210314T070000
END:DAYLIGHT
BEGIN:STANDARD
TZOFFSETFROM:-0400
TZOFFSETTO:-0500
TZNAME:EST
DTSTART:20211107T060000
END:STANDARD
END:VTIMEZONE
BEGIN:VEVENT
DTSTART;TZID=America/New_York:20211101T193000
DTEND;TZID=America/New_York:20211101T210000
DTSTAMP:20260419T150427
CREATED:20211018T145006Z
LAST-MODIFIED:20211018T145006Z
UID:3600-1635795000-1635800400@bsatroop354.com
SUMMARY:Troop Meeting
DESCRIPTION:This meeting will be at Norwood Ave School\, 7:30 to 9:00 pm\, Class A uniforms. \nIf you are attending the Webelos Woods campout\, you can wear your class B Tee-shirts to the meeting.
URL:https://bsatroop354.com/event/troop-meeting-137/
LOCATION:Norwood Avenue School\, 290 Norwood Ave\, Port Jefferson Station\, NY\, 11776
END:VEVENT
BEGIN:VEVENT
DTSTART;TZID=America/New_York:20211104T193000
DTEND;TZID=America/New_York:20211104T210000
DTSTAMP:20260419T150427
CREATED:20211018T145107Z
LAST-MODIFIED:20211018T145107Z
UID:3602-1636054200-1636059600@bsatroop354.com
SUMMARY:Shopping For Webelos Woods
DESCRIPTION:We will be shopping for the food for the Webelos Woods campout\, 7:30 pm at BJs in Setauket. \nIf you have a requirement for planning for cooking\, you should come along. \nIf you want a say in what we will be eating on the camping trip\, you should come along.
URL:https://bsatroop354.com/event/shopping-for-webelos-woods/
LOCATION:BJ’s Wholesale Club\, 4000 Nesconset Hwy\,  E. Setauket\, NY\, 11733\, United States
END:VEVENT
BEGIN:VEVENT
DTSTART;TZID=America/New_York:20211105T160000
DTEND;TZID=America/New_York:20211107T120000
DTSTAMP:20260419T150427
CREATED:20210927T155243Z
LAST-MODIFIED:20211101T150234Z
UID:3576-1636128000-1636286400@bsatroop354.com
SUMMARY:Webelos Woods
DESCRIPTION:Webelos Woods is Friday 11/5 through Sunday morning 11/7. \nWe will be meeting at the high school tennis courts parking lot at 4:30 pm (afternoon) on Friday to travel out to Baiting Hollow. If you can help with transporting the boys out Friday afternoon or Sunday morning\, please do so and let me know. \nThe troop supplies the tents for the boys.  The adults are on their own for tents.  The boys should be tenting with other boys. \nWe will be shopping for the food we will be eating Thursday evening at the Setauket BJs\, 7:30 pm \nClass B uniforms going out Friday\, and Class A all day Saturday. I don’t know what site we will be in yet\, I’ll let you know later in the week. Our assignment for this year is Fire Building\, and Fire Starting.  There is No BB range or archery this year. \nThe boys need to pick and choose what they want from the list\, they don’t need everything on the list. \nWe will be out 2 nights\, and it will be cool in the evening.  Dress and pack accordingly. The boys do not need tents and mess kits. Cool weather clothing\, Class A uniforms\, sleeping bag\, flash lights\, personal gear\, rain gear\, etc. are some of the things they will need. \nThe cost for the trip will be $20.00 for the boys\, and the adults are free.  The money is for the food and the patch. \nIf you are planning on coming out Saturday morning\, keep in mind that it gets very crowded early Saturday morning\, so leave yourself some extra time.  The webelos are usually told to be out at camp by 7:00 am in the morning. \nI will need to know by this Thursday morning what boys and adults are planning on coming along.  This is a two night trip.  You may not be able to be there both nights\, but I need to know what you are planning\, so I can make sure we have coverage\, and so we know how much food to buy. \nAny questions\, give me a call.  I will not be monitoring my email on Friday.
URL:https://bsatroop354.com/event/webelos-woods-5/
LOCATION:Baiting Hollow Scout Camp\, 1774 Sound Ave\, Calverton\, 11933\, United States
END:VEVENT
BEGIN:VEVENT
DTSTART;TZID=America/New_York:20211108T193000
DTEND;TZID=America/New_York:20211108T210000
DTSTAMP:20260419T150427
CREATED:20211018T145152Z
LAST-MODIFIED:20211018T145152Z
UID:3604-1636399800-1636405200@bsatroop354.com
SUMMARY:Troop Meeting
DESCRIPTION:This meeting will be at Norwood Ave School\, 7:30 to 9:00 pm\, Class B uniforms.
URL:https://bsatroop354.com/event/troop-meeting-138/
LOCATION:Norwood Avenue School\, 290 Norwood Ave\, Port Jefferson Station\, NY\, 11776
END:VEVENT
BEGIN:VEVENT
DTSTART;VALUE=DATE:20211113
DTEND;VALUE=DATE:20211115
DTSTAMP:20260419T150427
CREATED:20211018T145350Z
LAST-MODIFIED:20211018T145350Z
UID:3607-1636761600-1636934399@bsatroop354.com
SUMMARY:Holiday Wreath Distribution
DESCRIPTION:The exact date and times for this are not fixed yet.  We will let you know.
URL:https://bsatroop354.com/event/holiday-wreath-distribution/
END:VEVENT
BEGIN:VEVENT
DTSTART;TZID=America/New_York:20211113T060000
DTEND;TZID=America/New_York:20211114T140000
DTSTAMP:20260419T150427
CREATED:20210927T155407Z
LAST-MODIFIED:20211018T145259Z
UID:3578-1636783200-1636898400@bsatroop354.com
SUMMARY:Backpacking Trip
DESCRIPTION:This is a backpacking trip up at Harriman State park\, NY.  The boys have to carry everything with them in their backpacks. \nThey have to plan their own meals\, do their own shopping\, and carry everything in and out with them. \nThey divide up into teams and share the load among the team for carrying the tent\, stoves\, pots\, and food. \nThis is not necessarily a campout for the younger and smaller boys\, although if a boy wants to go\, we will work with them.
URL:https://bsatroop354.com/event/backpacking-trip-8/
END:VEVENT
BEGIN:VEVENT
DTSTART;TZID=America/New_York:20211115T193000
DTEND;TZID=America/New_York:20211115T210000
DTSTAMP:20260419T150427
CREATED:20211018T145433Z
LAST-MODIFIED:20211018T145433Z
UID:3609-1637004600-1637010000@bsatroop354.com
SUMMARY:Troop Meeting
DESCRIPTION:This meeting will be at Norwood Ave School\, 7:30 to 9:00 pm\, Class B uniforms.
URL:https://bsatroop354.com/event/troop-meeting-139/
LOCATION:Norwood Avenue School\, 290 Norwood Ave\, Port Jefferson Station\, NY\, 11776
END:VEVENT
BEGIN:VEVENT
DTSTART;TZID=America/New_York:20211122T193000
DTEND;TZID=America/New_York:20211122T210000
DTSTAMP:20260419T150427
CREATED:20211018T145519Z
LAST-MODIFIED:20211123T160807Z
UID:3611-1637609400-1637614800@bsatroop354.com
SUMMARY:Troop Meeting
DESCRIPTION:This meeting will be at Norwood Ave School\, 7:30 to 9:00 pm\, Class B uniforms. \nWe are earning Chess Merit badge this evening\, and playing some chess. \nSo bring down your chess sets\, and let’s play some chess and get a merit badge in one night.
URL:https://bsatroop354.com/event/troop-meeting-140/
LOCATION:Norwood Avenue School\, 290 Norwood Ave\, Port Jefferson Station\, NY\, 11776
END:VEVENT
BEGIN:VEVENT
DTSTART;TZID=America/New_York:20211129T193000
DTEND;TZID=America/New_York:20211129T210000
DTSTAMP:20260419T150427
CREATED:20211123T160844Z
LAST-MODIFIED:20211123T160844Z
UID:3645-1638214200-1638219600@bsatroop354.com
SUMMARY:Troop Meeting
DESCRIPTION:This meeting will be at Norwood Ave School\, 7:30 to 9:00 pm\, Class B uniforms.
URL:https://bsatroop354.com/event/troop-meeting-141/
LOCATION:Norwood Avenue School\, 290 Norwood Ave\, Port Jefferson Station\, NY\, 11776
END:VEVENT
END:VCALENDAR