BEGIN:VCALENDAR
VERSION:2.0
PRODID:-//Port Jefferson Station - BSA Troop 354 - ECPv6.2.3.2//NONSGML v1.0//EN
CALSCALE:GREGORIAN
METHOD:PUBLISH
X-ORIGINAL-URL:https://bsatroop354.com
X-WR-CALDESC:Events for Port Jefferson Station - BSA Troop 354
REFRESH-INTERVAL;VALUE=DURATION:PT1H
X-Robots-Tag:noindex
X-PUBLISHED-TTL:PT1H
BEGIN:VTIMEZONE
TZID:America/New_York
BEGIN:DAYLIGHT
TZOFFSETFROM:-0500
TZOFFSETTO:-0400
TZNAME:EDT
DTSTART:20210314T070000
END:DAYLIGHT
BEGIN:STANDARD
TZOFFSETFROM:-0400
TZOFFSETTO:-0500
TZNAME:EST
DTSTART:20211107T060000
END:STANDARD
END:VTIMEZONE
BEGIN:VEVENT
DTSTART;TZID=America/New_York:20210808T120000
DTEND;TZID=America/New_York:20210808T140000
DTSTAMP:20260419T200639
CREATED:20210806T170541Z
LAST-MODIFIED:20210806T170541Z
UID:3504-1628424000-1628431200@bsatroop354.com
SUMMARY:Eagle Scout Court of Honor
DESCRIPTION:This is an Eagle Scout Court of Honor Ceremony for the following boys. \nTheodore Granger\, Aiden Markowitz\, Anthony Foraci\, Sean Martinez\, and Steven Poulos \nIt will be at 12:00 noon at the Elks lodge in Centereach\, 41 Horseblock Road.  Class A uniforms. \nWe will gather at the lodge at 11:00 am to do a ceremony walk through so the boys should be there for that. \nThe ceremony takes about 2 hours\, and there will be coffee\, drinks\, and cake afterwards. \nWe will be at the lodge at 9:00 am that morning to setup for the ceremony and any help with that would be greatly appreciated.
URL:https://bsatroop354.com/event/eagle-scout-court-of-honor-2/
LOCATION:Elk’s Lodge\, 41 Horseblock Road\, Centereach\, NY\, 11720\, United States
END:VEVENT
BEGIN:VEVENT
DTSTART;TZID=America/New_York:20210815T120000
DTEND;TZID=America/New_York:20210815T140000
DTSTAMP:20260419T200639
CREATED:20210806T170640Z
LAST-MODIFIED:20210806T170640Z
UID:3506-1629028800-1629036000@bsatroop354.com
SUMMARY:Eagle Scout Court of Honor
DESCRIPTION:This is an Eagle Scout Court of Honor Ceremony for the following boys. \nDominick Azzara\, Kevin Callahan\, Tim Bruno\, Jordan Roche\, and Zachary Gallant \nIt will be at 12:00 noon at the Elks lodge in Centereach\, 41 Horseblock Road.  Class A uniforms. \nWe will gather at the lodge at 11:00 am to do a ceremony walk through so the boys should be there for that. \nThe ceremony takes about 2 hours\, and there will be coffee\, drinks\, and cake afterwards. \nWe will be at the lodge at 9:00 am that morning to setup for the ceremony and any help with that would be greatly appreciated.
URL:https://bsatroop354.com/event/eagle-scout-court-of-honor-3/
LOCATION:Elk’s Lodge\, 41 Horseblock Road\, Centereach\, NY\, 11720\, United States
END:VEVENT
END:VCALENDAR