BEGIN:VCALENDAR
VERSION:2.0
PRODID:-//Port Jefferson Station - BSA Troop 354 - ECPv6.2.3.2//NONSGML v1.0//EN
CALSCALE:GREGORIAN
METHOD:PUBLISH
X-WR-CALNAME:Port Jefferson Station - BSA Troop 354
X-ORIGINAL-URL:https://bsatroop354.com
X-WR-CALDESC:Events for Port Jefferson Station - BSA Troop 354
REFRESH-INTERVAL;VALUE=DURATION:PT1H
X-Robots-Tag:noindex
X-PUBLISHED-TTL:PT1H
BEGIN:VTIMEZONE
TZID:America/New_York
BEGIN:DAYLIGHT
TZOFFSETFROM:-0500
TZOFFSETTO:-0400
TZNAME:EDT
DTSTART:20210314T070000
END:DAYLIGHT
BEGIN:STANDARD
TZOFFSETFROM:-0400
TZOFFSETTO:-0500
TZNAME:EST
DTSTART:20211107T060000
END:STANDARD
END:VTIMEZONE
BEGIN:VEVENT
DTSTART;TZID=America/New_York:20210605T073000
DTEND;TZID=America/New_York:20210605T100000
DTSTAMP:20260419T234959
CREATED:20210503T152314Z
LAST-MODIFIED:20210503T152314Z
UID:3420-1622878200-1622887200@bsatroop354.com
SUMMARY:Calverton Flag Pickup
DESCRIPTION:There will be a subsequent email about this with a map when we get closer to the event.
URL:https://bsatroop354.com/event/calverton-flag-pickup-4/
END:VEVENT
BEGIN:VEVENT
DTSTART;TZID=America/New_York:20210607T193000
DTEND;TZID=America/New_York:20210607T210000
DTSTAMP:20260419T234959
CREATED:20210503T152341Z
LAST-MODIFIED:20210602T135307Z
UID:3422-1623094200-1623099600@bsatroop354.com
SUMMARY:Troop Meeting
DESCRIPTION:Class B uniforms for all those that helped with the Calverton Flag placement or pickup.  Class A uniform for everyone else. \nWe will be finishing up Law Merit Badge this evening\, and working on Yawgoog scheduling for the week at camp. \nSo for the boys\, please continue thinking about what you want to do at camp this year.
URL:https://bsatroop354.com/event/troop-meeting-131/
LOCATION:Norwood Avenue School\, 290 Norwood Ave\, Port Jefferson Station\, NY\, 11776
END:VEVENT
BEGIN:VEVENT
DTSTART;TZID=America/New_York:20210610T183000
DTEND;TZID=America/New_York:20210610T203000
DTSTAMP:20260419T234959
CREATED:20210607T155723Z
LAST-MODIFIED:20210607T155723Z
UID:3468-1623349800-1623357000@bsatroop354.com
SUMMARY:Bike Rodeo
DESCRIPTION:Pack 354 Bike Rodeo at Norwood School\, Thursday evening\, 6/10/21\, 6:30 to 8:30 pm.
URL:https://bsatroop354.com/event/bike-rodeo/
LOCATION:Norwood Avenue School\, 290 Norwood Ave\, Port Jefferson Station\, NY\, 11776
END:VEVENT
BEGIN:VEVENT
DTSTART;VALUE=DATE:20210611
DTEND;VALUE=DATE:20210612
DTSTAMP:20260419T234959
CREATED:20210602T135341Z
LAST-MODIFIED:20210602T135341Z
UID:3458-1623369600-1623455999@bsatroop354.com
SUMMARY:Summer Camp Health Forms and Payments Due
DESCRIPTION:We need all the health forms and final payments by this evening so we can work out the mailing to camp. \nThere are late fees you are late.  We can’t hold up the troop mailing or payment if you are late. \nDon’t just drop them off.  I will be here at my house and check them over when you drop them off. \nIt you can do it before that night\, that would be great.  Text me when you want to come over or bring them to the meetings.
URL:https://bsatroop354.com/event/summer-camp-health-forms-and-payments-due/
END:VEVENT
BEGIN:VEVENT
DTSTART;TZID=America/New_York:20210613T133000
DTEND;TZID=America/New_York:20210613T153000
DTSTAMP:20260419T234959
CREATED:20210602T135439Z
LAST-MODIFIED:20210602T135439Z
UID:3460-1623591000-1623598200@bsatroop354.com
SUMMARY:Flag Day Ceremony
DESCRIPTION:We are supporting the Elks this year for a flag day ceremony at a facility by the Lake Grove Mall. \nThere will be a separate email about this.  We don’t need the whole troop\, maybe 6 to 10 boys\, Class A uniforms. \nIt will be at 1:30 pm in the afternoon\, and probably last till 3:00 or 3:30 pm. \nThis does count as community service for rank advancement for the boys.
URL:https://bsatroop354.com/event/flag-day-ceremony/
END:VEVENT
BEGIN:VEVENT
DTSTART;TZID=America/New_York:20210614T183000
DTEND;TZID=America/New_York:20210614T193000
DTSTAMP:20260419T234959
CREATED:20210602T135541Z
LAST-MODIFIED:20210602T135541Z
UID:3462-1623695400-1623699000@bsatroop354.com
SUMMARY:Flag Retirement at High School
DESCRIPTION:This night’s meeting will be at the high school for a Flag Retirement ceremony\, Class A uniforms\, 6:30 pm \nRemember this is an hour earlier and at the high school\, and it will last till about 7:30 pm.
URL:https://bsatroop354.com/event/flag-retirement-at-high-school/
END:VEVENT
BEGIN:VEVENT
DTSTART;TZID=America/New_York:20210621T193000
DTEND;TZID=America/New_York:20210621T210000
DTSTAMP:20260419T234959
CREATED:20210602T135620Z
LAST-MODIFIED:20210602T135620Z
UID:3464-1624303800-1624309200@bsatroop354.com
SUMMARY:Game Night
DESCRIPTION:We are going to have another Game night on this night.  We can also do some advancement for those boys who want.
URL:https://bsatroop354.com/event/game-night-3/
LOCATION:Clinton Avenue Elementary School\, 140 Clinton Avenue\, WX45+5M Port Jefferson Station\, NY\, 11776\, United States
END:VEVENT
END:VCALENDAR