BEGIN:VCALENDAR
VERSION:2.0
PRODID:-//Port Jefferson Station - BSA Troop 354 - ECPv6.2.3.2//NONSGML v1.0//EN
CALSCALE:GREGORIAN
METHOD:PUBLISH
X-WR-CALNAME:Port Jefferson Station - BSA Troop 354
X-ORIGINAL-URL:https://bsatroop354.com
X-WR-CALDESC:Events for Port Jefferson Station - BSA Troop 354
REFRESH-INTERVAL;VALUE=DURATION:PT1H
X-Robots-Tag:noindex
X-PUBLISHED-TTL:PT1H
BEGIN:VTIMEZONE
TZID:America/New_York
BEGIN:DAYLIGHT
TZOFFSETFROM:-0500
TZOFFSETTO:-0400
TZNAME:EDT
DTSTART:20200308T070000
END:DAYLIGHT
BEGIN:STANDARD
TZOFFSETFROM:-0400
TZOFFSETTO:-0500
TZNAME:EST
DTSTART:20201101T060000
END:STANDARD
END:VTIMEZONE
BEGIN:VEVENT
DTSTART;TZID=America/New_York:20200302T193000
DTEND;TZID=America/New_York:20200302T210000
DTSTAMP:20260421T033353
CREATED:20200225T212211Z
LAST-MODIFIED:20200225T212211Z
UID:3190-1583177400-1583182800@bsatroop354.com
SUMMARY:Troop Meeting
DESCRIPTION:Clinton Avenue School\, 7:30 pm to 9:00 pm\, Class A uniforms.
URL:https://bsatroop354.com/event/troop-meeting-116/
LOCATION:Clinton Avenue Elementary School\, 140 Clinton Avenue\, WX45+5M Port Jefferson Station\, NY\, 11776\, United States
END:VEVENT
BEGIN:VEVENT
DTSTART;TZID=America/New_York:20200307T100000
DTEND;TZID=America/New_York:20200307T120000
DTSTAMP:20260421T033353
CREATED:20200302T202037Z
LAST-MODIFIED:20200302T202037Z
UID:3199-1583575200-1583582400@bsatroop354.com
SUMMARY:Skating Merit Badge
DESCRIPTION:Port Jefferson Rinks next to the community center\, 10:00 am Saturday morning\, see separate email
URL:https://bsatroop354.com/event/skating-merit-badge-3/
END:VEVENT
BEGIN:VEVENT
DTSTART;TZID=America/New_York:20200309T193000
DTEND;TZID=America/New_York:20200309T210000
DTSTAMP:20260421T033353
CREATED:20200225T212236Z
LAST-MODIFIED:20200225T212236Z
UID:3192-1583782200-1583787600@bsatroop354.com
SUMMARY:Troop Meeting
DESCRIPTION:Clinton Avenue School\, 7:30 pm to 9:00 pm\, Class B uniforms.
URL:https://bsatroop354.com/event/troop-meeting-117/
LOCATION:Clinton Avenue Elementary School\, 140 Clinton Avenue\, WX45+5M Port Jefferson Station\, NY\, 11776\, United States
END:VEVENT
BEGIN:VEVENT
DTSTART;TZID=America/New_York:20200314T090000
DTEND;TZID=America/New_York:20200314T110000
DTSTAMP:20260421T033353
CREATED:20200302T202117Z
LAST-MODIFIED:20200306T204414Z
UID:3201-1584176400-1584183600@bsatroop354.com
SUMMARY:Personal Fitness Merit Badge
DESCRIPTION:JFK Middle School\, 9:00 am Saturday morning\, see separate email
URL:https://bsatroop354.com/event/personal-fitness-merit-badge-4/
END:VEVENT
BEGIN:VEVENT
DTSTART;TZID=America/New_York:20200315T080000
DTEND;TZID=America/New_York:20200315T120000
DTSTAMP:20260421T033353
CREATED:20200313T165534Z
LAST-MODIFIED:20200313T165534Z
UID:3210-1584259200-1584273600@bsatroop354.com
SUMMARY:Sean Martinez's Eagle Scout Project Part 1
DESCRIPTION:Cutting and building benches to be placed at the High School path.
URL:https://bsatroop354.com/event/sean-martinezs-eagle-scout-project-part-1/
END:VEVENT
BEGIN:VEVENT
DTSTART;TZID=America/New_York:20200316T193000
DTEND;TZID=America/New_York:20200316T210000
DTSTAMP:20260421T033353
CREATED:20200225T212257Z
LAST-MODIFIED:20200314T201224Z
UID:3194-1584387000-1584392400@bsatroop354.com
SUMMARY:No Troop Meeting
DESCRIPTION:Due to the Coronavirus there will be no meeting this week. \nClinton Avenue School\, 7:30 pm to 9:00 pm\, Class B uniforms.
URL:https://bsatroop354.com/event/troop-meeting-118/
END:VEVENT
BEGIN:VEVENT
DTSTART;TZID=America/New_York:20200319T170000
DTEND;TZID=America/New_York:20200319T200000
DTSTAMP:20260421T033353
CREATED:20200313T165758Z
LAST-MODIFIED:20200313T165758Z
UID:3212-1584637200-1584648000@bsatroop354.com
SUMMARY:Steven Poulos Eagle Scout Fundraiser
DESCRIPTION:The fundraiser will be at Chick-fil-A on 347. You simply tell the cashier you’re there for the fundraiser.
URL:https://bsatroop354.com/event/steven-poulos-eagle-scout-fundraiser/
END:VEVENT
BEGIN:VEVENT
DTSTART;TZID=America/New_York:20200323T193000
DTEND;TZID=America/New_York:20200323T210000
DTSTAMP:20260421T033353
CREATED:20200225T212402Z
LAST-MODIFIED:20200314T201348Z
UID:3196-1584991800-1584997200@bsatroop354.com
SUMMARY:No Troop Meeting
DESCRIPTION:Due to the Coronavirus there will be no meeting this week. \nClinton Avenue School\, 7:30 pm to 9:00 pm\, Class B uniforms.
URL:https://bsatroop354.com/event/troop-meeting-119/
END:VEVENT
BEGIN:VEVENT
DTSTART;TZID=America/New_York:20200330T193000
DTEND;TZID=America/New_York:20200330T210000
DTSTAMP:20260421T033353
CREATED:20200314T201205Z
LAST-MODIFIED:20200314T201205Z
UID:3219-1585596600-1585602000@bsatroop354.com
SUMMARY:No Troop Meeting
DESCRIPTION:Due to the Coronavirus there will be no meeting this week. \n 
URL:https://bsatroop354.com/event/no-troop-meeting-13/
END:VEVENT
END:VCALENDAR