BEGIN:VCALENDAR
VERSION:2.0
PRODID:-//Port Jefferson Station - BSA Troop 354 - ECPv6.2.3.2//NONSGML v1.0//EN
CALSCALE:GREGORIAN
METHOD:PUBLISH
X-WR-CALNAME:Port Jefferson Station - BSA Troop 354
X-ORIGINAL-URL:https://bsatroop354.com
X-WR-CALDESC:Events for Port Jefferson Station - BSA Troop 354
REFRESH-INTERVAL;VALUE=DURATION:PT1H
X-Robots-Tag:noindex
X-PUBLISHED-TTL:PT1H
BEGIN:VTIMEZONE
TZID:America/New_York
BEGIN:DAYLIGHT
TZOFFSETFROM:-0500
TZOFFSETTO:-0400
TZNAME:EDT
DTSTART:20200308T070000
END:DAYLIGHT
BEGIN:STANDARD
TZOFFSETFROM:-0400
TZOFFSETTO:-0500
TZNAME:EST
DTSTART:20201101T060000
END:STANDARD
END:VTIMEZONE
BEGIN:VEVENT
DTSTART;TZID=America/New_York:20200203T193000
DTEND;TZID=America/New_York:20200203T210000
DTSTAMP:20260421T052630
CREATED:20200106T164116Z
LAST-MODIFIED:20200106T164116Z
UID:3139-1580758200-1580763600@bsatroop354.com
SUMMARY:Court of Honor
DESCRIPTION:Elks Lodge in Centereach\, 41 Horseblock Rd\, 7:30 pm to 9:00 pm\, Class A uniform
URL:https://bsatroop354.com/event/court-of-honor-7/
LOCATION:Elk’s Lodge\, 41 Horseblock Road\, Centereach\, NY\, 11720\, United States
END:VEVENT
BEGIN:VEVENT
DTSTART;TZID=America/New_York:20200208T080000
DTEND;TZID=America/New_York:20200208T100000
DTSTAMP:20260421T052630
CREATED:20200106T164307Z
LAST-MODIFIED:20200106T173400Z
UID:3141-1581148800-1581156000@bsatroop354.com
SUMMARY:Applebees Fundraiser
DESCRIPTION:Applebees in Miller Place on 25A\, 8:00 am to 10:00 am\, Class B uniforms \nWe need basket donations\, and volunteers to help serve. \nThere will most likely be a TV up for auction so don’t miss it. \nApplebee Pancake Breakfast (PDF) \nApplebee Donation Letter (PDF)
URL:https://bsatroop354.com/event/applebees-fundraiser/
LOCATION:Applebee’s\, 355 NY-25A\, Miller Place\, 11764\, United States
END:VEVENT
BEGIN:VEVENT
DTSTART;TZID=America/New_York:20200210T193000
DTEND;TZID=America/New_York:20200210T210000
DTSTAMP:20260421T052630
CREATED:20200106T164325Z
LAST-MODIFIED:20200106T164325Z
UID:3144-1581363000-1581368400@bsatroop354.com
SUMMARY:Troop Meeting
DESCRIPTION:Clinton Avenue School\, 7:30 pm to 9:00 pm\, Class B uniforms.
URL:https://bsatroop354.com/event/troop-meeting-115/
LOCATION:Clinton Avenue Elementary School\, 140 Clinton Avenue\, WX45+5M Port Jefferson Station\, NY\, 11776\, United States
END:VEVENT
BEGIN:VEVENT
DTSTART;TZID=America/New_York:20200213T193000
DTEND;TZID=America/New_York:20200213T210000
DTSTAMP:20260421T052630
CREATED:20200106T164642Z
LAST-MODIFIED:20200106T164658Z
UID:3150-1581622200-1581627600@bsatroop354.com
SUMMARY:BJs Shopping for Onteora Trip
DESCRIPTION:Shopping for food will be Thursday night\, 2/13\, 7:30 pm at BJs.
URL:https://bsatroop354.com/event/bjs-shopping-for-onteora-trip-3/
LOCATION:BJ’s Wholesale Club\, 4000 Nesconset Hwy\,  E. Setauket\, NY\, 11733\, United States
END:VEVENT
BEGIN:VEVENT
DTSTART;TZID=America/New_York:20200215T060000
DTEND;TZID=America/New_York:20200216T140000
DTSTAMP:20260421T052630
CREATED:20200106T164444Z
LAST-MODIFIED:20200106T164444Z
UID:3146-1581746400-1581861600@bsatroop354.com
SUMMARY:Onteora Trip
DESCRIPTION:This is the Onteora trip to Onteora Scout Reservation in Livingston Manor\, NY \nWe will be in a heated building\, and hopefully there will be snow up there. \n 
URL:https://bsatroop354.com/event/onteora-trip-2/
END:VEVENT
BEGIN:VEVENT
DTSTART;TZID=America/New_York:20200217T193000
DTEND;TZID=America/New_York:20200217T210000
DTSTAMP:20260421T052630
CREATED:20200106T164514Z
LAST-MODIFIED:20200106T164514Z
UID:3148-1581967800-1581973200@bsatroop354.com
SUMMARY:No Troop Meeting
DESCRIPTION:No school and No Scout meeting this night. \nThis Monday is the beginning of the Mid-Winter Recess week from school.
URL:https://bsatroop354.com/event/no-troop-meeting-12/
END:VEVENT
BEGIN:VEVENT
DTSTART;TZID=America/New_York:20200224T193000
DTEND;TZID=America/New_York:20200224T210000
DTSTAMP:20260421T052630
CREATED:20200225T212126Z
LAST-MODIFIED:20200225T212506Z
UID:3188-1582572600-1582578000@bsatroop354.com
SUMMARY:No Troop Meeting
DESCRIPTION:Out of respect for the passing of Dr. Joseph Rella\, there is no scout meeting this evening.  See you next week.
URL:https://bsatroop354.com/event/no-scout-meeting-2/
END:VEVENT
END:VCALENDAR