BEGIN:VCALENDAR
VERSION:2.0
PRODID:-//Port Jefferson Station - BSA Troop 354 - ECPv6.2.3.2//NONSGML v1.0//EN
CALSCALE:GREGORIAN
METHOD:PUBLISH
X-ORIGINAL-URL:https://bsatroop354.com
X-WR-CALDESC:Events for Port Jefferson Station - BSA Troop 354
REFRESH-INTERVAL;VALUE=DURATION:PT1H
X-Robots-Tag:noindex
X-PUBLISHED-TTL:PT1H
BEGIN:VTIMEZONE
TZID:America/New_York
BEGIN:DAYLIGHT
TZOFFSETFROM:-0500
TZOFFSETTO:-0400
TZNAME:EDT
DTSTART:20200308T070000
END:DAYLIGHT
BEGIN:STANDARD
TZOFFSETFROM:-0400
TZOFFSETTO:-0500
TZNAME:EST
DTSTART:20201101T060000
END:STANDARD
END:VTIMEZONE
BEGIN:VEVENT
DTSTART;TZID=America/New_York:20200106T193000
DTEND;TZID=America/New_York:20200106T210000
DTSTAMP:20260421T071746
CREATED:20191125T155959Z
LAST-MODIFIED:20191125T155959Z
UID:3087-1578339000-1578344400@bsatroop354.com
SUMMARY:Troop Meeting
DESCRIPTION:Clinton Avenue School\, 7:30 pm to 9:00 pm\, Class A uniforms. \nFirst meeting of the New Year\, Happy Year Everyone!
URL:https://bsatroop354.com/event/troop-meeting-112/
LOCATION:Clinton Avenue Elementary School\, 140 Clinton Avenue\, WX45+5M Port Jefferson Station\, NY\, 11776\, United States
END:VEVENT
BEGIN:VEVENT
DTSTART;TZID=America/New_York:20200113T193000
DTEND;TZID=America/New_York:20200113T210000
DTSTAMP:20260421T071746
CREATED:20200106T163913Z
LAST-MODIFIED:20200106T163913Z
UID:3133-1578943800-1578949200@bsatroop354.com
SUMMARY:Troop Meeting
DESCRIPTION:Clinton Avenue School\, 7:30 pm to 9:00 pm\, Class B uniforms.
URL:https://bsatroop354.com/event/troop-meeting-113/
LOCATION:Clinton Avenue Elementary School\, 140 Clinton Avenue\, WX45+5M Port Jefferson Station\, NY\, 11776\, United States
END:VEVENT
BEGIN:VEVENT
DTSTART;TZID=America/New_York:20200120T193000
DTEND;TZID=America/New_York:20200120T210000
DTSTAMP:20260421T071746
CREATED:20200106T164023Z
LAST-MODIFIED:20200106T164023Z
UID:3135-1579548600-1579554000@bsatroop354.com
SUMMARY:No Troop Meeting
DESCRIPTION:Martin Luther King Jr. holiday. No school this day\, and No Scout meeting.
URL:https://bsatroop354.com/event/no-troop-meeting-11/
END:VEVENT
BEGIN:VEVENT
DTSTART;TZID=America/New_York:20200127T193000
DTEND;TZID=America/New_York:20200127T210000
DTSTAMP:20260421T071746
CREATED:20200106T164046Z
LAST-MODIFIED:20200106T164046Z
UID:3137-1580153400-1580158800@bsatroop354.com
SUMMARY:Troop Meeting
DESCRIPTION:Clinton Avenue School\, 7:30 pm to 9:00 pm\, Class B uniforms.
URL:https://bsatroop354.com/event/troop-meeting-114/
LOCATION:Clinton Avenue Elementary School\, 140 Clinton Avenue\, WX45+5M Port Jefferson Station\, NY\, 11776\, United States
END:VEVENT
END:VCALENDAR