BEGIN:VCALENDAR
VERSION:2.0
PRODID:-//Port Jefferson Station - BSA Troop 354 - ECPv6.2.3.2//NONSGML v1.0//EN
CALSCALE:GREGORIAN
METHOD:PUBLISH
X-ORIGINAL-URL:https://bsatroop354.com
X-WR-CALDESC:Events for Port Jefferson Station - BSA Troop 354
REFRESH-INTERVAL;VALUE=DURATION:PT1H
X-Robots-Tag:noindex
X-PUBLISHED-TTL:PT1H
BEGIN:VTIMEZONE
TZID:America/New_York
BEGIN:DAYLIGHT
TZOFFSETFROM:-0500
TZOFFSETTO:-0400
TZNAME:EDT
DTSTART:20190310T070000
END:DAYLIGHT
BEGIN:STANDARD
TZOFFSETFROM:-0400
TZOFFSETTO:-0500
TZNAME:EST
DTSTART:20191103T060000
END:STANDARD
END:VTIMEZONE
BEGIN:VEVENT
DTSTART;TZID=America/New_York:20190601T083000
DTEND;TZID=America/New_York:20190601T100000
DTSTAMP:20260421T195243
CREATED:20190530T141232Z
LAST-MODIFIED:20190530T141232Z
UID:2742-1559377800-1559383200@bsatroop354.com
SUMMARY:Calverton Flag Pickup Day
DESCRIPTION:This is the Calverton Flag Pickup day. \nWe will meet at the high school tennis courts parking lot at 8:30 am Saturday morning\, \nAnd we will be leaving at 8:40 am sharp. \nClass A or B uniforms\, and we are at Area 24 in the cemetery
URL:https://bsatroop354.com/event/calverton-flag-pickup-day-2/
END:VEVENT
BEGIN:VEVENT
DTSTART;TZID=America/New_York:20190601T100000
DTEND;TZID=America/New_York:20190602T140000
DTSTAMP:20260421T195243
CREATED:20190530T141738Z
LAST-MODIFIED:20190530T141738Z
UID:2746-1559383200-1559484000@bsatroop354.com
SUMMARY:Cathedral Pines Camping Trip
DESCRIPTION:There is no need for the boys to be at the campout the whole time.  Because it’s close\, you can come and go as needed to cope with any other activities this weekend.  It is a bike campout\, so the boys should bring their bikes\, and helmets.  I will be able to help fix most bike problems if you have one.  It should be a good weather weekend\, but they should bring along some warmer clothes for the evening.  The troop supplies the tents\, and the boys should bring the clothes they need\, their bikes and equipment\, and sleeping gear.  Also flashlight and good batteries. \nMore info to follow.
URL:https://bsatroop354.com/event/cathedral-pines-camping-trip-2/
END:VEVENT
BEGIN:VEVENT
DTSTART;TZID=America/New_York:20190603T193000
DTEND;TZID=America/New_York:20190603T210000
DTSTAMP:20260421T195243
CREATED:20190605T151705Z
LAST-MODIFIED:20190605T151705Z
UID:2748-1559590200-1559595600@bsatroop354.com
SUMMARY:Troop Meeting
DESCRIPTION:
URL:https://bsatroop354.com/event/troop-meeting-98/
LOCATION:Clinton Avenue Elementary School\, 140 Clinton Avenue\, WX45+5M Port Jefferson Station\, NY\, 11776\, United States
END:VEVENT
BEGIN:VEVENT
DTSTART;TZID=America/New_York:20190608T133000
DTEND;TZID=America/New_York:20190608T143000
DTSTAMP:20260421T195243
CREATED:20190605T151809Z
LAST-MODIFIED:20190605T151809Z
UID:2750-1560000600-1560004200@bsatroop354.com
SUMMARY:Elk’s Flag Day Ceremony at Atria
DESCRIPTION:The Elk’s flag day Ceremony for the Atria in Setauket on 347 is this Saturday\, June 8th\, 1:00 pm. \nI will need a few boys for this\, but not the whole troop.  The ceremony is from 1:30 to about 2:30 pm. \nThere is not a lot to do but bring out the flags in the ceremony. \nPlease let me know if you boy can help out with this. \nThis is a class A uniform event.  Any boy that helps out with this does not need to wear their uniforms at the troop COH on July 1.
URL:https://bsatroop354.com/event/elks-flag-day-ceremony-at-atria/
END:VEVENT
BEGIN:VEVENT
DTSTART;TZID=America/New_York:20190610T193000
DTEND;TZID=America/New_York:20190610T210000
DTSTAMP:20260421T195243
CREATED:20190605T151833Z
LAST-MODIFIED:20190605T151833Z
UID:2752-1560195000-1560200400@bsatroop354.com
SUMMARY:Troop Meeting
DESCRIPTION:Clinton Avenue School\, 7:30 pm to 9:00 pm\, Class B uniforms.
URL:https://bsatroop354.com/event/troop-meeting-99/
LOCATION:Clinton Avenue Elementary School\, 140 Clinton Avenue\, WX45+5M Port Jefferson Station\, NY\, 11776\, United States
END:VEVENT
BEGIN:VEVENT
DTSTART;TZID=America/New_York:20190613T183000
DTEND;TZID=America/New_York:20190613T200000
DTSTAMP:20260421T195243
CREATED:20190605T151932Z
LAST-MODIFIED:20190605T151932Z
UID:2754-1560450600-1560456000@bsatroop354.com
SUMMARY:Flag Retirement Ceremony
DESCRIPTION:This is the flag retirement ceremony run by Pack 354 at the high school. \nComsewogue High School\, 6:30 pm\, Class A uniforms.
URL:https://bsatroop354.com/event/flag-retirement-ceremony-2/
END:VEVENT
BEGIN:VEVENT
DTSTART;TZID=America/New_York:20190617T193000
DTEND;TZID=America/New_York:20190617T210000
DTSTAMP:20260421T195243
CREATED:20190605T152006Z
LAST-MODIFIED:20190605T152006Z
UID:2756-1560799800-1560805200@bsatroop354.com
SUMMARY:Yawgoog Night
DESCRIPTION:This will be the Yawgoog night for this year.  If parents have any questions\, reservations\, or anything you want to talk about\, please come down this night\, and we can talk. \nRemember\, we will be with your boys for a week\, so let us know anything you think we need to know. \nClinton Avenue School\, 7:30 pm to 9:00 pm\, Class B uniforms
URL:https://bsatroop354.com/event/yawgoog-night-2/
LOCATION:Clinton Avenue Elementary School\, 140 Clinton Avenue\, WX45+5M Port Jefferson Station\, NY\, 11776\, United States
END:VEVENT
BEGIN:VEVENT
DTSTART;TZID=America/New_York:20190624T193000
DTEND;TZID=America/New_York:20190624T210000
DTSTAMP:20260421T195243
CREATED:20190605T152037Z
LAST-MODIFIED:20190605T152037Z
UID:2758-1561404600-1561410000@bsatroop354.com
SUMMARY:Troop Meeting
DESCRIPTION:This will be a game night.  The boys should bring with them any games that they want to play. \nClinton Avenue School\, 7:30 pm to 9:00 pm\, Class B uniforms
URL:https://bsatroop354.com/event/troop-meeting-100/
LOCATION:Clinton Avenue Elementary School\, 140 Clinton Avenue\, WX45+5M Port Jefferson Station\, NY\, 11776\, United States
END:VEVENT
BEGIN:VEVENT
DTSTART;TZID=America/New_York:20190630T093000
DTEND;TZID=America/New_York:20190630T130000
DTSTAMP:20260421T195243
CREATED:20190605T152204Z
LAST-MODIFIED:20190605T152204Z
UID:2760-1561887000-1561899600@bsatroop354.com
SUMMARY:Court of Honor
DESCRIPTION:This is an Eagle Court of Honor for 4 of our scouts\, Josh Fiorentino\, Matthew Chan\, William Reed\, and Tristan Greisch. \nI will need the scouts that day to help honor the Eagle scouts achievement. \nThe ceremony starts at 10:00 am at the Elk’s lodge in Centereach\, 41 Horseblock Road. \nBagels and coffee will be served starting at 9:30 am. \nWe are working to keep the ceremony to 2 hours\, and coffee and cake will be served from 12:00 noon to 1:00 pm. \nPlease have your boys make every effort to  make the ceremony. \nHave the boys there at 9:30 am\, class A uniforms\, and this will count towards community service. \nIf you want to help us setup for this\, we will be starting that at 7:30 am at the Elk’s lodge that morning
URL:https://bsatroop354.com/event/court-of-honor-6/
LOCATION:Elk’s Lodge\, 41 Horseblock Road\, Centereach\, NY\, 11720\, United States
END:VEVENT
END:VCALENDAR