BEGIN:VCALENDAR
VERSION:2.0
PRODID:-//Port Jefferson Station - BSA Troop 354 - ECPv6.2.3.2//NONSGML v1.0//EN
CALSCALE:GREGORIAN
METHOD:PUBLISH
X-ORIGINAL-URL:https://bsatroop354.com
X-WR-CALDESC:Events for Port Jefferson Station - BSA Troop 354
REFRESH-INTERVAL;VALUE=DURATION:PT1H
X-Robots-Tag:noindex
X-PUBLISHED-TTL:PT1H
BEGIN:VTIMEZONE
TZID:America/New_York
BEGIN:DAYLIGHT
TZOFFSETFROM:-0500
TZOFFSETTO:-0400
TZNAME:EDT
DTSTART:20190310T070000
END:DAYLIGHT
BEGIN:STANDARD
TZOFFSETFROM:-0400
TZOFFSETTO:-0500
TZNAME:EST
DTSTART:20191103T060000
END:STANDARD
END:VTIMEZONE
BEGIN:VEVENT
DTSTART;TZID=America/New_York:20190503T120000
DTEND;TZID=America/New_York:20190505T170000
DTSTAMP:20260421T215728
CREATED:20190107T181347Z
LAST-MODIFIED:20190107T181357Z
UID:2417-1556884800-1557075600@bsatroop354.com
SUMMARY:Southhaven Council Camporee - 100th Anniversary
DESCRIPTION:Good Afternoon and Happy New Year Suffolk County Council! \nAs many of you know 2019 represents the 100th anniversary of our Scouting Council. We have many activities lined up to celebrate our 100 years of service but our marquee event takes place May 3-5 at Southaven County Park as we gather for our largest camporee ever – the 100th Anniversary Camporee! \nThis camporee will bring together nearly 5000 Scouts\, Scouters and dignitaries from Suffolk County – all for one reason…  to celebrate our first 100 years and to launch positively into our second century.  We will have the most robust program available for Boy Scouts / Scouts BSA\, Cub Scouts\, Venturers and Explorers.  The event will be landmark in nature as we host a full fledged carnival on Friday night and Sunday afternoon.  Rides and concessions for all ages! \nAttached to this email is your space reservation form.  The Leaders Guide will first be made available at your January roundtable and will be sent electronically on January 14th.  There will be regular communication and updates about this gala event and we hope to see each and every one of you there. \nAs always\, please let us know if you have any questions or if we can help with anything. \nYours in Scouting and Centennial Celebration. \nSteve Kesner                      Dave Colford                      Jim Grimaldi\nCamporee Co-Chair           Camporee Co-Chair           Staff Advisor
URL:https://bsatroop354.com/event/southhaven-council-camporee-100th-anniversary/
LOCATION:South Haven County Park\, 175 Gerard Rd\,\, Yaphank\, NY\, 11980
END:VEVENT
BEGIN:VEVENT
DTSTART;TZID=America/New_York:20190505T130000
DTEND;TZID=America/New_York:20190505T150000
DTSTAMP:20260421T215728
CREATED:20190401T183801Z
LAST-MODIFIED:20190401T183801Z
UID:2717-1557061200-1557068400@bsatroop354.com
SUMMARY:Flower Sale Pickup
DESCRIPTION:The flower sale orders pick up will be in this Sunday afternoon. Time and place in separate email on flower sale.
URL:https://bsatroop354.com/event/flower-sale-pickup-2/
END:VEVENT
BEGIN:VEVENT
DTSTART;TZID=America/New_York:20190506T193000
DTEND;TZID=America/New_York:20190506T210000
DTSTAMP:20260421T215728
CREATED:20190304T212911Z
LAST-MODIFIED:20190426T173328Z
UID:2650-1557171000-1557176400@bsatroop354.com
SUMMARY:Troop Meeting
DESCRIPTION:Class B Uniforms for all those that attended the camporee\, Class A for everyone else. \nWorking on Cit in the World MB\, Personal Management MB\, and rank advancement. \nClinton Avenue School\, 7:30 pm to 9:00 pm
URL:https://bsatroop354.com/event/troop-meeting-95/
LOCATION:Clinton Avenue Elementary School\, 140 Clinton Avenue\, WX45+5M Port Jefferson Station\, NY\, 11776\, United States
END:VEVENT
BEGIN:VEVENT
DTSTART;TZID=America/New_York:20190511T100000
DTEND;TZID=America/New_York:20190511T123000
DTSTAMP:20260421T215728
CREATED:20190426T173452Z
LAST-MODIFIED:20190426T173452Z
UID:2724-1557568800-1557577800@bsatroop354.com
SUMMARY:Sculpture Merit Badge
DESCRIPTION:Mr. Reed has very graciously arranged to run a Sculpture Merit badge session at the Long Island Museum on Saturday May 11 from 10:00 am till about 12:30 pm \nThere will be guided tour and a class room session where the boys will work with some clay. \nWe will have a Pizza lunch after that\, and the cost for this event is $10.00 per person. \nClass B uniforms\, it’s being held at Long Island Museum\, 1200 Route 25A in Stony Brook\, 10:00 am sharp\, see separate email for more details.
URL:https://bsatroop354.com/event/sculpture-merit-badge/
END:VEVENT
BEGIN:VEVENT
DTSTART;TZID=America/New_York:20190513T193000
DTEND;TZID=America/New_York:20190513T210000
DTSTAMP:20260421T215728
CREATED:20190426T173559Z
LAST-MODIFIED:20190426T173559Z
UID:2726-1557775800-1557781200@bsatroop354.com
SUMMARY:Troop Meeting
DESCRIPTION:Class B Uniforms for all those that attended the camporee\, Class A for everyone else. \nWorking on Cit in the World MB\, Personal Management MB\, and rank advancement. \nClinton Avenue School\, 7:30 pm to 9:00 pm
URL:https://bsatroop354.com/event/troop-meeting-96/
LOCATION:Clinton Avenue Elementary School\, 140 Clinton Avenue\, WX45+5M Port Jefferson Station\, NY\, 11776\, United States
END:VEVENT
BEGIN:VEVENT
DTSTART;TZID=America/New_York:20190514T160000
DTEND;TZID=America/New_York:20190514T220000
DTSTAMP:20260421T215728
CREATED:20190514T190655Z
LAST-MODIFIED:20190514T190655Z
UID:2738-1557849600-1557871200@bsatroop354.com
SUMMARY:Theo Granger's Eagle Scout Fundraiser
DESCRIPTION:Theo needs your support! \nJoin us on May 14\, 2019 from 4:00 p.m. – 10:00 p.m. at\nPort Jefferson Station Five Guys\n5122 Nesconset Hwy (Rte 347)\, Port Jefferson Station\, NY 11776 \nFive Guys will donate 10% of your purchase\non May 14\, 2019 from 4:00 p.m. – 10:00 p.m.\nto Eagle Scout Project – Theodore Granger.
URL:https://bsatroop354.com/event/theo-grangers-eagle-scout-fundraiser/
END:VEVENT
BEGIN:VEVENT
DTSTART;TZID=America/New_York:20190520T193000
DTEND;TZID=America/New_York:20190520T210000
DTSTAMP:20260421T215728
CREATED:20190426T173631Z
LAST-MODIFIED:20190426T173631Z
UID:2728-1558380600-1558386000@bsatroop354.com
SUMMARY:Troop Meeting
DESCRIPTION:Class B Uniforms for all those that attended the camporee\, Class A for everyone else. \nWorking on Cit in the World MB\, Personal Management MB\, and rank advancement. \nClinton Avenue School\, 7:30 pm to 9:00 pm
URL:https://bsatroop354.com/event/troop-meeting-97/
END:VEVENT
BEGIN:VEVENT
DTSTART;TZID=America/New_York:20190525T080000
DTEND;TZID=America/New_York:20190525T100000
DTSTAMP:20260421T215728
CREATED:20190426T173759Z
LAST-MODIFIED:20190426T173759Z
UID:2730-1558771200-1558778400@bsatroop354.com
SUMMARY:Calverton Flag Placement
DESCRIPTION:Class A uniforms\, this is a rain or shine event. \nWe will be working on Section #24 in Calverton\, the usual section.
URL:https://bsatroop354.com/event/calverton-flag-placement-5/
END:VEVENT
BEGIN:VEVENT
DTSTART;TZID=America/New_York:20190527T193000
DTEND;TZID=America/New_York:20190527T210000
DTSTAMP:20260421T215728
CREATED:20190426T173853Z
LAST-MODIFIED:20190426T173854Z
UID:2732-1558985400-1558990800@bsatroop354.com
SUMMARY:No Meeting
DESCRIPTION:No School\, and No Scout Meeting this Monday.  Enjoy the holiday and remember our veterans.
URL:https://bsatroop354.com/event/no-meeting-23/
END:VEVENT
BEGIN:VEVENT
DTSTART;TZID=America/New_York:20190530T200000
DTEND;TZID=America/New_York:20190530T210000
DTSTAMP:20260421T215728
CREATED:20190530T141430Z
LAST-MODIFIED:20190530T141430Z
UID:2744-1559246400-1559250000@bsatroop354.com
SUMMARY:Shopping for Campout
DESCRIPTION:Shopping for food for the campout will be Thursday evening\, 8:00 pm at BJs.  This is different from normal because we usually meet there at 7:30\, but I won’t be able to make it there till 8:00 pm\, and I may be just a couple of minutes late\, but I will be there.
URL:https://bsatroop354.com/event/shopping-for-campout-2/
LOCATION:BJ’s Wholesale Club\, 4000 Nesconset Hwy\,  E. Setauket\, NY\, 11733\, United States
END:VEVENT
END:VCALENDAR