BEGIN:VCALENDAR
VERSION:2.0
PRODID:-//Port Jefferson Station - BSA Troop 354 - ECPv6.2.3.2//NONSGML v1.0//EN
CALSCALE:GREGORIAN
METHOD:PUBLISH
X-WR-CALNAME:Port Jefferson Station - BSA Troop 354
X-ORIGINAL-URL:https://bsatroop354.com
X-WR-CALDESC:Events for Port Jefferson Station - BSA Troop 354
REFRESH-INTERVAL;VALUE=DURATION:PT1H
X-Robots-Tag:noindex
X-PUBLISHED-TTL:PT1H
BEGIN:VTIMEZONE
TZID:America/New_York
BEGIN:DAYLIGHT
TZOFFSETFROM:-0500
TZOFFSETTO:-0400
TZNAME:EDT
DTSTART:20190310T070000
END:DAYLIGHT
BEGIN:STANDARD
TZOFFSETFROM:-0400
TZOFFSETTO:-0500
TZNAME:EST
DTSTART:20191103T060000
END:STANDARD
END:VTIMEZONE
BEGIN:VEVENT
DTSTART;TZID=America/New_York:20190401T193000
DTEND;TZID=America/New_York:20190401T210000
DTSTAMP:20260421T234010
CREATED:20190304T211725Z
LAST-MODIFIED:20190304T211734Z
UID:2633-1554147000-1554152400@bsatroop354.com
SUMMARY:Troop Meeting
DESCRIPTION:Class A Uniforms\, Clinton Avenue School\, 7:30 pm to 9:00 pm
URL:https://bsatroop354.com/event/troop-meeting-91/
LOCATION:Clinton Avenue Elementary School\, 140 Clinton Avenue\, WX45+5M Port Jefferson Station\, NY\, 11776\, United States
END:VEVENT
BEGIN:VEVENT
DTSTART;TZID=America/New_York:20190408T193000
DTEND;TZID=America/New_York:20190408T210000
DTSTAMP:20260421T234010
CREATED:20190304T212650Z
LAST-MODIFIED:20190304T212650Z
UID:2642-1554751800-1554757200@bsatroop354.com
SUMMARY:Troop Meeting
DESCRIPTION:Class B Uniforms\, Clinton Avenue School\, 7:30 pm to 9:00 pm
URL:https://bsatroop354.com/event/troop-meeting-92/
LOCATION:Clinton Avenue Elementary School\, 140 Clinton Avenue\, WX45+5M Port Jefferson Station\, NY\, 11776\, United States
END:VEVENT
BEGIN:VEVENT
DTSTART;TZID=America/New_York:20190415T193000
DTEND;TZID=America/New_York:20190415T210000
DTSTAMP:20260421T234010
CREATED:20190304T212711Z
LAST-MODIFIED:20190304T212711Z
UID:2644-1555356600-1555362000@bsatroop354.com
SUMMARY:Troop Meeting
DESCRIPTION:Class B Uniforms\, Clinton Avenue School\, 7:30 pm to 9:00 pm
URL:https://bsatroop354.com/event/troop-meeting-93/
LOCATION:Clinton Avenue Elementary School\, 140 Clinton Avenue\, WX45+5M Port Jefferson Station\, NY\, 11776\, United States
END:VEVENT
BEGIN:VEVENT
DTSTART;VALUE=DATE:20190417
DTEND;VALUE=DATE:20190418
DTSTAMP:20260421T234010
CREATED:20190328T165923Z
LAST-MODIFIED:20190328T165923Z
UID:2714-1555459200-1555545599@bsatroop354.com
SUMMARY:Mother's Day Flowers Orders Due
DESCRIPTION:The way it works is the scouts take the orders from the individuals they sold to\, create a tally sheet (totals) for all their orders\, and hand that into Liz with the payments by April 17th. \nRemember to keep a copy of your total’s sheet\, and the scouts keep all the individual order sheets for themselves. \nAny questions\, you can contact Liz or Bob. \nThanks for your support\, \n 
URL:https://bsatroop354.com/event/mothers-day-flowers-orders-due/
END:VEVENT
BEGIN:VEVENT
DTSTART;TZID=America/New_York:20190422T193000
DTEND;TZID=America/New_York:20190422T210000
DTSTAMP:20260421T234010
CREATED:20190304T212741Z
LAST-MODIFIED:20190304T212741Z
UID:2646-1555961400-1555966800@bsatroop354.com
SUMMARY:No Meeting
DESCRIPTION:No Scout Meeting tonight\, No School\, Spring Recess \n 
URL:https://bsatroop354.com/event/no-meeting-22/
END:VEVENT
BEGIN:VEVENT
DTSTART;TZID=America/New_York:20190429T193000
DTEND;TZID=America/New_York:20190429T210000
DTSTAMP:20260421T234010
CREATED:20190304T212805Z
LAST-MODIFIED:20190304T212805Z
UID:2648-1556566200-1556571600@bsatroop354.com
SUMMARY:Troop Meeting
DESCRIPTION:Class B Uniforms\, Clinton Avenue School\, 7:30 pm to 9:00 pm
URL:https://bsatroop354.com/event/troop-meeting-94/
LOCATION:Clinton Avenue Elementary School\, 140 Clinton Avenue\, WX45+5M Port Jefferson Station\, NY\, 11776\, United States
END:VEVENT
END:VCALENDAR