BEGIN:VCALENDAR
VERSION:2.0
PRODID:-//Port Jefferson Station - BSA Troop 354 - ECPv6.2.3.2//NONSGML v1.0//EN
CALSCALE:GREGORIAN
METHOD:PUBLISH
X-ORIGINAL-URL:https://bsatroop354.com
X-WR-CALDESC:Events for Port Jefferson Station - BSA Troop 354
REFRESH-INTERVAL;VALUE=DURATION:PT1H
X-Robots-Tag:noindex
X-PUBLISHED-TTL:PT1H
BEGIN:VTIMEZONE
TZID:America/New_York
BEGIN:DAYLIGHT
TZOFFSETFROM:-0500
TZOFFSETTO:-0400
TZNAME:EDT
DTSTART:20190310T070000
END:DAYLIGHT
BEGIN:STANDARD
TZOFFSETFROM:-0400
TZOFFSETTO:-0500
TZNAME:EST
DTSTART:20191103T060000
END:STANDARD
END:VTIMEZONE
BEGIN:VEVENT
DTSTART;TZID=America/New_York:20190107T193000
DTEND;TZID=America/New_York:20190107T210000
DTSTAMP:20260422T052400
CREATED:20181120T195646Z
LAST-MODIFIED:20181120T195646Z
UID:2343-1546889400-1546894800@bsatroop354.com
SUMMARY:Troop Meeting
DESCRIPTION:Class A Uniforms\, Clinton Avenue School\, 7:30 pm to 9:00 pm
URL:https://bsatroop354.com/event/troop-meeting-82/
LOCATION:Clinton Avenue Elementary School\, 140 Clinton Avenue\, WX45+5M Port Jefferson Station\, NY\, 11776\, United States
END:VEVENT
BEGIN:VEVENT
DTSTART;TZID=America/New_York:20190113T150000
DTEND;TZID=America/New_York:20190113T180000
DTSTAMP:20260422T052400
CREATED:20190103T170448Z
LAST-MODIFIED:20190103T170448Z
UID:2397-1547391600-1547402400@bsatroop354.com
SUMMARY:Dominick Azzara's Eagle Scout Fundraiser
DESCRIPTION:
URL:https://bsatroop354.com/event/dominick-azzaras-eagle-scout-fundraiser/
LOCATION:Elk’s Lodge\, 41 Horseblock Road\, Centereach\, NY\, 11720\, United States
END:VEVENT
BEGIN:VEVENT
DTSTART;TZID=America/New_York:20190114T193000
DTEND;TZID=America/New_York:20190114T210000
DTSTAMP:20260422T052400
CREATED:20181120T195713Z
LAST-MODIFIED:20181120T195713Z
UID:2345-1547494200-1547499600@bsatroop354.com
SUMMARY:Troop Meeting
DESCRIPTION:Class B Uniforms\, Clinton Avenue School\, 7:30 pm to 9:00 p
URL:https://bsatroop354.com/event/troop-meeting-83/
END:VEVENT
BEGIN:VEVENT
DTSTART;TZID=America/New_York:20190121T193000
DTEND;TZID=America/New_York:20190121T210000
DTSTAMP:20260422T052400
CREATED:20181120T195746Z
LAST-MODIFIED:20181120T195746Z
UID:2347-1548099000-1548104400@bsatroop354.com
SUMMARY:No Meeting
DESCRIPTION:There is No School\, and No Scout meeting this night.  Martin Luther King Jr. Day
URL:https://bsatroop354.com/event/no-meeting-19/
END:VEVENT
BEGIN:VEVENT
DTSTART;TZID=America/New_York:20190124T193000
DTEND;TZID=America/New_York:20190124T203000
DTSTAMP:20260422T052400
CREATED:20190107T151456Z
LAST-MODIFIED:20190107T151456Z
UID:2415-1548358200-1548361800@bsatroop354.com
SUMMARY:BJ’s Shopping for Onteora Trip
DESCRIPTION:Shopping for food will be Thursday night\, 2/22\, 7:30 pm at BJs.
URL:https://bsatroop354.com/event/bjs-shopping-for-onteora-trip-2/
LOCATION:BJ’s Wholesale Club\, 4000 Nesconset Hwy\,  E. Setauket\, NY\, 11733\, United States
END:VEVENT
BEGIN:VEVENT
DTSTART;TZID=America/New_York:20190126T060000
DTEND;TZID=America/New_York:20190127T150000
DTSTAMP:20260422T052400
CREATED:20190107T150822Z
LAST-MODIFIED:20190107T150822Z
UID:2401-1548482400-1548601200@bsatroop354.com
SUMMARY:Onteora Trip
DESCRIPTION:This is the trip to Onteora Scout Reservation in Livingston Manor NY.  I made it in January this year in the hopes of catching some snow up there. \nWe will leave very early Saturday morning\, and come home Sunday afternoon. \nThere will be a separate email with more details.
URL:https://bsatroop354.com/event/onteora-trip/
END:VEVENT
BEGIN:VEVENT
DTSTART;TZID=America/New_York:20190128T193000
DTEND;TZID=America/New_York:20190128T210000
DTSTAMP:20260422T052400
CREATED:20190107T150856Z
LAST-MODIFIED:20190107T150856Z
UID:2403-1548703800-1548709200@bsatroop354.com
SUMMARY:Troop Meeting
DESCRIPTION:Class B Uniforms\, Clinton Avenue School\, 7:30 pm to 9:00 pm
URL:https://bsatroop354.com/event/troop-meeting-84/
LOCATION:Clinton Avenue Elementary School\, 140 Clinton Avenue\, WX45+5M Port Jefferson Station\, NY\, 11776\, United States
END:VEVENT
END:VCALENDAR