BEGIN:VCALENDAR
VERSION:2.0
PRODID:-//Port Jefferson Station - BSA Troop 354 - ECPv6.2.3.2//NONSGML v1.0//EN
CALSCALE:GREGORIAN
METHOD:PUBLISH
X-WR-CALNAME:Port Jefferson Station - BSA Troop 354
X-ORIGINAL-URL:https://bsatroop354.com
X-WR-CALDESC:Events for Port Jefferson Station - BSA Troop 354
REFRESH-INTERVAL;VALUE=DURATION:PT1H
X-Robots-Tag:noindex
X-PUBLISHED-TTL:PT1H
BEGIN:VTIMEZONE
TZID:America/New_York
BEGIN:DAYLIGHT
TZOFFSETFROM:-0500
TZOFFSETTO:-0400
TZNAME:EDT
DTSTART:20180311T070000
END:DAYLIGHT
BEGIN:STANDARD
TZOFFSETFROM:-0400
TZOFFSETTO:-0500
TZNAME:EST
DTSTART:20181104T060000
END:STANDARD
END:VTIMEZONE
BEGIN:VEVENT
DTSTART;TZID=America/New_York:20181201T110000
DTEND;TZID=America/New_York:20181202T180000
DTSTAMP:20260422T071245
CREATED:20181127T184042Z
LAST-MODIFIED:20181127T184151Z
UID:2350-1543662000-1543773600@bsatroop354.com
SUMMARY:Reed Family Train Project and Toys for Tots
DESCRIPTION:The Reed Family Train Project and Toys for Tots event this weekend\, \nSat. Dec.1st  and Sun. Dec. 2nd from 12-6p.m.\, located at the Harbormasters Office- 130 West Broadway\, Downtown Port. Jeff.\, \n(Just west of the Ferry Parking lot and diagonally across from Village Town Hall). \nThe Reeds will need help with overseeing the tables and trains on display. \nIf any of the boys would like to help with this\, even for just an hour or two\, their help would be greatly appreciated. The volunteer time counts toward community service for rank advancement and they get to help with the trains. \nPlease let Mr. Reed know if any of the boys can help out with this via email\, Charles.reed@linklaters.com \n  \n***5th ANNUAL REED FAMILY CHRISTMAS TRAIN PROJECT*** \nThe Donation to view the Display is a new “unwrapped” toy per person. \nAll collected toys will be donated to the U.S. Marine Corps. “Toys for Tots” Program. \nThe hours of Operation will be Saturday\, Dec. 1st 11a.m.-6p.m.& Sunday\, Dec. 2nd\, 12p.m.5p.m.\, located at the Harbor Master Building-130 West Broadway (Approximately 1000 feet West of the Ferry Dock and diagonally across from the Village Town Hall) in Port Jefferson Village.
URL:https://bsatroop354.com/event/reed-family-train-project-and-toys-for-tots/
END:VEVENT
BEGIN:VEVENT
DTSTART;TZID=America/New_York:20181203T193000
DTEND;TZID=America/New_York:20181203T210000
DTSTAMP:20260422T071245
CREATED:20181120T195032Z
LAST-MODIFIED:20181120T195032Z
UID:2329-1543865400-1543870800@bsatroop354.com
SUMMARY:Troop Meeting
DESCRIPTION:Class A Uniforms\, Clinton Avenue School\, 7:30 pm to 9:00 pm
URL:https://bsatroop354.com/event/troop-meeting-81/
LOCATION:Clinton Avenue Elementary School\, 140 Clinton Avenue\, WX45+5M Port Jefferson Station\, NY\, 11776\, United States
END:VEVENT
BEGIN:VEVENT
DTSTART;TZID=America/New_York:20181205T180000
DTEND;TZID=America/New_York:20181205T200000
DTSTAMP:20260422T071245
CREATED:20181206T151434Z
LAST-MODIFIED:20181206T151434Z
UID:2353-1544032800-1544040000@bsatroop354.com
SUMMARY:Tristan Greisch's Fundraiser
DESCRIPTION:Tristan Greisch is hosting a \nFundraising Event \nFor His Eagle Scout Project \nAt Friendly’s On \nWednesday\, December 5\, from 6-8 pm \n275 Route 25A\, Miller Place\, NY \n15% of all Sales will be donated to  \nTristan’s Greisch’s Eagle Scout Project \nYou Must Bring This Flyer to Participate
URL:https://bsatroop354.com/event/tristan-greischs-fundraiser/
END:VEVENT
BEGIN:VEVENT
DTSTART;TZID=America/New_York:20181208T090000
DTEND;TZID=America/New_York:20181208T150000
DTSTAMP:20260422T071245
CREATED:20181120T195120Z
LAST-MODIFIED:20181120T195120Z
UID:2331-1544259600-1544281200@bsatroop354.com
SUMMARY:Terryville Fire Department Run/Walk
DESCRIPTION:This is the Terryville Fire Department Run/Walk for a Claus event.  The Terryville Fire Department has asked us to run a water table for handing out water. We will be supporting this starting at 9:00 am and continuing into the late afternoon. \nThere will be more details in a separate email. \nWe will need the boys help\, and we will divide up the supporting times for the day.
URL:https://bsatroop354.com/event/terryville-fire-department-run-walk/
END:VEVENT
BEGIN:VEVENT
DTSTART;TZID=America/New_York:20181210T193000
DTEND;TZID=America/New_York:20181210T210000
DTSTAMP:20260422T071245
CREATED:20181120T195215Z
LAST-MODIFIED:20181120T195215Z
UID:2333-1544470200-1544475600@bsatroop354.com
SUMMARY:Holiday Party
DESCRIPTION:Class B Uniforms\, Clinton Avenue School\, 7:30 pm to 9:00 pm \nThere will be a grab bag gift exchange\, as usual. \nThe cost of the gift should be around $20.00\, and appropriate for a boy\, and scouting \nThat doesn’t mean it has to be scout related\, just in reasonable taste for our boys. \nLet me know if you can help with food and drink contributions that night.
URL:https://bsatroop354.com/event/holiday-party-2/
LOCATION:Clinton Avenue Elementary School\, 140 Clinton Avenue\, WX45+5M Port Jefferson Station\, NY\, 11776\, United States
END:VEVENT
BEGIN:VEVENT
DTSTART;TZID=America/New_York:20181217T193000
DTEND;TZID=America/New_York:20181217T210000
DTSTAMP:20260422T071245
CREATED:20181120T195253Z
LAST-MODIFIED:20181120T195253Z
UID:2335-1545075000-1545080400@bsatroop354.com
SUMMARY:Game Night
DESCRIPTION:Class B Uniforms\, Clinton Avenue School\, 7:30 pm to 9:00 pm
URL:https://bsatroop354.com/event/game-night/
LOCATION:Clinton Avenue Elementary School\, 140 Clinton Avenue\, WX45+5M Port Jefferson Station\, NY\, 11776\, United States
END:VEVENT
BEGIN:VEVENT
DTSTART;TZID=America/New_York:20181224T193000
DTEND;TZID=America/New_York:20181224T210000
DTSTAMP:20260422T071245
CREATED:20181120T195600Z
LAST-MODIFIED:20181120T195600Z
UID:2341-1545679800-1545685200@bsatroop354.com
SUMMARY:No Meeting
DESCRIPTION:There is No School\, and No Scout meeting this night.  Happy Holidays
URL:https://bsatroop354.com/event/no-meeting-18/
END:VEVENT
BEGIN:VEVENT
DTSTART;TZID=America/New_York:20181231T193000
DTEND;TZID=America/New_York:20181231T210000
DTSTAMP:20260422T071245
CREATED:20181120T195442Z
LAST-MODIFIED:20181120T195442Z
UID:2339-1546284600-1546290000@bsatroop354.com
SUMMARY:No Meeting
DESCRIPTION:There is No School\, and No Scout meeting this night.  Happy Holidays
URL:https://bsatroop354.com/event/no-meeting-17/
END:VEVENT
END:VCALENDAR