BEGIN:VCALENDAR
VERSION:2.0
PRODID:-//Port Jefferson Station - BSA Troop 354 - ECPv6.2.3.2//NONSGML v1.0//EN
CALSCALE:GREGORIAN
METHOD:PUBLISH
X-WR-CALNAME:Port Jefferson Station - BSA Troop 354
X-ORIGINAL-URL:https://bsatroop354.com
X-WR-CALDESC:Events for Port Jefferson Station - BSA Troop 354
REFRESH-INTERVAL;VALUE=DURATION:PT1H
X-Robots-Tag:noindex
X-PUBLISHED-TTL:PT1H
BEGIN:VTIMEZONE
TZID:America/New_York
BEGIN:DAYLIGHT
TZOFFSETFROM:-0500
TZOFFSETTO:-0400
TZNAME:EDT
DTSTART:20180311T070000
END:DAYLIGHT
BEGIN:STANDARD
TZOFFSETFROM:-0400
TZOFFSETTO:-0500
TZNAME:EST
DTSTART:20181104T060000
END:STANDARD
END:VTIMEZONE
BEGIN:VEVENT
DTSTART;TZID=America/New_York:20181102T170000
DTEND;TZID=America/New_York:20181104T110000
DTSTAMP:20260422T085635
CREATED:20181022T153949Z
LAST-MODIFIED:20181022T153949Z
UID:2284-1541178000-1541329200@bsatroop354.com
SUMMARY:Webelos Woods
DESCRIPTION:This is the Webelos Woods weekend.
URL:https://bsatroop354.com/event/webelos-woods-2/
END:VEVENT
BEGIN:VEVENT
DTSTART;TZID=America/New_York:20181105T193000
DTEND;TZID=America/New_York:20181105T210000
DTSTAMP:20260422T085635
CREATED:20181022T154032Z
LAST-MODIFIED:20181031T144856Z
UID:2286-1541446200-1541451600@bsatroop354.com
SUMMARY:Troop Meeting
DESCRIPTION:Tonight is Game Night. This is a night when the boys bring down their own games\, and have some fun. \nClass B uniforms\, Clinton Avenue School\, 7:30 pm to 9:00 pm
URL:https://bsatroop354.com/event/troop-meeting-78/
LOCATION:Clinton Avenue Elementary School\, 140 Clinton Avenue\, WX45+5M Port Jefferson Station\, NY\, 11776\, United States
END:VEVENT
BEGIN:VEVENT
DTSTART;TZID=America/New_York:20181110T100000
DTEND;TZID=America/New_York:20181110T130000
DTSTAMP:20260422T085635
CREATED:20181106T183716Z
LAST-MODIFIED:20181106T183716Z
UID:2319-1541844000-1541854800@bsatroop354.com
SUMMARY:William Reed’s Eagle Project\, 2nd Phase
DESCRIPTION:This is the second phase of William Reed’s Eagle Scout project.\nWe will meet at 10:00 am behind the Infant Jesus church all the way in the back\, by the street in the back. This should not take too long\, only a few hours\, but we will need some adult help\, even if you can only give a little bit of time.
URL:https://bsatroop354.com/event/william-reeds-eagle-project-2nd-phase/
END:VEVENT
BEGIN:VEVENT
DTSTART;TZID=America/New_York:20181112T193000
DTEND;TZID=America/New_York:20181112T210000
DTSTAMP:20260422T085635
CREATED:20181031T145009Z
LAST-MODIFIED:20181031T145009Z
UID:2308-1542051000-1542056400@bsatroop354.com
SUMMARY:No Meeting
DESCRIPTION:There is No School\, and No Scout meeting this night.  Enjoy Veteran’s Day
URL:https://bsatroop354.com/event/no-meeting-15/
END:VEVENT
BEGIN:VEVENT
DTSTART;TZID=America/New_York:20181117T100000
DTEND;TZID=America/New_York:20181117T130000
DTSTAMP:20260422T085635
CREATED:20181106T183802Z
LAST-MODIFIED:20181106T183802Z
UID:2321-1542448800-1542459600@bsatroop354.com
SUMMARY:Tristan Greisch’s Eagle Project\, 2nd Phase
DESCRIPTION:This is the second phase of Tristan Greisch’s Eagle Scout project.  It will be at the Terryville elementary school starting at 10:00 am.
URL:https://bsatroop354.com/event/tristan-greischs-eagle-project-2nd-phase/
END:VEVENT
BEGIN:VEVENT
DTSTART;TZID=America/New_York:20181119T193000
DTEND;TZID=America/New_York:20181119T210000
DTSTAMP:20260422T085635
CREATED:20181031T145101Z
LAST-MODIFIED:20181031T145101Z
UID:2310-1542655800-1542661200@bsatroop354.com
SUMMARY:Troop Meeting
DESCRIPTION:Class B uniforms\, Clinton Avenue School\, 7:30 pm to 9:00 pm
URL:https://bsatroop354.com/event/troop-meeting-79/
LOCATION:Clinton Avenue Elementary School\, 140 Clinton Avenue\, WX45+5M Port Jefferson Station\, NY\, 11776\, United States
END:VEVENT
BEGIN:VEVENT
DTSTART;TZID=America/New_York:20181124T193000
DTEND;TZID=America/New_York:20181124T210000
DTSTAMP:20260422T085635
CREATED:20181120T195357Z
LAST-MODIFIED:20181120T195357Z
UID:2337-1543087800-1543093200@bsatroop354.com
SUMMARY:No Meeting
DESCRIPTION:
URL:https://bsatroop354.com/event/no-meeting-16/
END:VEVENT
BEGIN:VEVENT
DTSTART;TZID=America/New_York:20181126T193000
DTEND;TZID=America/New_York:20181126T210000
DTSTAMP:20260422T085635
CREATED:20181120T195004Z
LAST-MODIFIED:20181120T195004Z
UID:2327-1543260600-1543266000@bsatroop354.com
SUMMARY:Troop Meeting
DESCRIPTION:Class B Uniforms\, Clinton Avenue School\, 7:30 pm to 9:00 pm
URL:https://bsatroop354.com/event/troop-meeting-80/
LOCATION:Clinton Avenue Elementary School\, 140 Clinton Avenue\, WX45+5M Port Jefferson Station\, NY\, 11776\, United States
END:VEVENT
END:VCALENDAR