BEGIN:VCALENDAR
VERSION:2.0
PRODID:-//Port Jefferson Station - BSA Troop 354 - ECPv6.2.3.2//NONSGML v1.0//EN
CALSCALE:GREGORIAN
METHOD:PUBLISH
X-ORIGINAL-URL:https://bsatroop354.com
X-WR-CALDESC:Events for Port Jefferson Station - BSA Troop 354
REFRESH-INTERVAL;VALUE=DURATION:PT1H
X-Robots-Tag:noindex
X-PUBLISHED-TTL:PT1H
BEGIN:VTIMEZONE
TZID:America/New_York
BEGIN:DAYLIGHT
TZOFFSETFROM:-0500
TZOFFSETTO:-0400
TZNAME:EDT
DTSTART:20180311T070000
END:DAYLIGHT
BEGIN:STANDARD
TZOFFSETFROM:-0400
TZOFFSETTO:-0500
TZNAME:EST
DTSTART:20181104T060000
END:STANDARD
END:VTIMEZONE
BEGIN:VEVENT
DTSTART;TZID=America/New_York:20181001T193000
DTEND;TZID=America/New_York:20181001T210000
DTSTAMP:20260422T104031
CREATED:20180824T175347Z
LAST-MODIFIED:20180912T144350Z
UID:2236-1538422200-1538427600@bsatroop354.com
SUMMARY:Court of Honor
DESCRIPTION:This is our Fall Court of Honor night. This will be held at the Elks lodge in Centereach\, 41 Horseblock Road. \nParents please attend to see the boys receive the awards they have earned over the past few months. Coffee and snacks served afterwards. \nThere will be a food drive this evening for Hunger Action Month (September)\, Island Harvest in Hauppauge. Please bring a non-perishable item to donate to the drive. \nClass A uniforms\, 7:30 pm to 9:00 pm
URL:https://bsatroop354.com/event/court-of-honor-5/
LOCATION:Elk’s Lodge\, 41 Horseblock Road\, Centereach\, NY\, 11720\, United States
END:VEVENT
BEGIN:VEVENT
DTSTART;TZID=America/New_York:20181007T100000
DTEND;TZID=America/New_York:20181007T110000
DTSTAMP:20260422T104031
CREATED:20180912T144550Z
LAST-MODIFIED:20180912T144550Z
UID:2245-1538906400-1538910000@bsatroop354.com
SUMMARY:Mum’s Flower Sale Pickup
DESCRIPTION:This is the Pickup of your Mum’s order at the Norwood Elementary School. \nThe time will be determined later after we find out from the distributer. \nPlease plan on picking up your order on this day.  We have no place to store orders not picked up.
URL:https://bsatroop354.com/event/mums-flower-sale-pickup/
END:VEVENT
BEGIN:VEVENT
DTSTART;TZID=America/New_York:20181008T193000
DTEND;TZID=America/New_York:20181008T210000
DTSTAMP:20260422T104031
CREATED:20180912T144713Z
LAST-MODIFIED:20180912T145156Z
UID:2247-1539027000-1539032400@bsatroop354.com
SUMMARY:No Meeting
DESCRIPTION:Columbus Day\, No School\, No Scout Meeting
URL:https://bsatroop354.com/event/no-meeting-14/
END:VEVENT
BEGIN:VEVENT
DTSTART;TZID=America/New_York:20181013T100000
DTEND;TZID=America/New_York:20181013T120000
DTSTAMP:20260422T104031
CREATED:20181011T162638Z
LAST-MODIFIED:20181011T162638Z
UID:2274-1539424800-1539432000@bsatroop354.com
SUMMARY:Eagle Scout Project
DESCRIPTION:Tristan Greisch’s Eagle Scout project is this Saturday\, October 13th\, It will be held at Mr. Pearsall’s house at 10 a.m. There we will be cutting\, assembling and painting the parts needed for the benches I plan on building. Since we will be painting\, please dress accordingly. Thank you for any time that you can give me. I look forward to seeing you this Saturday.
URL:https://bsatroop354.com/event/eagle-scout-project-3/
END:VEVENT
BEGIN:VEVENT
DTSTART;TZID=America/New_York:20181015T193000
DTEND;TZID=America/New_York:20181015T210000
DTSTAMP:20260422T104031
CREATED:20180912T144811Z
LAST-MODIFIED:20180912T144811Z
UID:2249-1539631800-1539637200@bsatroop354.com
SUMMARY:Troop Meeting
DESCRIPTION:Class B uniforms\, Clinton Avenue School\, 7:30 pm to 9:00 pm \nGet ready for camping trip.
URL:https://bsatroop354.com/event/troop-meeting-75/
LOCATION:Clinton Avenue Elementary School\, 140 Clinton Avenue\, WX45+5M Port Jefferson Station\, NY\, 11776\, United States
END:VEVENT
BEGIN:VEVENT
DTSTART;TZID=America/New_York:20181018T193000
DTEND;TZID=America/New_York:20181018T210000
DTSTAMP:20260422T104031
CREATED:20180912T144953Z
LAST-MODIFIED:20180912T144953Z
UID:2251-1539891000-1539896400@bsatroop354.com
SUMMARY:BJ's Shopping
DESCRIPTION:We will be shopping for the food for the camping trip\, 7:30 pm at BJs in Setauket.
URL:https://bsatroop354.com/event/bjs-shopping/
LOCATION:BJ’s Wholesale Club\, 4000 Nesconset Hwy\,  E. Setauket\, NY\, 11733\, United States
END:VEVENT
BEGIN:VEVENT
DTSTART;TZID=America/New_York:20181020T090000
DTEND;TZID=America/New_York:20181021T140000
DTSTAMP:20260422T104031
CREATED:20180912T145050Z
LAST-MODIFIED:20180912T145050Z
UID:2253-1540026000-1540130400@bsatroop354.com
SUMMARY:Camping Trip
DESCRIPTION:Planning a camping trip\, probably at Cathedral Pines. \nBecause it’s local\, boys can come and go as their schedules with other events permit.
URL:https://bsatroop354.com/event/camping-trip/
END:VEVENT
BEGIN:VEVENT
DTSTART;TZID=America/New_York:20181022T193000
DTEND;TZID=America/New_York:20181022T210000
DTSTAMP:20260422T104031
CREATED:20180912T145121Z
LAST-MODIFIED:20180912T145121Z
UID:2255-1540236600-1540242000@bsatroop354.com
SUMMARY:Troop Meeting
DESCRIPTION:Class B uniforms\, Clinton Avenue School\, 7:30 pm to 9:00 pm
URL:https://bsatroop354.com/event/troop-meeting-76/
LOCATION:Clinton Avenue Elementary School\, 140 Clinton Avenue\, WX45+5M Port Jefferson Station\, NY\, 11776\, United States
END:VEVENT
BEGIN:VEVENT
DTSTART;TZID=America/New_York:20181027T100000
DTEND;TZID=America/New_York:20181027T120000
DTSTAMP:20260422T104031
CREATED:20181023T145423Z
LAST-MODIFIED:20181023T145423Z
UID:2288-1540634400-1540641600@bsatroop354.com
SUMMARY:William Reed’s Eagle Scout Project First Part
DESCRIPTION:We will be starting work on William Reed’s Eagle Scout project\, which is a flower garden and bench at Infant Jesus church. \nWe will be cutting some wood at Mr. Pearsall’s house this day to get ready for the project a few weeks later. \nPlease wear work clothing.
URL:https://bsatroop354.com/event/william-reeds-eagle-scout-project-first-part/
END:VEVENT
BEGIN:VEVENT
DTSTART;TZID=America/New_York:20181027T170000
DTEND;TZID=America/New_York:20181027T190000
DTSTAMP:20260422T104031
CREATED:20181022T153721Z
LAST-MODIFIED:20181022T153721Z
UID:2279-1540659600-1540666800@bsatroop354.com
SUMMARY:William Reed’s Eagle Scout Bowling Fundraiser
DESCRIPTION:This is William Reed’s Eagle Scout Bowling fundraiser at Coram Country Lanes\, 5-7 pm. \nCoram Country Lanes \n615 Middle Country Road\, Coram\, NY \n(right off of No Ocean Ave & Middle Country Road) \nBowlers receive 2 hrs. bowling at $18/pp including shoes\, pizza\, dessert and soft drink \nPlease RSVP \nCell: 1-917-209-1579 \nTHANK YOU FOR YOUR SUPPORT! \nWilliam Reed
URL:https://bsatroop354.com/event/william-reeds-eagle-scout-bowling-fundraiser/
END:VEVENT
BEGIN:VEVENT
DTSTART;TZID=America/New_York:20181029T193000
DTEND;TZID=America/New_York:20181029T210000
DTSTAMP:20260422T104031
CREATED:20181022T153820Z
LAST-MODIFIED:20181022T154058Z
UID:2281-1540841400-1540846800@bsatroop354.com
SUMMARY:Troop Meeting
DESCRIPTION:Class B uniforms\, Clinton Avenue School\, 7:30 pm to 9:00 pm \nHappy Halloween!
URL:https://bsatroop354.com/event/troop-meeting-77/
LOCATION:Clinton Avenue Elementary School\, 140 Clinton Avenue\, WX45+5M Port Jefferson Station\, NY\, 11776\, United States
END:VEVENT
END:VCALENDAR