BEGIN:VCALENDAR
VERSION:2.0
PRODID:-//Port Jefferson Station - BSA Troop 354 - ECPv6.2.3.2//NONSGML v1.0//EN
CALSCALE:GREGORIAN
METHOD:PUBLISH
X-ORIGINAL-URL:https://bsatroop354.com
X-WR-CALDESC:Events for Port Jefferson Station - BSA Troop 354
REFRESH-INTERVAL;VALUE=DURATION:PT1H
X-Robots-Tag:noindex
X-PUBLISHED-TTL:PT1H
BEGIN:VTIMEZONE
TZID:America/New_York
BEGIN:DAYLIGHT
TZOFFSETFROM:-0500
TZOFFSETTO:-0400
TZNAME:EDT
DTSTART:20180311T070000
END:DAYLIGHT
BEGIN:STANDARD
TZOFFSETFROM:-0400
TZOFFSETTO:-0500
TZNAME:EST
DTSTART:20181104T060000
END:STANDARD
END:VTIMEZONE
BEGIN:VEVENT
DTSTART;TZID=America/New_York:20180815T173000
DTEND;TZID=America/New_York:20180815T200000
DTSTAMP:20260422T140709
CREATED:20180810T140352Z
LAST-MODIFIED:20180810T140352Z
UID:2187-1534354200-1534363200@bsatroop354.com
SUMMARY:Chamber of Commerce
DESCRIPTION:We have a request from the Chamber of Commerce in our area for some help.  They have some concerts going on at the train park on the corner of Route 112 and 347 the next two Wednesday evenings\, 8/15\, and 8/22\, and they need some volunteers to help as honor guard for an opening\, and maybe some other things.  It is from 5:30 to 8:00 pm on the next two Wednesday evenings.  It will be in full uniform\, and count toward community service for rank advancement.  Please let me know if you can help on one of these nights\, even for a short amount of time.
URL:https://bsatroop354.com/event/chamber-of-commerce/
END:VEVENT
BEGIN:VEVENT
DTSTART;TZID=America/New_York:20180822T173000
DTEND;TZID=America/New_York:20180822T200000
DTSTAMP:20260422T140709
CREATED:20180810T140425Z
LAST-MODIFIED:20180810T140425Z
UID:2189-1534959000-1534968000@bsatroop354.com
SUMMARY:Chamber of Commerce
DESCRIPTION:We have a request from the Chamber of Commerce in our area for some help.  They have some concerts going on at the train park on the corner of Route 112 and 347 the next two Wednesday evenings\, 8/15\, and 8/22\, and they need some volunteers to help as honor guard for an opening\, and maybe some other things.  It is from 5:30 to 8:00 pm on the next two Wednesday evenings.  It will be in full uniform\, and count toward community service for rank advancement.  Please let me know if you can help on one of these nights\, even for a short amount of time.
URL:https://bsatroop354.com/event/chamber-of-commerce-2/
END:VEVENT
END:VCALENDAR