BEGIN:VCALENDAR
VERSION:2.0
PRODID:-//Port Jefferson Station - BSA Troop 354 - ECPv6.2.3.2//NONSGML v1.0//EN
CALSCALE:GREGORIAN
METHOD:PUBLISH
X-WR-CALNAME:Port Jefferson Station - BSA Troop 354
X-ORIGINAL-URL:https://bsatroop354.com
X-WR-CALDESC:Events for Port Jefferson Station - BSA Troop 354
REFRESH-INTERVAL;VALUE=DURATION:PT1H
X-Robots-Tag:noindex
X-PUBLISHED-TTL:PT1H
BEGIN:VTIMEZONE
TZID:America/New_York
BEGIN:DAYLIGHT
TZOFFSETFROM:-0500
TZOFFSETTO:-0400
TZNAME:EDT
DTSTART:20180311T070000
END:DAYLIGHT
BEGIN:STANDARD
TZOFFSETFROM:-0400
TZOFFSETTO:-0500
TZNAME:EST
DTSTART:20181104T060000
END:STANDARD
END:VTIMEZONE
BEGIN:VEVENT
DTSTART;TZID=America/New_York:20180602T083000
DTEND;TZID=America/New_York:20180602T100000
DTSTAMP:20260422T180159
CREATED:20180503T181634Z
LAST-MODIFIED:20180503T181634Z
UID:2066-1527928200-1527933600@bsatroop354.com
SUMMARY:Calverton Flag Pickup Day
DESCRIPTION:This is the Calverton Flag Pickup day. \nWe will meet at the high school tennis courts parking lot at 8:30 am Saturday morning\, \nAnd we will be leaving at 8:40 am sharp. \nClass A or B uniforms\, and we are at Area 24 in the cemetery \n 
URL:https://bsatroop354.com/event/calverton-flag-pickup-day/
END:VEVENT
BEGIN:VEVENT
DTSTART;TZID=America/New_York:20180602T130000
DTEND;TZID=America/New_York:20180602T170000
DTSTAMP:20260422T180159
CREATED:20180608T143713Z
LAST-MODIFIED:20180608T143713Z
UID:2117-1527944400-1527958800@bsatroop354.com
SUMMARY:Matt Chan’s Eagle Scout Project
DESCRIPTION:This is Matt Chan’s Eagle Scout project.  The tentative plan is we are doing this in the afternoon after the Calverton flag pickup. \nThe time will likely be 1:00 pm at my house\, 137 South Hickory Street. \nI will send out another email between now and then to confirm this.
URL:https://bsatroop354.com/event/matt-chans-eagle-scout-project/
END:VEVENT
BEGIN:VEVENT
DTSTART;TZID=America/New_York:20180603T150000
DTEND;TZID=America/New_York:20180603T180000
DTSTAMP:20260422T180159
CREATED:20180503T181717Z
LAST-MODIFIED:20180503T181717Z
UID:2068-1528038000-1528048800@bsatroop354.com
SUMMARY:Justin Behrens Eagle Scout COH
DESCRIPTION:This is Justin Behren’s Eagle Scout Court of honor at 3:00 pm\, but we will meet at 2:00 pm to practice the ceremony.
URL:https://bsatroop354.com/event/justin-behrens-eagle-scout-coh/
END:VEVENT
BEGIN:VEVENT
DTSTART;TZID=America/New_York:20180604T193000
DTEND;TZID=America/New_York:20180604T210000
DTSTAMP:20260422T180159
CREATED:20180503T181802Z
LAST-MODIFIED:20180503T181802Z
UID:2070-1528140600-1528146000@bsatroop354.com
SUMMARY:Monday Night Meeting
DESCRIPTION:Class B uniforms for all those that attended Justin Behren’s Eagle COH\, Class A uniforms for everyone else.
URL:https://bsatroop354.com/event/monday-night-meeting-15/
END:VEVENT
BEGIN:VEVENT
DTSTART;TZID=America/New_York:20180608T100000
DTEND;TZID=America/New_York:20180608T113000
DTSTAMP:20260422T180159
CREATED:20180608T144115Z
LAST-MODIFIED:20180608T144115Z
UID:2119-1528452000-1528457400@bsatroop354.com
SUMMARY:Elk’s Flag Day Ceremony
DESCRIPTION:Every year\, the Elk’s hold a Flag Day ceremony for the seniors at the Atria in Setauket across route 347 from BJs. \nOur scouts carry in flags for the ceremony\, and we show our support for the Elks\, and the seniors at the facility. \nAnd there are usually dignitaries that attend. \nThis does count as community service toward rank advancement.
URL:https://bsatroop354.com/event/elks-flag-day-ceremony-2/
END:VEVENT
BEGIN:VEVENT
DTSTART;TZID=America/New_York:20180611T193000
DTEND;TZID=America/New_York:20180611T210000
DTSTAMP:20260422T180159
CREATED:20180608T144318Z
LAST-MODIFIED:20180608T144318Z
UID:2121-1528745400-1528750800@bsatroop354.com
SUMMARY:Monday Night Meeting
DESCRIPTION:Class B uniforms
URL:https://bsatroop354.com/event/monday-night-meeting-16/
END:VEVENT
BEGIN:VEVENT
DTSTART;TZID=America/New_York:20180614T180000
DTEND;TZID=America/New_York:20180614T193000
DTSTAMP:20260422T180159
CREATED:20180613T155948Z
LAST-MODIFIED:20180613T155948Z
UID:2136-1528999200-1529004600@bsatroop354.com
SUMMARY:Flag Retirement Ceremony
DESCRIPTION:This is the flag retirement ceremony that the Pack holds every year.  It is the ceremony where we respectfully retire flags that have reached their end of life. \nI would appreciate a few people making it to show our respect and support for the Pack\, even if you can only make it for 15 minutes. \nMr. Rella is always there\, and I’m sure he would love to see us all. \nThis is a class A uniform event
URL:https://bsatroop354.com/event/flag-retirement-ceremony/
END:VEVENT
BEGIN:VEVENT
DTSTART;TZID=America/New_York:20180618T193000
DTEND;TZID=America/New_York:20180618T210000
DTSTAMP:20260422T180159
CREATED:20180608T144359Z
LAST-MODIFIED:20180613T160038Z
UID:2124-1529350200-1529355600@bsatroop354.com
SUMMARY:Monday Night Meeting
DESCRIPTION:I am declaring this a Yawgoog night.  Any of the parents that have questions about Yawgoog\, please come down this night. \nI will have handouts\, and examples of equipment the boys need.  And let me know of you need mosquito netting\, I will have a list for ordering some. \nBring your questions.  For the boys\, I will have sheets for planning out their week up at camp. \nI can also answer any questions about the upcoming Bike Campout at Cathedral Pines this next weekend. \nClass B uniforms
URL:https://bsatroop354.com/event/monday-night-meeting-17/
END:VEVENT
BEGIN:VEVENT
DTSTART;TZID=America/New_York:20180621T193000
DTEND;TZID=America/New_York:20180621T203000
DTSTAMP:20260422T180159
CREATED:20180503T181414Z
LAST-MODIFIED:20180608T144637Z
UID:2063-1529609400-1529613000@bsatroop354.com
SUMMARY:Shopping for Campout
DESCRIPTION:Shopping at BJs for the trip
URL:https://bsatroop354.com/event/shopping-for-campout/
LOCATION:BJ’s Wholesale Club\, 4000 Nesconset Hwy\,  E. Setauket\, NY\, 11733\, United States
END:VEVENT
BEGIN:VEVENT
DTSTART;TZID=America/New_York:20180623T090000
DTEND;TZID=America/New_York:20180624T120000
DTSTAMP:20260422T180159
CREATED:20180608T144602Z
LAST-MODIFIED:20180613T160135Z
UID:2126-1529744400-1529841600@bsatroop354.com
SUMMARY:Cathedral Pines Bike Campout
DESCRIPTION:This is the Cathedral Pines bike campout weekend.  It is reasonably close so the boys and come and go as needed. \nThis is the campout we rescheduled due to the Blydenburgh rainout. \nWe will meet to travel to the park at 9:00 am on Saturday morning 6/23 at the high school tennis courts parking lot \nWe will be back home late Sunday morning\, and we will call you all when we are close to being back at the high school. \nPlease let me know if your boy will be attending by the Monday night meeting\, 6/18/18. \nThe cost for food for the trip will be $20.00 per boy\, adults are no charge. \nGet your bikes ready\, and bring your helmets. \nWe can use help transporting the boys and bikes to and from camp\, so let me know if you can help. \nDirections are\, Route 25 East to Yaphank Middle Island Road (after Walmart). \nMake a right turn and Cathedral Pines County Park entrance is about half a mile on the right side. \nWe will be in site 18\, keep going straight into camp\, after playground make a right\, and we are on the left. \nClass B uniforms
URL:https://bsatroop354.com/event/bike-campout/
END:VEVENT
BEGIN:VEVENT
DTSTART;TZID=America/New_York:20180625T193000
DTEND;TZID=America/New_York:20180625T210000
DTSTAMP:20260422T180159
CREATED:20180608T145029Z
LAST-MODIFIED:20180613T160242Z
UID:2129-1529955000-1529960400@bsatroop354.com
SUMMARY:Court of Honor Night
DESCRIPTION:This is our June Court of Honor night\, and the last meeting of the spring and summer. \nThis will be held at the Elk’s lodge in Centereach\, 41 Horseblock Road. \nParents please attend to see the boys receive the awards they have earned over the past few months. \nAnd I can answer any questions about the summer\, and summer camp. \nAll dues and Yawgoog fees are due this evening. \nI would like to have the medical forms by this evening\, but I’m late\, and I know that won’t happen\, see separate email. \nClass A uniforms
URL:https://bsatroop354.com/event/monday-night-meeting-18/
END:VEVENT
BEGIN:VEVENT
DTSTART;TZID=America/New_York:20180630T130000
DTEND;TZID=America/New_York:20180630T170000
DTSTAMP:20260422T180159
CREATED:20180608T145419Z
LAST-MODIFIED:20180608T145419Z
UID:2134-1530363600-1530378000@bsatroop354.com
SUMMARY:Troop 50th Anniversary Party
DESCRIPTION:Please come and help us celebrate our 50 th Anniversary on Saturday\, June 30 th\n1:00 – 5:00p.m. at the Elk’s Lodge\n41 Horseblock Road\nCentereach\nAdults $20\nChildren under 14 $15 \nPlease R.S.V.P. BY June 9 th\ndavegreisch@gmail.com\nlizgssu2@gmail.com \nChecks made to troop 354\nGood food\, D.J.\, great company\, lots of\nfun. Please bring and share your photos\nand memories
URL:https://bsatroop354.com/event/troop-50th-anniversary-party/
END:VEVENT
END:VCALENDAR