BEGIN:VCALENDAR
VERSION:2.0
PRODID:-//Port Jefferson Station - BSA Troop 354 - ECPv6.2.3.2//NONSGML v1.0//EN
CALSCALE:GREGORIAN
METHOD:PUBLISH
X-WR-CALNAME:Port Jefferson Station - BSA Troop 354
X-ORIGINAL-URL:https://bsatroop354.com
X-WR-CALDESC:Events for Port Jefferson Station - BSA Troop 354
REFRESH-INTERVAL;VALUE=DURATION:PT1H
X-Robots-Tag:noindex
X-PUBLISHED-TTL:PT1H
BEGIN:VTIMEZONE
TZID:America/New_York
BEGIN:DAYLIGHT
TZOFFSETFROM:-0500
TZOFFSETTO:-0400
TZNAME:EDT
DTSTART:20180311T070000
END:DAYLIGHT
BEGIN:STANDARD
TZOFFSETFROM:-0400
TZOFFSETTO:-0500
TZNAME:EST
DTSTART:20181104T060000
END:STANDARD
END:VTIMEZONE
BEGIN:VEVENT
DTSTART;TZID=America/New_York:20180505T080000
DTEND;TZID=America/New_York:20180505T120000
DTSTAMP:20260422T195619
CREATED:20180503T181109Z
LAST-MODIFIED:20180503T181109Z
UID:2056-1525507200-1525521600@bsatroop354.com
SUMMARY:Railroading Museum
DESCRIPTION:Details to follow
URL:https://bsatroop354.com/event/railroading-museum/
END:VEVENT
BEGIN:VEVENT
DTSTART;TZID=America/New_York:20180507T193000
DTEND;TZID=America/New_York:20180507T210000
DTSTAMP:20260422T195619
CREATED:20180412T145605Z
LAST-MODIFIED:20180412T145610Z
UID:2037-1525721400-1525726800@bsatroop354.com
SUMMARY:No Meeting
DESCRIPTION:Art show at Clinton\, School not available\, No Scout Meeting
URL:https://bsatroop354.com/event/no-meeting-12/
END:VEVENT
BEGIN:VEVENT
DTSTART;TZID=America/New_York:20180512T080000
DTEND;TZID=America/New_York:20180512T120000
DTSTAMP:20260422T195619
CREATED:20180503T181158Z
LAST-MODIFIED:20180503T181158Z
UID:2058-1526112000-1526126400@bsatroop354.com
SUMMARY:Mother’s Day flower sale sorting and pickup
DESCRIPTION:This is the Mother’s day flower sorting and pickup at Norwood Elementary school in the morning. \nThe times will be announced later.  We need help with the sorting\, and please plan on picking up your flowers that morning.
URL:https://bsatroop354.com/event/mothers-day-flower-sale-sorting-and-pickup/
END:VEVENT
BEGIN:VEVENT
DTSTART;TZID=America/New_York:20180514T193000
DTEND;TZID=America/New_York:20180514T210000
DTSTAMP:20260422T195619
CREATED:20180412T145650Z
LAST-MODIFIED:20180503T181239Z
UID:2040-1526326200-1526331600@bsatroop354.com
SUMMARY:Monday Night Meeting
DESCRIPTION:Advancement\, MB follow ups\, getting ready for campout \nClass B uniforms (because Calverton at end of month)
URL:https://bsatroop354.com/event/monday-night-meeting-13/
END:VEVENT
BEGIN:VEVENT
DTSTART;TZID=America/New_York:20180519T090000
DTEND;TZID=America/New_York:20180520T120000
DTSTAMP:20260422T195619
CREATED:20180503T181339Z
LAST-MODIFIED:20180503T181339Z
UID:2061-1526720400-1526817600@bsatroop354.com
SUMMARY:Blydenburgh Bike Campout
DESCRIPTION:This is a bike campout weekend.  And it is reasonably close so the boys and come and go as needed. \nWe could not use Cathedral Pines because that park was taken by another event. \nWe will shop for food this Thursday evening\, 5/17/18\, 7:30 pm at BJs. \nWe will meet to travel to the park at 9:00 am on Saturday morning 5/19 at the high school tennis courts parking lot \nWe will be back home late Sunday morning\, and we will call you all when we are close to being back at the high school. \nPlease let me know if your boy will be attending by the Monday night meeting\, 5/14/18. \nThe cost for food for the trip will be $20.00 per boy\, adults are no charge. \nGet your bikes ready\, and bring your helmets. \nWe can use help transporting the boys and bikes to and from camp\, so let me know if you can help. \nClass B uniforms
URL:https://bsatroop354.com/event/blydenburgh-bike-campout/
END:VEVENT
BEGIN:VEVENT
DTSTART;TZID=America/New_York:20180521T193000
DTEND;TZID=America/New_York:20180521T210000
DTSTAMP:20260422T195619
CREATED:20180412T145741Z
LAST-MODIFIED:20180412T145741Z
UID:2042-1526931000-1526936400@bsatroop354.com
SUMMARY:Monday Night Meeting
DESCRIPTION:Class B uniforms (because Calverton at end of month)
URL:https://bsatroop354.com/event/monday-night-meeting-14/
END:VEVENT
BEGIN:VEVENT
DTSTART;TZID=America/New_York:20180526T080000
DTEND;TZID=America/New_York:20180526T120000
DTSTAMP:20260422T195619
CREATED:20180412T145955Z
LAST-MODIFIED:20180524T153755Z
UID:2044-1527321600-1527336000@bsatroop354.com
SUMMARY:Calverton Flag Placement
DESCRIPTION:This is the Calverton Flag Placement day. \nWe will meet at the high school tennis courts parking lot at 8:15 am Saturday morning and we will be leaving at 8:25 am sharp. There is quite a bit of traffic headed out on this morning\, and we need to get an early start. \nClass A uniforms\, and we are at Area 24 in the cemetery
URL:https://bsatroop354.com/event/calverton-flag-placement-4/
END:VEVENT
BEGIN:VEVENT
DTSTART;TZID=America/New_York:20180528T193000
DTEND;TZID=America/New_York:20180528T210000
DTSTAMP:20260422T195619
CREATED:20180412T150106Z
LAST-MODIFIED:20180412T150106Z
UID:2046-1527535800-1527541200@bsatroop354.com
SUMMARY:No Meeting
DESCRIPTION:Memorial Day\, No School\, and No Monday scout meeting.
URL:https://bsatroop354.com/event/no-meeting-13/
END:VEVENT
END:VCALENDAR