BEGIN:VCALENDAR
VERSION:2.0
PRODID:-//Port Jefferson Station - BSA Troop 354 - ECPv6.2.3.2//NONSGML v1.0//EN
CALSCALE:GREGORIAN
METHOD:PUBLISH
X-ORIGINAL-URL:https://bsatroop354.com
X-WR-CALDESC:Events for Port Jefferson Station - BSA Troop 354
REFRESH-INTERVAL;VALUE=DURATION:PT1H
X-Robots-Tag:noindex
X-PUBLISHED-TTL:PT1H
BEGIN:VTIMEZONE
TZID:America/New_York
BEGIN:DAYLIGHT
TZOFFSETFROM:-0500
TZOFFSETTO:-0400
TZNAME:EDT
DTSTART:20180311T070000
END:DAYLIGHT
BEGIN:STANDARD
TZOFFSETFROM:-0400
TZOFFSETTO:-0500
TZNAME:EST
DTSTART:20181104T060000
END:STANDARD
END:VTIMEZONE
BEGIN:VEVENT
DTSTART;TZID=America/New_York:20180402T193000
DTEND;TZID=America/New_York:20180402T210000
DTSTAMP:20260422T214937
CREATED:20180405T152052Z
LAST-MODIFIED:20180405T152052Z
UID:2027-1522697400-1522702800@bsatroop354.com
SUMMARY:No Meeting\, No School
DESCRIPTION:No meeting tonight\, No school today\, Mid-Winter Recess for School
URL:https://bsatroop354.com/event/no-meeting-no-school/
END:VEVENT
BEGIN:VEVENT
DTSTART;TZID=America/New_York:20180409T193000
DTEND;TZID=America/New_York:20180409T210000
DTSTAMP:20260422T214937
CREATED:20180405T152151Z
LAST-MODIFIED:20180405T152151Z
UID:2029-1523302200-1523307600@bsatroop354.com
SUMMARY:Monday Night Meeting
DESCRIPTION:Class A uniforms
URL:https://bsatroop354.com/event/monday-night-meeting-9/
END:VEVENT
BEGIN:VEVENT
DTSTART;TZID=America/New_York:20180416T193000
DTEND;TZID=America/New_York:20180416T210000
DTSTAMP:20260422T214937
CREATED:20180412T145355Z
LAST-MODIFIED:20180412T160813Z
UID:2031-1523907000-1523912400@bsatroop354.com
SUMMARY:Monday Night Meeting
DESCRIPTION:Class B uniforms \nWorking on advancement this evening\, and any presentations for Coin Collecting Merit Badge \n$25.00 deposit due Monday for Yawgoog summer camp
URL:https://bsatroop354.com/event/monday-night-meeting-10/
END:VEVENT
BEGIN:VEVENT
DTSTART;TZID=America/New_York:20180423T193000
DTEND;TZID=America/New_York:20180423T210000
DTSTAMP:20260422T214937
CREATED:20180412T145443Z
LAST-MODIFIED:20180412T145443Z
UID:2033-1524511800-1524517200@bsatroop354.com
SUMMARY:Monday Night Meeting
DESCRIPTION:Class B uniforms
URL:https://bsatroop354.com/event/monday-night-meeting-11/
END:VEVENT
BEGIN:VEVENT
DTSTART;TZID=America/New_York:20180428T060000
DTEND;TZID=America/New_York:20180429T120000
DTSTAMP:20260422T214937
CREATED:20180412T150423Z
LAST-MODIFIED:20180412T150423Z
UID:2048-1524895200-1525003200@bsatroop354.com
SUMMARY:Backpacking Trip
DESCRIPTION:This is schedule as a potential date for backpacking. More info to follow.
URL:https://bsatroop354.com/event/backpacking-trip-6/
END:VEVENT
BEGIN:VEVENT
DTSTART;TZID=America/New_York:20180430T193000
DTEND;TZID=America/New_York:20180430T210000
DTSTAMP:20260422T214937
CREATED:20180412T145514Z
LAST-MODIFIED:20180412T145514Z
UID:2035-1525116600-1525122000@bsatroop354.com
SUMMARY:Monday Night Meeting
DESCRIPTION:Class B uniforms
URL:https://bsatroop354.com/event/monday-night-meeting-12/
END:VEVENT
END:VCALENDAR