BEGIN:VCALENDAR
VERSION:2.0
PRODID:-//Port Jefferson Station - BSA Troop 354 - ECPv6.2.3.2//NONSGML v1.0//EN
CALSCALE:GREGORIAN
METHOD:PUBLISH
X-WR-CALNAME:Port Jefferson Station - BSA Troop 354
X-ORIGINAL-URL:https://bsatroop354.com
X-WR-CALDESC:Events for Port Jefferson Station - BSA Troop 354
REFRESH-INTERVAL;VALUE=DURATION:PT1H
X-Robots-Tag:noindex
X-PUBLISHED-TTL:PT1H
BEGIN:VTIMEZONE
TZID:America/New_York
BEGIN:DAYLIGHT
TZOFFSETFROM:-0500
TZOFFSETTO:-0400
TZNAME:EDT
DTSTART:20180311T070000
END:DAYLIGHT
BEGIN:STANDARD
TZOFFSETFROM:-0400
TZOFFSETTO:-0500
TZNAME:EST
DTSTART:20181104T060000
END:STANDARD
END:VTIMEZONE
BEGIN:VEVENT
DTSTART;TZID=America/New_York:20180205T193000
DTEND;TZID=America/New_York:20180205T210000
DTSTAMP:20260423T011347
CREATED:20180129T183753Z
LAST-MODIFIED:20180129T183753Z
UID:1929-1517859000-1517864400@bsatroop354.com
SUMMARY:Court of Honor
DESCRIPTION:This is a Court of Honor meeting night.  I will arrange for this meeting to be held at the Elk’s lodge in Centereach\, 41 Horseblock Road. \nClass A uniforms.  Adults invited to see the boys receive their awards earned over the past few months.
URL:https://bsatroop354.com/event/court-of-honor-4/
END:VEVENT
BEGIN:VEVENT
DTSTART;TZID=America/New_York:20180212T193000
DTEND;TZID=America/New_York:20180212T210000
DTSTAMP:20260423T011347
CREATED:20180211T181513Z
LAST-MODIFIED:20180211T182410Z
UID:1933-1518463800-1518469200@bsatroop354.com
SUMMARY:Monday Night Meeting\, 2/12/18
DESCRIPTION:Monday Night Meeting\, 2/12/18 \n\nPlease have the boys bring a pair of scissors and glue stick if you have one to Monday’s meeting.  We will have extras.\nI will be sending out some information soon\, about going to Onteora in two weeks.\nClass B uniforms\n\nALSO\, The Onteora trip is coming up\, not next weekend\, but the weekend after\, Saturday 2/24 to Sunday 2/25. \nPlease let me know by this next Monday night if your boys or adults are attending. \nWe will need help with the driving\, so please let me know if you can drive\, and how many boys you can take with you.
URL:https://bsatroop354.com/event/monday-night-meeting-2-12-18/
ATTACH;FMTTYPE=image/gif:https://bsatroop354.com/wp-content/uploads/2017/09/b.gif
END:VEVENT
BEGIN:VEVENT
DTSTART;VALUE=DATE:20180219
DTEND;VALUE=DATE:20180220
DTSTAMP:20260423T011347
CREATED:20180211T181747Z
LAST-MODIFIED:20180211T181747Z
UID:1935-1518998400-1519084799@bsatroop354.com
SUMMARY:No Meeting\, No School\, 2/19/18
DESCRIPTION:No Meeting\, No School\, 2/19/18 \nNo meeting tonight\, No school today\, Mid-Winter Recess for School
URL:https://bsatroop354.com/event/no-meeting-no-school-2-19-18/
ATTACH;FMTTYPE=image/jpeg:https://bsatroop354.com/wp-content/uploads/2018/02/No-troop-meeting.jpg
END:VEVENT
BEGIN:VEVENT
DTSTART;TZID=America/New_York:20180222T193000
DTEND;TZID=America/New_York:20180222T203000
DTSTAMP:20260423T011347
CREATED:20180211T183046Z
LAST-MODIFIED:20180211T183101Z
UID:1946-1519327800-1519331400@bsatroop354.com
SUMMARY:BJ's Shopping for Onteora Trip
DESCRIPTION:Shopping for food will be Thursday night\, 2/22\, 7:30 pm at BJs.
URL:https://bsatroop354.com/event/bjs-shopping-for-onteora-trip/
ATTACH;FMTTYPE=image/png:https://bsatroop354.com/wp-content/uploads/2018/02/BJs-Wholesale-Club.png
END:VEVENT
BEGIN:VEVENT
DTSTART;TZID=America/New_York:20180224T060000
DTEND;TZID=America/New_York:20180225T140000
DTSTAMP:20260423T011347
CREATED:20171221T154033Z
LAST-MODIFIED:20180211T182754Z
UID:1881-1519452000-1519567200@bsatroop354.com
SUMMARY:Onteora Camping Trip
DESCRIPTION:Onteora Trip – Saturday 2/24/16 to Sunday 2/25/16\, Onteora Trip \nThe cost will be $25 for each boy\, and some of that money will go toward transportation for the adults driving.  Adults are no cost.  Shopping for food will be Thursday night\, 2/22\, 7:30 pm at BJs.  We will be driving up very early (6:00 am) Saturday morning 2/24\, staying overnight in a heated building with cots\, and coming home the next day\, Sunday 2/25 in the mid-afternoon. The boys should bring their sledding and snowboarding type stuff\, and changes of clothes because they will likely get wet outside.  They should bring money for breakfast Saturday morning at a rest stop\, and for some lunch on the road on the way back Sunday.  We will travel in Class B uniforms.  We will meet Saturday morning in the High School parking lot by the tennis courts at 6:00 am.  I don’t know if there will be snow up there\, but hopefully there will be enough for some sledding.  The trailer is coming along to carry the extra equipment
URL:https://bsatroop354.com/event/onteora-camping-trip-2/
ATTACH;FMTTYPE=image/jpeg:https://bsatroop354.com/wp-content/uploads/2017/12/sddefault.jpg
END:VEVENT
BEGIN:VEVENT
DTSTART;TZID=America/New_York:20180226T193000
DTEND;TZID=America/New_York:20180226T210000
DTSTAMP:20260423T011347
CREATED:20180211T182520Z
LAST-MODIFIED:20180211T182520Z
UID:1943-1519673400-1519678800@bsatroop354.com
SUMMARY:Monday Night Meeting\, 2/26/18
DESCRIPTION:Monday Night Meeting\, 2/26/18 \nClass B uniforms
URL:https://bsatroop354.com/event/monday-night-meeting-2-26-18/
ATTACH;FMTTYPE=image/gif:https://bsatroop354.com/wp-content/uploads/2017/09/b.gif
END:VEVENT
END:VCALENDAR