BEGIN:VCALENDAR
VERSION:2.0
PRODID:-//Port Jefferson Station - BSA Troop 354 - ECPv6.2.3.2//NONSGML v1.0//EN
CALSCALE:GREGORIAN
METHOD:PUBLISH
X-ORIGINAL-URL:https://bsatroop354.com
X-WR-CALDESC:Events for Port Jefferson Station - BSA Troop 354
REFRESH-INTERVAL;VALUE=DURATION:PT1H
X-Robots-Tag:noindex
X-PUBLISHED-TTL:PT1H
BEGIN:VTIMEZONE
TZID:America/New_York
BEGIN:DAYLIGHT
TZOFFSETFROM:-0500
TZOFFSETTO:-0400
TZNAME:EDT
DTSTART:20180311T070000
END:DAYLIGHT
BEGIN:STANDARD
TZOFFSETFROM:-0400
TZOFFSETTO:-0500
TZNAME:EST
DTSTART:20181104T060000
END:STANDARD
END:VTIMEZONE
BEGIN:VEVENT
DTSTART;TZID=America/New_York:20180101T193000
DTEND;TZID=America/New_York:20180101T210000
DTSTAMP:20260423T023923
CREATED:20171126T162615Z
LAST-MODIFIED:20171221T154233Z
UID:1861-1514835000-1514840400@bsatroop354.com
SUMMARY:No Scout Meeting
DESCRIPTION:Monday Night Meeting\, No Scout Meeting 1/1/18 \nHoliday week\, school closed\, No Scout Meeting\, Happy Holidays!!
URL:https://bsatroop354.com/event/monday-night-meeting-no-scout-meeting-1118/
ATTACH;FMTTYPE=image/jpeg:https://bsatroop354.com/wp-content/uploads/2017/11/NoMeeting.jpg
END:VEVENT
BEGIN:VEVENT
DTSTART;TZID=America/New_York:20180108T080000
DTEND;TZID=America/New_York:20180108T170000
DTSTAMP:20260423T023923
CREATED:20171126T162707Z
LAST-MODIFIED:20171221T154451Z
UID:1863-1515398400-1515430800@bsatroop354.com
SUMMARY:Troop Meeting
DESCRIPTION:Monday Night Meeting\, 1/8/18 \nFirst meeting of 2018\, class A uniforms
URL:https://bsatroop354.com/event/monday-night-meeting-1818/
ATTACH;FMTTYPE=image/gif:https://bsatroop354.com/wp-content/uploads/2017/09/a.gif
END:VEVENT
BEGIN:VEVENT
DTSTART;TZID=America/New_York:20180113T080000
DTEND;TZID=America/New_York:20180114T120000
DTSTAMP:20260423T023923
CREATED:20171221T153927Z
LAST-MODIFIED:20171221T153927Z
UID:1879-1515830400-1515931200@bsatroop354.com
SUMMARY:Shiff Camping Trip
DESCRIPTION:Details to follow
URL:https://bsatroop354.com/event/shiff-camping-trip-2/
END:VEVENT
BEGIN:VEVENT
DTSTART;TZID=America/New_York:20180115T193000
DTEND;TZID=America/New_York:20180115T210000
DTSTAMP:20260423T023923
CREATED:20180129T183451Z
LAST-MODIFIED:20180129T183451Z
UID:1923-1516044600-1516050000@bsatroop354.com
SUMMARY:No Scout Meeting
DESCRIPTION:This is the Martin Luther King Jr. Holiday\, No School today\, and No Scout meeting
URL:https://bsatroop354.com/event/no-scout-meeting/
END:VEVENT
BEGIN:VEVENT
DTSTART;TZID=America/New_York:20180122T193000
DTEND;TZID=America/New_York:20180122T210000
DTSTAMP:20260423T023923
CREATED:20180129T183602Z
LAST-MODIFIED:20180129T183602Z
UID:1925-1516649400-1516654800@bsatroop354.com
SUMMARY:Troop Meeting
DESCRIPTION:Class B uniforms
URL:https://bsatroop354.com/event/troop-meeting-71/
END:VEVENT
BEGIN:VEVENT
DTSTART;TZID=America/New_York:20180129T193000
DTEND;TZID=America/New_York:20180129T210000
DTSTAMP:20260423T023923
CREATED:20180129T183648Z
LAST-MODIFIED:20180129T183648Z
UID:1927-1517254200-1517259600@bsatroop354.com
SUMMARY:Troop Meeting
DESCRIPTION:Class B uniforms
URL:https://bsatroop354.com/event/troop-meeting-72/
END:VEVENT
END:VCALENDAR