BEGIN:VCALENDAR
VERSION:2.0
PRODID:-//Port Jefferson Station - BSA Troop 354 - ECPv6.2.3.2//NONSGML v1.0//EN
CALSCALE:GREGORIAN
METHOD:PUBLISH
X-ORIGINAL-URL:https://bsatroop354.com
X-WR-CALDESC:Events for Port Jefferson Station - BSA Troop 354
REFRESH-INTERVAL;VALUE=DURATION:PT1H
X-Robots-Tag:noindex
X-PUBLISHED-TTL:PT1H
BEGIN:VTIMEZONE
TZID:America/New_York
BEGIN:DAYLIGHT
TZOFFSETFROM:-0500
TZOFFSETTO:-0400
TZNAME:EDT
DTSTART:20170312T070000
END:DAYLIGHT
BEGIN:STANDARD
TZOFFSETFROM:-0400
TZOFFSETTO:-0500
TZNAME:EST
DTSTART:20171105T060000
END:STANDARD
END:VTIMEZONE
BEGIN:VEVENT
DTSTART;TZID=America/New_York:20171103T180000
DTEND;TZID=America/New_York:20171105T113000
DTSTAMP:20260423T054951
CREATED:20171019T135153Z
LAST-MODIFIED:20171019T135153Z
UID:1812-1509732000-1509881400@bsatroop354.com
SUMMARY:Webelos Woods
DESCRIPTION:Hi all\, \nWebelos Woods is going to be on the November 3-5 weekend this year\, Friday evening to Sunday morning (times on this post are approximate). \nI would like to see most of the troop there helping out\, so please plan on it. \nWe will be manning the BB Range\, and I don’t know what site we will be camping in yet. \nThe cost will be $20.00 per boy for the food for both boy scouts and cub scouts.  The adults are free. \nI have Friday Nov 3 off\, so I may try and go out to camp a little early.  We will work that out later. \nI will be sending another email next week to get the count worked out. \nThanks\, \nBP
URL:https://bsatroop354.com/event/webelos-woods/
ATTACH;FMTTYPE=image/png:https://bsatroop354.com/wp-content/uploads/2017/10/webelos-woods-1.png
END:VEVENT
BEGIN:VEVENT
DTSTART;TZID=America/New_York:20171106T080000
DTEND;TZID=America/New_York:20171106T170000
DTSTAMP:20260423T054951
CREATED:20171019T135343Z
LAST-MODIFIED:20171019T135640Z
UID:1815-1509955200-1509987600@bsatroop354.com
SUMMARY:Troop Meeting
DESCRIPTION:Regular Meeting night\, 7:30 pm to 9:00 pm at Clinton Ave. School. \nClass A uniforms for those scouts who DID NOT attend Webelos Woods\n \nClass B uniforms for those scouts who DID attend Webelos Woods
URL:https://bsatroop354.com/event/troop-meeting-70/
ATTACH;FMTTYPE=image/gif:https://bsatroop354.com/wp-content/uploads/2017/09/a.gif
END:VEVENT
BEGIN:VEVENT
DTSTART;TZID=America/New_York:20171113T193000
DTEND;TZID=America/New_York:20171113T210000
DTSTAMP:20260423T054951
CREATED:20171113T132351Z
LAST-MODIFIED:20171221T154344Z
UID:1837-1510601400-1510606800@bsatroop354.com
SUMMARY:Troop Meeting - Game Night
DESCRIPTION:Monday Night Meeting\, 11/13/17\, GAME NIGHT! \nTonight is a game night.  This is just a fun night\, and the boys should bring down a game that they want to play with others. \nClass B uniforms
URL:https://bsatroop354.com/event/monday-night-meeting-game-night/
ATTACH;FMTTYPE=image/gif:https://bsatroop354.com/wp-content/uploads/2017/09/b.gif
END:VEVENT
BEGIN:VEVENT
DTSTART;TZID=America/New_York:20171120T193000
DTEND;TZID=America/New_York:20171120T210000
DTSTAMP:20260423T054951
CREATED:20171113T132610Z
LAST-MODIFIED:20171221T154434Z
UID:1839-1511206200-1511211600@bsatroop354.com
SUMMARY:Troop Meeting
DESCRIPTION:Monday Night Meeting\, 11/20/17 \nRegular meeting\, class B uniforms
URL:https://bsatroop354.com/event/monday-night-meeting-2/
ATTACH;FMTTYPE=image/gif:https://bsatroop354.com/wp-content/uploads/2017/09/b.gif
END:VEVENT
BEGIN:VEVENT
DTSTART;TZID=America/New_York:20171127T193000
DTEND;TZID=America/New_York:20171127T210000
DTSTAMP:20260423T054951
CREATED:20171113T133147Z
LAST-MODIFIED:20171221T154429Z
UID:1843-1511811000-1511816400@bsatroop354.com
SUMMARY:Troop Meeting
DESCRIPTION:Monday Night Meeting\, 11/27/17 \nWe will be cutting some thin plywood this evening\, less than a quarter of an inch thick.  We will be cutting ovals out of this plywood\, so if the family has a coping saw (picture attached)\, and a clamp to hold the wood to a table\, that would help.  If not that’s fine\, we will share and have extra.  A cordless jig saw with a very thin blade would also work.  Remember we will be cutting the curves on an oval.  Please\, no electric saws.  We will also be sanding the edges when the ovals are cut out. \nRegular meeting\, class B uniforms
URL:https://bsatroop354.com/event/monday-night-meeting-4/
ATTACH;FMTTYPE=image/jpeg:https://bsatroop354.com/wp-content/uploads/2017/11/98db0fe3369179a46f8b73a0786b7f0c-coping-saw-woodworking-tools.jpg
END:VEVENT
END:VCALENDAR