BEGIN:VCALENDAR
VERSION:2.0
PRODID:-//Port Jefferson Station - BSA Troop 354 - ECPv6.2.3.2//NONSGML v1.0//EN
CALSCALE:GREGORIAN
METHOD:PUBLISH
X-WR-CALNAME:Port Jefferson Station - BSA Troop 354
X-ORIGINAL-URL:https://bsatroop354.com
X-WR-CALDESC:Events for Port Jefferson Station - BSA Troop 354
REFRESH-INTERVAL;VALUE=DURATION:PT1H
X-Robots-Tag:noindex
X-PUBLISHED-TTL:PT1H
BEGIN:VTIMEZONE
TZID:America/New_York
BEGIN:DAYLIGHT
TZOFFSETFROM:-0500
TZOFFSETTO:-0400
TZNAME:EDT
DTSTART:20170312T070000
END:DAYLIGHT
BEGIN:STANDARD
TZOFFSETFROM:-0400
TZOFFSETTO:-0500
TZNAME:EST
DTSTART:20171105T060000
END:STANDARD
END:VTIMEZONE
BEGIN:VEVENT
DTSTART;VALUE=DATE:20170930
DTEND;VALUE=DATE:20171002
DTSTAMP:20260423T072505
CREATED:20170920T225941Z
LAST-MODIFIED:20170930T033855Z
UID:1739-1506729600-1506902399@bsatroop354.com
SUMMARY:Backpacking Trip
DESCRIPTION:We’ll be visiting Island Pond in Harriman State Park for this backpacking trip. \n 
URL:https://bsatroop354.com/event/backpacking-trip-5/
ATTACH;FMTTYPE=image/jpeg:https://bsatroop354.com/wp-content/uploads/2015/02/Hiking-IMG_2381.jpg
END:VEVENT
BEGIN:VEVENT
DTSTART;TZID=America/New_York:20171002T193000
DTEND;TZID=America/New_York:20171002T210000
DTSTAMP:20260423T072505
CREATED:20170908T175512Z
LAST-MODIFIED:20170909T132421Z
UID:1718-1506972600-1506978000@bsatroop354.com
SUMMARY:Court of Honor
DESCRIPTION:Court of Honor Night.  We plan to have this at the Elk’s lodge on 41 Horseblock Rd in Centereach. \nBut I have to confirm that the lodge is available for this.  I will let you know for sure. \nClass A uniforms
URL:https://bsatroop354.com/event/court-of-honor-3/
ATTACH;FMTTYPE=image/gif:https://bsatroop354.com/wp-content/uploads/2017/09/a.gif
END:VEVENT
BEGIN:VEVENT
DTSTART;TZID=America/New_York:20171007T080000
DTEND;TZID=America/New_York:20171007T120000
DTSTAMP:20260423T072505
CREATED:20170908T175559Z
LAST-MODIFIED:20170920T230100Z
UID:1720-1507363200-1507377600@bsatroop354.com
SUMMARY:Pancake Breakfast Fundraiser
DESCRIPTION:Saturday Pancake Breakfast\, 10/7/17 \nDetails to follow in separate email. \nClass B uniforms
URL:https://bsatroop354.com/event/pancake-breakfast-fundraiser/
LOCATION:Applebee’s\, 355 NY-25A\, Miller Place\, 11764\, United States
ATTACH;FMTTYPE=image/gif:https://bsatroop354.com/wp-content/uploads/2017/09/giphy.gif
END:VEVENT
BEGIN:VEVENT
DTSTART;TZID=America/New_York:20171009T193000
DTEND;TZID=America/New_York:20171009T210000
DTSTAMP:20260423T072505
CREATED:20170908T175736Z
LAST-MODIFIED:20171005T163433Z
UID:1722-1507577400-1507582800@bsatroop354.com
SUMMARY:No Meeting
DESCRIPTION:Columbus Day\, No School\, No Scout Meeting
URL:https://bsatroop354.com/event/no-meeting-11/
ATTACH;FMTTYPE=image/jpeg:https://bsatroop354.com/wp-content/uploads/2017/09/Columbus-Day.jpg
END:VEVENT
BEGIN:VEVENT
DTSTART;TZID=America/New_York:20171016T193000
DTEND;TZID=America/New_York:20171016T210000
DTSTAMP:20260423T072505
CREATED:20171009T193413Z
LAST-MODIFIED:20171019T133933Z
UID:1787-1508182200-1508187600@bsatroop354.com
SUMMARY:Troop Meeting
DESCRIPTION:The Webelos II from Pack 354 will be visiting with us this night.  We also have a couple of advancement tasks to finish up. \nClass B uniforms
URL:https://bsatroop354.com/event/troop-meeting-67/
ATTACH;FMTTYPE=image/gif:https://bsatroop354.com/wp-content/uploads/2017/09/b.gif
END:VEVENT
BEGIN:VEVENT
DTSTART;VALUE=DATE:20171018
DTEND;VALUE=DATE:20171019
DTSTAMP:20260423T072505
CREATED:20171019T134400Z
LAST-MODIFIED:20171019T134400Z
UID:1804-1508284800-1508371199@bsatroop354.com
SUMMARY:Pie Orders due to Liz Roder
DESCRIPTION:Hi all\, \nIn the past we have organized a cheesecake and pie ordering fundraiser from Holey Moses for Thanksgiving\, but last year we dropped it and some people were disappointed. \nSo\, we are running it again this year for those that want it\, and as part of our total fundraising options. \nWe handed out some order forms last weekend at the pancake breakfast\, and I have attached them to this post (see below). \nThe order forms and money need to be handed into Liz by Wednesday October 18th. \nThanks for your support\, \nBP \nPiesOrderForm_2017
URL:https://bsatroop354.com/event/pie-orders-due-to-liz-roder/
ATTACH;FMTTYPE=image/jpeg:https://bsatroop354.com/wp-content/uploads/2017/10/images.jpg
END:VEVENT
BEGIN:VEVENT
DTSTART;TZID=America/New_York:20171019T190000
DTEND;TZID=America/New_York:20171019T210000
DTSTAMP:20260423T072505
CREATED:20171018T191414Z
LAST-MODIFIED:20171019T133828Z
UID:1792-1508439600-1508446800@bsatroop354.com
SUMMARY:Justin Behrens Panera Fundraiser
DESCRIPTION:Justin is having an Eagle Scout fundraiser at Panera Bread on 347 this Thursday evening from 4 to 8:00 pm. \nBring the flier (see below) with you and show it at the counter when you place your order. \nJustinBehrensPaneraFundraiser_Thursday_20171019
URL:https://bsatroop354.com/event/justin-behrens-panera-fundraiser/
ATTACH;FMTTYPE=image/jpeg:https://bsatroop354.com/wp-content/uploads/2017/10/panera-bread-logo.jpg
END:VEVENT
BEGIN:VEVENT
DTSTART;TZID=America/New_York:20171021T090000
DTEND;TZID=America/New_York:20171021T150000
DTSTAMP:20260423T072505
CREATED:20171019T133509Z
LAST-MODIFIED:20171019T133509Z
UID:1798-1508576400-1508598000@bsatroop354.com
SUMMARY:Justin Behrens Eagle Scout Project
DESCRIPTION:Justin is working on his project this weekend\, Saturday 10/21/17 from 9:00 am till later in the afternoon. This is at the First Presbyterian Church of Port Jefferson. It’s on your right side as you head into town (Port Jeff). Justin will be working on putting some brick work about a sign at the church\, and building some picnic tables. Let’s do what we can to help Justin. If the boys can stop by even for just an hour or two to help out\, that would be great. \nNote: The time says it ends at 3:00 p.m.\, but Eagle Scout Projects can go way later (or slightly earlier) than that sometimes.
URL:https://bsatroop354.com/event/justin-behrens-eagle-scout-project/
ATTACH;FMTTYPE=image/jpeg:https://bsatroop354.com/wp-content/uploads/2017/10/eagle-scout-project-wide.jpg
END:VEVENT
BEGIN:VEVENT
DTSTART;TZID=America/New_York:20171023T080000
DTEND;TZID=America/New_York:20171023T170000
DTSTAMP:20260423T072505
CREATED:20171019T134525Z
LAST-MODIFIED:20171019T134615Z
UID:1808-1508745600-1508778000@bsatroop354.com
SUMMARY:Troop Meeting
DESCRIPTION:Regular Meeting night\, 7:30 pm to 9:00 pm at Clinton Ave. School\, \nClass B uniforms
URL:https://bsatroop354.com/event/troop-meeting-68/
ATTACH;FMTTYPE=image/gif:https://bsatroop354.com/wp-content/uploads/2017/09/b.gif
END:VEVENT
BEGIN:VEVENT
DTSTART;TZID=America/New_York:20171030T080000
DTEND;TZID=America/New_York:20171030T170000
DTSTAMP:20260423T072505
CREATED:20171019T134701Z
LAST-MODIFIED:20171019T134701Z
UID:1810-1509350400-1509382800@bsatroop354.com
SUMMARY:Troop Meeting
DESCRIPTION:Regular Meeting night\, 7:30 pm to 9:00 pm at Clinton Ave. School\, \nClass B uniforms
URL:https://bsatroop354.com/event/troop-meeting-69/
ATTACH;FMTTYPE=image/gif:https://bsatroop354.com/wp-content/uploads/2017/09/b.gif
END:VEVENT
END:VCALENDAR