BEGIN:VCALENDAR
VERSION:2.0
PRODID:-//Port Jefferson Station - BSA Troop 354 - ECPv6.2.3.2//NONSGML v1.0//EN
CALSCALE:GREGORIAN
METHOD:PUBLISH
X-ORIGINAL-URL:https://bsatroop354.com
X-WR-CALDESC:Events for Port Jefferson Station - BSA Troop 354
REFRESH-INTERVAL;VALUE=DURATION:PT1H
X-Robots-Tag:noindex
X-PUBLISHED-TTL:PT1H
BEGIN:VTIMEZONE
TZID:America/New_York
BEGIN:DAYLIGHT
TZOFFSETFROM:-0500
TZOFFSETTO:-0400
TZNAME:EDT
DTSTART:20170312T070000
END:DAYLIGHT
BEGIN:STANDARD
TZOFFSETFROM:-0400
TZOFFSETTO:-0500
TZNAME:EST
DTSTART:20171105T060000
END:STANDARD
TZID:America/New_York
BEGIN:DAYLIGHT
TZOFFSETFROM:-0500
TZOFFSETTO:-0400
TZNAME:EDT
DTSTART:20170312T070000
END:DAYLIGHT
BEGIN:STANDARD
TZOFFSETFROM:-0400
TZOFFSETTO:-0500
TZNAME:EST
DTSTART:20171105T060000
END:STANDARD
END:VTIMEZONE
BEGIN:VEVENT
DTSTART;TZID=America/New_York:20170306T193000
DTEND;TZID=America/New_York:20170306T210000
DTSTAMP:20260423T200940
CREATED:20170306T142753Z
LAST-MODIFIED:20170306T180801Z
UID:1015-1488828600-1488834000@bsatroop354.com
SUMMARY:Troop Meeting
DESCRIPTION:Webelos Visiting Night\, 7:30 pm to 9:00 pm at Clinton Ave. School\, Class A uniforms this night\, we will be running demonstrations for the visiting Pack 354 Webelos
URL:https://bsatroop354.com/event/troop-meeting-51/
END:VEVENT
BEGIN:VEVENT
DTSTART;TZID=America/New_York:20170312T100000
DTEND;TZID=America/New_York:20170312T120000
DTSTAMP:20260423T200940
CREATED:20170227T165233Z
LAST-MODIFIED:20170227T165233Z
UID:987-1489312800-1489320000@bsatroop354.com
SUMMARY:Skating Merit Badge
DESCRIPTION:The Ice Skating Merit Badge is Back! \nThis event will take on Sunday\, March 12th @10a.m. at the Rinx-Port Jefferson\, located at the Village Center in Downtown Port Jefferson Village. \nThe Merit badge has an “On Ice” proponent approximately 1hr. 15 mins.\, which will include some free skating time. \nThere is also an “Off Ice” Skating Safety Review\, and General Skating Rules focus\, along with general skate maintenance and up keep portion that we will cover during the Pizza Party portion of the event. \nIf you have Ice skates\, Great! Bring them along. Otherwise the Skating Rink has Rental Skates. It might also be a good idea to bring along a pair of gloves and a warm hat as we will be outside on the Ice. \nPlease confirm your attendance w/Mr Reed.
URL:https://bsatroop354.com/event/skating-merit-badge/
END:VEVENT
BEGIN:VEVENT
DTSTART;TZID=America/New_York:20170313T193000
DTEND;TZID=America/New_York:20170313T210000
DTSTAMP:20260423T200940
CREATED:20170306T142841Z
LAST-MODIFIED:20170306T180645Z
UID:1017-1489433400-1489438800@bsatroop354.com
SUMMARY:Troop Meeting
DESCRIPTION:Regular Meeting night\, 7:30 pm to 9:00 pm at Clinton Ave. School\, Class B uniforms this night\, we will be working on finishing up some MBs.
URL:https://bsatroop354.com/event/troop-meeting-52/
END:VEVENT
BEGIN:VEVENT
DTSTART;TZID=America/New_York:20170320T193000
DTEND;TZID=America/New_York:20170320T210000
DTSTAMP:20260423T200940
CREATED:20170306T142940Z
LAST-MODIFIED:20170306T180706Z
UID:1019-1490038200-1490043600@bsatroop354.com
SUMMARY:Troop Meeting
DESCRIPTION:Regular Meeting night\, 7:30 pm to 9:00 pm at Clinton Ave. School\, Class B uniforms this night\, we will be working on finishing up some MBs.
URL:https://bsatroop354.com/event/troop-meeting-53/
END:VEVENT
BEGIN:VEVENT
DTSTART;VALUE=DATE:20170325
DTEND;VALUE=DATE:20170326
DTSTAMP:20260423T200940
CREATED:20170313T174649Z
LAST-MODIFIED:20170313T174649Z
UID:1029-1490400000-1490486399@bsatroop354.com
SUMMARY:Pack 354 Blue & Gold
DESCRIPTION:Time TBD
URL:https://bsatroop354.com/event/pack-354-blue-gold/
END:VEVENT
BEGIN:VEVENT
DTSTART;TZID=America/New_York:20170325T100000
DTEND;TZID=America/New_York:20170325T120000
DTSTAMP:20260423T200940
CREATED:20170324T143538Z
LAST-MODIFIED:20170324T143551Z
UID:1057-1490436000-1490443200@bsatroop354.com
SUMMARY:Personal Fitness Merit Badge
DESCRIPTION:Right now the forecast calls for only a 5% chance of rain for 10:00 a.m. on Saturday morning at JFK. If that holds we should be good. \nPlease remind Scouts and parents interested in the Personal Fitness Merit Badge that they need to bring a Personal Fitness Merit Badge workbook with the Scout’s name on the front. The Scout needs to be dressed warmly and in layers\, as they may want to do the run portion of the test in shorts. They should bring water or a sports drink. They should bring a gym towel. They should be wearing socks and gym shoes or running shoes. \nPencils and tape measures would be helpful as well! \nPlease remind parents that this is not a drop-off event\, and that I would be grateful for their participation as score keepers. Thank you!
URL:https://bsatroop354.com/event/personal-fitness-merit/
END:VEVENT
BEGIN:VEVENT
DTSTART;TZID=America/New_York:20170327T193000
DTEND;TZID=America/New_York:20170327T210000
DTSTAMP:20260423T200940
CREATED:20170313T174536Z
LAST-MODIFIED:20170313T174536Z
UID:1027-1490643000-1490648400@bsatroop354.com
SUMMARY:Troop Meeting
DESCRIPTION:Game Night Meeting night\, 7:30 pm to 9:00 pm at Clinton Ave. School\, \nClass B uniforms this night\, the boys should bring a game that they want to play with this night.
URL:https://bsatroop354.com/event/troop-meeting-54/
END:VEVENT
END:VCALENDAR