BEGIN:VCALENDAR
VERSION:2.0
PRODID:-//Port Jefferson Station - BSA Troop 354 - ECPv6.2.3.2//NONSGML v1.0//EN
CALSCALE:GREGORIAN
METHOD:PUBLISH
X-ORIGINAL-URL:https://bsatroop354.com
X-WR-CALDESC:Events for Port Jefferson Station - BSA Troop 354
REFRESH-INTERVAL;VALUE=DURATION:PT1H
X-Robots-Tag:noindex
X-PUBLISHED-TTL:PT1H
BEGIN:VTIMEZONE
TZID:America/New_York
BEGIN:DAYLIGHT
TZOFFSETFROM:-0500
TZOFFSETTO:-0400
TZNAME:EDT
DTSTART:20170312T070000
END:DAYLIGHT
BEGIN:STANDARD
TZOFFSETFROM:-0400
TZOFFSETTO:-0500
TZNAME:EST
DTSTART:20171105T060000
END:STANDARD
END:VTIMEZONE
BEGIN:VEVENT
DTSTART;TZID=America/New_York:20170206T193000
DTEND;TZID=America/New_York:20170206T210000
DTSTAMP:20260423T220638
CREATED:20170123T190534Z
LAST-MODIFIED:20170209T142149Z
UID:953-1486409400-1486414800@bsatroop354.com
SUMMARY:Troop COH
DESCRIPTION:Class A uniforms this night. \nThis is a Troop Court of Honor night where the boys will be receiving the awards they have earned over the past few months.
URL:https://bsatroop354.com/event/troop-meeting-48/
END:VEVENT
BEGIN:VEVENT
DTSTART;TZID=America/New_York:20170212T133000
DTEND;TZID=America/New_York:20170212T160000
DTSTAMP:20260423T220638
CREATED:20170202T185249Z
LAST-MODIFIED:20170202T185249Z
UID:980-1486906200-1486915200@bsatroop354.com
SUMMARY:Eagle Scout Fundraiser
DESCRIPTION:Maclaine Greisch’s Eagle Scout bowling fundraiser. Mark your calendars\, and please let Maclaine know if you can make it. See attached. \nEagle Fundraiser Flier
URL:https://bsatroop354.com/event/eagle-scout-fundraiser-3/
END:VEVENT
BEGIN:VEVENT
DTSTART;TZID=America/New_York:20170213T193000
DTEND;TZID=America/New_York:20170213T210000
DTSTAMP:20260423T220638
CREATED:20170123T190609Z
LAST-MODIFIED:20170123T195724Z
UID:955-1487014200-1487019600@bsatroop354.com
SUMMARY:Troop Meeting
DESCRIPTION:Regular Meeting night\, 7:30 pm to 9:00 pm at Clinton Ave. School\, \nClass B uniforms this night\, we will be working on Collections Merit Badge this evening.
URL:https://bsatroop354.com/event/troop-meeting-49/
END:VEVENT
BEGIN:VEVENT
DTSTART;TZID=America/New_York:20170220T193000
DTEND;TZID=America/New_York:20170220T210000
DTSTAMP:20260423T220638
CREATED:20170123T190710Z
LAST-MODIFIED:20170123T190710Z
UID:957-1487619000-1487624400@bsatroop354.com
SUMMARY:No Meeting
DESCRIPTION:President’s day\, NO school\, and NO scout meeting this week.
URL:https://bsatroop354.com/event/no-meeting-9/
END:VEVENT
BEGIN:VEVENT
DTSTART;TZID=America/New_York:20170223T193000
DTEND;TZID=America/New_York:20170223T210000
DTSTAMP:20260423T220638
CREATED:20170123T195902Z
LAST-MODIFIED:20170215T181736Z
UID:965-1487878200-1487883600@bsatroop354.com
SUMMARY:Shopping at BJs
DESCRIPTION:Tentative date for Onteora Trip Shopping.
URL:https://bsatroop354.com/event/shopping-at-bjs-2/
LOCATION:BJ’s Wholesale Club\, 4000 Nesconset Hwy\,  E. Setauket\, NY\, 11733\, United States
END:VEVENT
BEGIN:VEVENT
DTSTART;VALUE=DATE:20170225
DTEND;VALUE=DATE:20170226
DTSTAMP:20260423T220638
CREATED:20161206T172103Z
LAST-MODIFIED:20170203T200328Z
UID:894-1487980800-1488067199@bsatroop354.com
SUMMARY:Onteora
DESCRIPTION:This is the weekend of the Onteora trip\, more details will follow.
URL:https://bsatroop354.com/event/onteora/
END:VEVENT
BEGIN:VEVENT
DTSTART;TZID=America/New_York:20170227T193000
DTEND;TZID=America/New_York:20170227T210000
DTSTAMP:20260423T220638
CREATED:20170123T190743Z
LAST-MODIFIED:20170123T190743Z
UID:959-1488223800-1488229200@bsatroop354.com
SUMMARY:Troop Meeting
DESCRIPTION:Regular Meeting night\, 7:30 pm to 9:00 pm at Clinton Ave. School\, \nClass B uniforms this night\, we will be working on Collections Merit Badge again
URL:https://bsatroop354.com/event/troop-meeting-50/
END:VEVENT
END:VCALENDAR