BEGIN:VCALENDAR
VERSION:2.0
PRODID:-//Port Jefferson Station - BSA Troop 354 - ECPv6.2.3.2//NONSGML v1.0//EN
CALSCALE:GREGORIAN
METHOD:PUBLISH
X-ORIGINAL-URL:https://bsatroop354.com
X-WR-CALDESC:Events for Port Jefferson Station - BSA Troop 354
REFRESH-INTERVAL;VALUE=DURATION:PT1H
X-Robots-Tag:noindex
X-PUBLISHED-TTL:PT1H
BEGIN:VTIMEZONE
TZID:America/New_York
BEGIN:DAYLIGHT
TZOFFSETFROM:-0500
TZOFFSETTO:-0400
TZNAME:EDT
DTSTART:20160313T070000
END:DAYLIGHT
BEGIN:STANDARD
TZOFFSETFROM:-0400
TZOFFSETTO:-0500
TZNAME:EST
DTSTART:20161106T060000
END:STANDARD
END:VTIMEZONE
BEGIN:VEVENT
DTSTART;TZID=America/New_York:20161003T193000
DTEND;TZID=America/New_York:20161003T210000
DTSTAMP:20260424T052824
CREATED:20160906T171819Z
LAST-MODIFIED:20160906T171819Z
UID:723-1475523000-1475528400@bsatroop354.com
SUMMARY:No Meeting
DESCRIPTION:No School\, and No Scout meeting this day.
URL:https://bsatroop354.com/event/no-meeting-4/
END:VEVENT
BEGIN:VEVENT
DTSTART;TZID=America/New_York:20161010T193000
DTEND;TZID=America/New_York:20161010T210000
DTSTAMP:20260424T052824
CREATED:20160906T171913Z
LAST-MODIFIED:20160906T171913Z
UID:725-1476127800-1476133200@bsatroop354.com
SUMMARY:No Meeting
DESCRIPTION:Columbus Day. No School\, and No Scout meeting this day.
URL:https://bsatroop354.com/event/no-meeting-6/
END:VEVENT
BEGIN:VEVENT
DTSTART;TZID=America/New_York:20161017T193000
DTEND;TZID=America/New_York:20161017T210000
DTSTAMP:20260424T052824
CREATED:20160928T135750Z
LAST-MODIFIED:20160928T135750Z
UID:746-1476732600-1476738000@bsatroop354.com
SUMMARY:Meet at Elk's Lodge
DESCRIPTION:Regular Meeting at Elk’s lodge in Centereach\, 41 Horseblock Road\, (suggest car-pooling). \nClass B uniforms (I know it’s the first meeting of the month\, but Class Bs) \nWe will likely split up into groups working on some MBs.
URL:https://bsatroop354.com/event/meet-at-elks-lodge/
END:VEVENT
BEGIN:VEVENT
DTSTART;TZID=America/New_York:20161023T090000
DTEND;TZID=America/New_York:20161023T160000
DTSTAMP:20260424T052824
CREATED:20161013T143552Z
LAST-MODIFIED:20161017T141736Z
UID:758-1477213200-1477238400@bsatroop354.com
SUMMARY:Phil Keskes Eagle Project
DESCRIPTION:This will be going on from 9 to about 4:00 in the afternoon. \nRegular work clothes or Class B uniforms\, your choice.
URL:https://bsatroop354.com/event/phil-keskes-eagle-project-day2/
END:VEVENT
BEGIN:VEVENT
DTSTART;TZID=America/New_York:20161024T193000
DTEND;TZID=America/New_York:20161024T210000
DTSTAMP:20260424T052824
CREATED:20161017T141854Z
LAST-MODIFIED:20161031T145748Z
UID:761-1477337400-1477342800@bsatroop354.com
SUMMARY:Troop Meeting
DESCRIPTION:Regular meeting at the Clinton Avenue School\, 7:30 to 9:00 pm\, Class B uniforms \nWe will be working on some merit badges. \nWe will be preparing for the backpacking trip this next weekend\, Saturday 10/29 to Sunday 10/30 \nMeeting Minutes (PDF)
URL:https://bsatroop354.com/event/troop-meeting-37/
END:VEVENT
BEGIN:VEVENT
DTSTART;TZID=America/New_York:20161029T063000
DTEND;TZID=America/New_York:20161030T140000
DTSTAMP:20260424T052824
CREATED:20160913T141908Z
LAST-MODIFIED:20161028T133150Z
UID:733-1477722600-1477836000@bsatroop354.com
SUMMARY:Backpacking Trip
DESCRIPTION:The backpacking trip has been rescheduled for this weekend. We will be heading to the West Mountain Shelter in Harriman State Park. \nWe will leave early Saturday morning\, and come back Sunday before Sundown. \nWest Mountain Shelter (Google Maps)
URL:https://bsatroop354.com/event/backpacking-trip-3/
END:VEVENT
BEGIN:VEVENT
DTSTART;TZID=America/New_York:20161031T193000
DTEND;TZID=America/New_York:20161031T210000
DTSTAMP:20260424T052824
CREATED:20161017T141939Z
LAST-MODIFIED:20161017T142014Z
UID:763-1477942200-1477947600@bsatroop354.com
SUMMARY:Halloween\, No Meeting
DESCRIPTION:No Scout meeting this day.
URL:https://bsatroop354.com/event/halloween-no-meeting/
END:VEVENT
END:VCALENDAR