BEGIN:VCALENDAR
VERSION:2.0
PRODID:-//Port Jefferson Station - BSA Troop 354 - ECPv6.2.3.2//NONSGML v1.0//EN
CALSCALE:GREGORIAN
METHOD:PUBLISH
X-WR-CALNAME:Port Jefferson Station - BSA Troop 354
X-ORIGINAL-URL:https://bsatroop354.com
X-WR-CALDESC:Events for Port Jefferson Station - BSA Troop 354
REFRESH-INTERVAL;VALUE=DURATION:PT1H
X-Robots-Tag:noindex
X-PUBLISHED-TTL:PT1H
BEGIN:VTIMEZONE
TZID:America/New_York
BEGIN:DAYLIGHT
TZOFFSETFROM:-0500
TZOFFSETTO:-0400
TZNAME:EDT
DTSTART:20160313T070000
END:DAYLIGHT
BEGIN:STANDARD
TZOFFSETFROM:-0400
TZOFFSETTO:-0500
TZNAME:EST
DTSTART:20161106T060000
END:STANDARD
END:VTIMEZONE
BEGIN:VEVENT
DTSTART;TZID=America/New_York:20160604T083000
DTEND;TZID=America/New_York:20160604T224500
DTSTAMP:20260424T125122
CREATED:20160503T142046Z
LAST-MODIFIED:20160520T144303Z
UID:607-1465029000-1465080300@bsatroop354.com
SUMMARY:Calverton Flag Pickup
DESCRIPTION:This is the Calverton Flag Pickup day.  We should car pool as much as we can.  We will meet at the Uncle Giuseppe’s Parking lot at 8:30 am on Saturday morning\, organize ourselves\, and leave the parking lot at 8:45.  The event starts at 9:30 am\, and traffic will be moderately heavy\, but not as bad as the placement day so we will meet and leave 15 minutes later. \nClass A uniforms. \nRain date is Sunday
URL:https://bsatroop354.com/event/calverton-flag-pickup-2/
END:VEVENT
BEGIN:VEVENT
DTSTART;TZID=America/New_York:20160606T193000
DTEND;TZID=America/New_York:20160606T210000
DTSTAMP:20260424T125122
CREATED:20160503T142138Z
LAST-MODIFIED:20160621T180334Z
UID:608-1465241400-1465246800@bsatroop354.com
SUMMARY:Troop Meeting
DESCRIPTION:Monday night meeting at Clinton Ave School\, 7:30 to 9:00 pm\, Class B Uniforms \nMeeting Minutes (PDF)
URL:https://bsatroop354.com/event/troop-meeting-31/
END:VEVENT
BEGIN:VEVENT
DTSTART;TZID=America/New_York:20160611T090000
DTEND;TZID=America/New_York:20160612T110000
DTSTAMP:20260424T125122
CREATED:20160503T142325Z
LAST-MODIFIED:20160601T181351Z
UID:609-1465635600-1465729200@bsatroop354.com
SUMMARY:Cathedral Pines Bike Campout
DESCRIPTION:This is our usual Bike Campout at Cathedral Pines in Middle Island.  It is close to people can come and go as they need for other activities.  We will be meeting at the Uncle Giuseppe’s parking lot at 9:00 am on Saturday morning\, camping overnight\, and coming home late Sunday morning.  This is a perfect opportunity for the first year scouts to do their first campout\, and satisfy a rank advancement requirement.  This is a Bike campout\, so the boys should bring their bikes along.  Don’t forget their helmets (required) and any protective gear.  There is a very large bike trail that surrounds the camp\, and the boys have a lot of fun with it.  We can fit quite a few bikes in the trailer\, but if the number of boys attending gets large\, we may need some truck help with that.  There have been ticks in the past\, so I will be making sure the site is sprayed\, and the boys are sprayed.  I will be going over tick prevention and care at the upcoming meetings\, and you should be checking them when they come home.  There is a good article in the Boy’s Life they received recently.
URL:https://bsatroop354.com/event/cathedral-pines-bike-campout/
END:VEVENT
BEGIN:VEVENT
DTSTART;TZID=America/New_York:20160611T103000
DTEND;TZID=America/New_York:20160611T120000
DTSTAMP:20260424T125122
CREATED:20160208T194135Z
LAST-MODIFIED:20160603T140903Z
UID:511-1465641000-1465646400@bsatroop354.com
SUMMARY:Elk’s Flag Day Ceremony
DESCRIPTION:This is the Elk’s Flag Day ceremony at the Atria on Route 347 in Setauket.  It will start at 10:30 am\, and last for about 1.5 hours.  So I will need adult and boys help from those not attending the camping trip\, or those that can leave the camping trip early\, and make the ceremony.  The boys carry out a dozen flags in the ceremony\, and the adults supervise.  The boys should be in full Class A uniform.  There are no speaking parts\, just follow the Elk’s lead.  The adults should keep a list of who attended\, and the Elk’s may want that list to announce the names at the end of the ceremony.
URL:https://bsatroop354.com/event/elks-flag-day-ceremony/
END:VEVENT
BEGIN:VEVENT
DTSTART;TZID=America/New_York:20160613T193000
DTEND;TZID=America/New_York:20160613T210000
DTSTAMP:20260424T125122
CREATED:20160503T142547Z
LAST-MODIFIED:20160617T162746Z
UID:610-1465846200-1465851600@bsatroop354.com
SUMMARY:Troop Meeting
DESCRIPTION:Monday night meeting at Clinton Ave School\, 7:30 to 9:00 pm\, Class B Uniforms \n  \nMeeting Minutes (PDF)
URL:https://bsatroop354.com/event/troop-meeting-32/
END:VEVENT
BEGIN:VEVENT
DTSTART;TZID=America/New_York:20160618T100000
DTEND;TZID=America/New_York:20160618T110000
DTSTAMP:20260424T125122
CREATED:20160613T123533Z
LAST-MODIFIED:20160613T123533Z
UID:676-1466244000-1466247600@bsatroop354.com
SUMMARY:Personal Fitness Merit Badge
DESCRIPTION:Saturday morning June 18 10:00 am at JFK track\, Mr. Granger will be there for those who want to work on Personal Fitness Merit badge. \nBoys should bring their packets\, a pencil\, comfortable clothes (shorts and t-shirt)\, a gym towel\, and a bottle of water or a sports drink. I will need adults to help score\, so it’s not a drop-off. Depending on the number of boys involved it could take between 45 minutes and an hour. \nIf there are any questions\, parents or Scouts can contact me through email (montgomeryjgranger@gmail.com).
URL:https://bsatroop354.com/event/personal-fitness-merit-badge/
END:VEVENT
BEGIN:VEVENT
DTSTART;TZID=America/New_York:20160620T193000
DTEND;TZID=America/New_York:20160620T210000
DTSTAMP:20260424T125122
CREATED:20160601T180805Z
LAST-MODIFIED:20160601T180805Z
UID:659-1466451000-1466456400@bsatroop354.com
SUMMARY:Troop Meeting
DESCRIPTION:Monday night meeting at Clinton Ave School\, 7:30 to 9:00 pm\, Class B Uniforms
URL:https://bsatroop354.com/event/troop-meeting-33/
END:VEVENT
BEGIN:VEVENT
DTSTART;TZID=America/New_York:20160627T193000
DTEND;TZID=America/New_York:20160627T210000
DTSTAMP:20260424T125122
CREATED:20160601T180904Z
LAST-MODIFIED:20160627T155050Z
UID:660-1467055800-1467061200@bsatroop354.com
SUMMARY:Court Of Honor Night
DESCRIPTION:Court of Honor night at Clinton Ave School Elk’s Lodge\,  7:30 to 9:00 pm\, Class A Uniforms \nLast meeting before the summer break.  Dues and Yawgoog final payments are due.
URL:https://bsatroop354.com/event/court-of-honor-night/
END:VEVENT
END:VCALENDAR