BEGIN:VCALENDAR
VERSION:2.0
PRODID:-//Port Jefferson Station - BSA Troop 354 - ECPv6.2.3.2//NONSGML v1.0//EN
CALSCALE:GREGORIAN
METHOD:PUBLISH
X-ORIGINAL-URL:https://bsatroop354.com
X-WR-CALDESC:Events for Port Jefferson Station - BSA Troop 354
REFRESH-INTERVAL;VALUE=DURATION:PT1H
X-Robots-Tag:noindex
X-PUBLISHED-TTL:PT1H
BEGIN:VTIMEZONE
TZID:America/New_York
BEGIN:DAYLIGHT
TZOFFSETFROM:-0500
TZOFFSETTO:-0400
TZNAME:EDT
DTSTART:20160313T070000
END:DAYLIGHT
BEGIN:STANDARD
TZOFFSETFROM:-0400
TZOFFSETTO:-0500
TZNAME:EST
DTSTART:20161106T060000
END:STANDARD
END:VTIMEZONE
BEGIN:VEVENT
DTSTART;VALUE=DATE:20160402
DTEND;VALUE=DATE:20160404
DTSTAMP:20260424T162306
CREATED:20160302T163134Z
LAST-MODIFIED:20160405T140122Z
UID:540-1459555200-1459727999@bsatroop354.com
SUMMARY:Backpacking Trip
DESCRIPTION:Hiking to Tom Jones shelter in Harriman State Park. \nThe boys are required to prepare a backpacking menu in preparation for the trip. It should be something easy to prepare and to their liking\, similar to the demonstration that Mr Pearsall and Mr Komperda prepared. \nDue to the weather this trip was postponed. Rain date TBD.
URL:https://bsatroop354.com/event/backpacking-trip/
END:VEVENT
BEGIN:VEVENT
DTSTART;TZID=America/New_York:20160404T193000
DTEND;TZID=America/New_York:20160404T210000
DTSTAMP:20260424T162306
CREATED:20160324T134007Z
LAST-MODIFIED:20160409T153424Z
UID:554-1459798200-1459803600@bsatroop354.com
SUMMARY:Troop Meeting
DESCRIPTION:Monday night meeting at Clinton Ave School\, 7:30 to 9:00 pm\, Class A uniforms\, But! Class B Uniforms for those going on the April 15 Camporee \nWorking on Digital Technology MB\, and a recap of the backpacking trip. \nWe will continue to work with the new scouts for achieving the Scout Rank. \nMeeting Minutes (PDF)
URL:https://bsatroop354.com/event/troop-meeting-18/
END:VEVENT
BEGIN:VEVENT
DTSTART;VALUE=DATE:20160410
DTEND;VALUE=DATE:20160411
DTSTAMP:20260424T162306
CREATED:20160408T194455Z
LAST-MODIFIED:20160408T194455Z
UID:560-1460246400-1460332799@bsatroop354.com
SUMMARY:Andrew Jaffie’s Eagle Scout Project
DESCRIPTION:Andrew is planning on working on his Eagle Scout project this Sunday.  He will probably be working on it much of the day starting at 9:00 am\, so hopefully you can find some time to help him.  He is building a shed at theatre group’s house in Port Jefferson\, 1 Reeves Road.  Going down the hill on route 112 into Port Jeff\, Reeves Road is on the left\, and the house is the first house on the right.  There is a parking lot on the far side of the building.
URL:https://bsatroop354.com/event/andrew-jaffies-eagle-scout-project/
END:VEVENT
BEGIN:VEVENT
DTSTART;TZID=America/New_York:20160411T193000
DTEND;TZID=America/New_York:20160411T210000
DTSTAMP:20260424T162306
CREATED:20160324T134049Z
LAST-MODIFIED:20160420T170847Z
UID:555-1460403000-1460408400@bsatroop354.com
SUMMARY:Troop Meeting
DESCRIPTION:Monday night meeting at Clinton Ave School\, 7:30 to 9:00 pm\, Class B Uniforms \nWorking on getting ready for the camporee. \nMeeting Minutes (PDF)
URL:https://bsatroop354.com/event/troop-meeting-19/
END:VEVENT
BEGIN:VEVENT
DTSTART;VALUE=DATE:20160415
DTEND;VALUE=DATE:20160418
DTSTAMP:20260424T162306
CREATED:20151201T172432Z
LAST-MODIFIED:20151201T172432Z
UID:436-1460678400-1460937599@bsatroop354.com
SUMMARY:Southhaven Council Camporee
DESCRIPTION:
URL:https://bsatroop354.com/event/southhaven-council-camporee/
END:VEVENT
BEGIN:VEVENT
DTSTART;TZID=America/New_York:20160418T193000
DTEND;TZID=America/New_York:20160418T200000
DTSTAMP:20260424T162306
CREATED:20160324T134147Z
LAST-MODIFIED:20160420T170923Z
UID:556-1461007800-1461009600@bsatroop354.com
SUMMARY:Troop Meeting
DESCRIPTION:Monday night meeting at Clinton Ave School\, 7:30 to 9:00 pm\, Class B Uniforms \nThis is the due date for the Flower Fundraiser Order forms\, and money. \nMeeting Minutes (PDF)
URL:https://bsatroop354.com/event/troop-meeting-21/
END:VEVENT
BEGIN:VEVENT
DTSTART;TZID=America/New_York:20160425T193000
DTEND;TZID=America/New_York:20160425T210000
DTSTAMP:20260424T162306
CREATED:20160324T134235Z
LAST-MODIFIED:20160324T134235Z
UID:557-1461612600-1461618000@bsatroop354.com
SUMMARY:No Troop Meeting
DESCRIPTION:There is No Scout meeting this night\, School is closed for Spring Recess.
URL:https://bsatroop354.com/event/no-troop-meeting-3/
END:VEVENT
END:VCALENDAR