BEGIN:VCALENDAR
VERSION:2.0
PRODID:-//Port Jefferson Station - BSA Troop 354 - ECPv6.2.3.2//NONSGML v1.0//EN
CALSCALE:GREGORIAN
METHOD:PUBLISH
X-WR-CALNAME:Port Jefferson Station - BSA Troop 354
X-ORIGINAL-URL:https://bsatroop354.com
X-WR-CALDESC:Events for Port Jefferson Station - BSA Troop 354
REFRESH-INTERVAL;VALUE=DURATION:PT1H
X-Robots-Tag:noindex
X-PUBLISHED-TTL:PT1H
BEGIN:VTIMEZONE
TZID:America/New_York
BEGIN:DAYLIGHT
TZOFFSETFROM:-0500
TZOFFSETTO:-0400
TZNAME:EDT
DTSTART:20160313T070000
END:DAYLIGHT
BEGIN:STANDARD
TZOFFSETFROM:-0400
TZOFFSETTO:-0500
TZNAME:EST
DTSTART:20161106T060000
END:STANDARD
END:VTIMEZONE
BEGIN:VEVENT
DTSTART;TZID=America/New_York:20160307T193000
DTEND;TZID=America/New_York:20160307T210000
DTSTAMP:20260424T181250
CREATED:20160208T193939Z
LAST-MODIFIED:20160311T182001Z
UID:510-1457379000-1457384400@bsatroop354.com
SUMMARY:Troop Meeting
DESCRIPTION:Monday night meeting at Clinton Ave School\, 7:30 to 9:00 pm\, Class B Uniforms \nWorking on Advancement\, Backpacking\, and equipment checks \nMeeting Minutes (PDF)
URL:https://bsatroop354.com/event/troop-meeting-12/
END:VEVENT
BEGIN:VEVENT
DTSTART;TZID=America/New_York:20160312T080000
DTEND;TZID=America/New_York:20160312T100000
DTSTAMP:20260424T181250
CREATED:20160121T203216Z
LAST-MODIFIED:20160209T185717Z
UID:484-1457769600-1457776800@bsatroop354.com
SUMMARY:Applebee Fundraiser
DESCRIPTION:If you are able to donate a basket for our raffle table or go to our local merchants for donated items/basket that would be wonderful. \nWe need help with Serving\, Cleaning Tables\, Selling Raffle Baskets etc.  All Servers must be 17 & over to serve. \nMost important we need people to come to our breakfast.  We need to guarantee 100 people to make this fundraiser work.  Whether\, you are able to come yourself please help sell tickets. \nTickets are $9.00 per person or Family 4 pack for $32.00.  Please get your head count & money to Liz Roder 42 Linda St. Port Jeff Station\, email riverqueen524@optonline.net \, cell 631-974-2968. \nFYI\, was a 55” Samsung smart TV donated by friends of our troop\, Anselm and Janet Lowe\, so don’t miss out on a chance to win it.  This should be a good attraction for people to want to attend and get a chance to win it\, so don’t forget to mention it to your friends. \nWe greatly\, appreciate all your help and support of Troop 354.
URL:https://bsatroop354.com/event/applebee-fundraiser/
LOCATION:Applebee’s\, 355 NY-25A\, Miller Place\, 11764\, United States
END:VEVENT
BEGIN:VEVENT
DTSTART;TZID=America/New_York:20160313T180000
DTEND;TZID=America/New_York:20160313T200000
DTSTAMP:20260424T181250
CREATED:20160302T162037Z
LAST-MODIFIED:20160302T162754Z
UID:534-1457892000-1457899200@bsatroop354.com
SUMMARY:Andrew Jaffie's Eagle Fundraiser
DESCRIPTION:This is Andrew Jaffie’s Eagle Scout project fundraiser which is a bowling evening at Port Jeff Bowling alley\, 6 to 8:00 pm. \nFlier is attached.  Please contact him to let him know if you are planning on attending\, and if you are helping with a basket for the auction. \nAndrew Jaffie: Eagle fundraiser flyer (PDF)
URL:https://bsatroop354.com/event/andrew-jaffie-eagle-fundraiser/
END:VEVENT
BEGIN:VEVENT
DTSTART;TZID=America/New_York:20160314T193000
DTEND;TZID=America/New_York:20160314T210000
DTSTAMP:20260424T181250
CREATED:20160302T162130Z
LAST-MODIFIED:20160323T130120Z
UID:536-1457983800-1457989200@bsatroop354.com
SUMMARY:Troop Meeting
DESCRIPTION:Monday night meeting at Clinton Ave School\, 7:30 to 9:00 pm\, Class B Uniforms \nWorking on Digital Technology MB\, Backpacking\, and equipment checks \nMeeting Minutes (PDF) \n 
URL:https://bsatroop354.com/event/troop-meeting-15/
END:VEVENT
BEGIN:VEVENT
DTSTART;TZID=America/New_York:20160320T180000
DTEND;TZID=America/New_York:20160320T200000
DTSTAMP:20260424T181250
CREATED:20160302T162716Z
LAST-MODIFIED:20160302T162716Z
UID:537-1458496800-1458504000@bsatroop354.com
SUMMARY:Juan Tejada’s Eagle Fundraiser
DESCRIPTION:This is Juan Tejada’s Eagle Scout project pasta dinner fundraiser at the Woodhaven home for adults on Route 112 from 6:00 to 8:00 pm.
URL:https://bsatroop354.com/event/juan-tejadas-eagle-fundraiser/
END:VEVENT
BEGIN:VEVENT
DTSTART;TZID=America/New_York:20160321T193000
DTEND;TZID=America/New_York:20160321T210000
DTSTAMP:20260424T181250
CREATED:20160302T162840Z
LAST-MODIFIED:20160302T162840Z
UID:538-1458588600-1458594000@bsatroop354.com
SUMMARY:Troop Meeting
DESCRIPTION:Monday night meeting at Clinton Ave School\, 7:30 to 9:00 pm\, Class B Uniforms \nWorking on Digital Technology MB\, Backpacking\, and equipment checks.
URL:https://bsatroop354.com/event/troop-meeting-17/
END:VEVENT
BEGIN:VEVENT
DTSTART;TZID=America/New_York:20160328T193000
DTEND;TZID=America/New_York:20160328T210000
DTSTAMP:20260424T181250
CREATED:20160302T162942Z
LAST-MODIFIED:20160323T130306Z
UID:539-1459193400-1459198800@bsatroop354.com
SUMMARY:Backpacking Meeting
DESCRIPTION:Easter Recess\, No School\, and No Regular Scout Meeting\, Happy Holiday.  Wow\, Easter time already! \nBut we have the backpacking trip coming up\, and this is the last time we have to meet before the trip and get details worked out. \nSo I would like to see all the boys and adults going on the backpacking trip at the Elk’s lodge in Centereach\, 7:30 to 9:00
URL:https://bsatroop354.com/event/no-troop-meeting-2/
END:VEVENT
END:VCALENDAR