BEGIN:VCALENDAR
VERSION:2.0
PRODID:-//Port Jefferson Station - BSA Troop 354 - ECPv6.2.3.2//NONSGML v1.0//EN
CALSCALE:GREGORIAN
METHOD:PUBLISH
X-WR-CALNAME:Port Jefferson Station - BSA Troop 354
X-ORIGINAL-URL:https://bsatroop354.com
X-WR-CALDESC:Events for Port Jefferson Station - BSA Troop 354
REFRESH-INTERVAL;VALUE=DURATION:PT1H
X-Robots-Tag:noindex
X-PUBLISHED-TTL:PT1H
BEGIN:VTIMEZONE
TZID:America/New_York
BEGIN:DAYLIGHT
TZOFFSETFROM:-0500
TZOFFSETTO:-0400
TZNAME:EDT
DTSTART:20150308T070000
END:DAYLIGHT
BEGIN:STANDARD
TZOFFSETFROM:-0400
TZOFFSETTO:-0500
TZNAME:EST
DTSTART:20151101T060000
END:STANDARD
END:VTIMEZONE
BEGIN:VEVENT
DTSTART;TZID=America/New_York:20150509T100000
DTEND;TZID=America/New_York:20150509T113000
DTSTAMP:20260425T113441
CREATED:20151114T185205Z
LAST-MODIFIED:20151114T185205Z
UID:366-1431165600-1431171000@bsatroop354.com
SUMMARY:Mothers day flower sale pickup
DESCRIPTION:at the old elks lodge on route 112
URL:https://bsatroop354.com/event/mothers-day-flower-sale-pickup/
END:VEVENT
BEGIN:VEVENT
DTSTART;TZID=America/New_York:20150511T193000
DTEND;TZID=America/New_York:20150511T210000
DTSTAMP:20260425T113441
CREATED:20151114T185341Z
LAST-MODIFIED:20151114T185341Z
UID:367-1431372600-1431378000@bsatroop354.com
SUMMARY:Troop Meeting
DESCRIPTION:Class B uniforms
URL:https://bsatroop354.com/event/troop-meeting-13/
END:VEVENT
BEGIN:VEVENT
DTSTART;TZID=America/New_York:20150516T090000
DTEND;TZID=America/New_York:20150516T120000
DTSTAMP:20260425T113441
CREATED:20150515T193334Z
LAST-MODIFIED:20150515T193334Z
UID:90-1431766800-1431777600@bsatroop354.com
SUMMARY:Washington Ave. Park Cleanup
DESCRIPTION:The Enjoy Life Project is sponsoring an event to clean up Washington Avenue Park in Port Jefferson Station\, from 9:00 am to Noon on This Saturday morning 5/16/15.  A flier is attached.  If you have some time\, please stop by and help with the cleanup for a while.  Wear your class B tee-shirts so everyone knows who you are there with.  I will be away that weekend\, so please let Christina Grimes know you are there so she can keep track of who showed up to help.  Also\, please let Christina know if you are planning to attend ( cgrimes1213@optonline.net\, or Dina Simoes at 631-331-2675 ).  They need to know about how many will be there to help. This is a park in our own community\, so let’s stop by and help out for a little while.
URL:https://bsatroop354.com/event/washington-ave-park-cleanup/
END:VEVENT
BEGIN:VEVENT
DTSTART;TZID=America/New_York:20150518T193000
DTEND;TZID=America/New_York:20150518T210000
DTSTAMP:20260425T113441
CREATED:20151114T185712Z
LAST-MODIFIED:20151114T185712Z
UID:369-1431977400-1431982800@bsatroop354.com
SUMMARY:Troop Meeting GAME NIGHT
DESCRIPTION:This is a day when the boys can have some fun. They can play in the gym or bring a game so the boys can play together.
URL:https://bsatroop354.com/event/troop-meeting-game-night/
END:VEVENT
BEGIN:VEVENT
DTSTART;TZID=America/New_York:20150523T083000
DTEND;TZID=America/New_York:20150523T103000
DTSTAMP:20260425T113441
CREATED:20151114T185930Z
LAST-MODIFIED:20151114T185930Z
UID:370-1432369800-1432377000@bsatroop354.com
SUMMARY:Calverton Flag Placement
DESCRIPTION:We will be placing flags down on the graves in Calverton national cemetery \nArea #24
URL:https://bsatroop354.com/event/calverton-flag-placement/
END:VEVENT
BEGIN:VEVENT
DTSTART;VALUE=DATE:20150525
DTEND;VALUE=DATE:20150526
DTSTAMP:20260425T113441
CREATED:20151114T190003Z
LAST-MODIFIED:20151114T190003Z
UID:371-1432512000-1432598399@bsatroop354.com
SUMMARY:No Meeting Memorial day
DESCRIPTION:
URL:https://bsatroop354.com/event/no-meeting-memorial-day/
END:VEVENT
BEGIN:VEVENT
DTSTART;TZID=America/New_York:20150530T083000
DTEND;TZID=America/New_York:20150530T103000
DTSTAMP:20260425T113441
CREATED:20151114T190150Z
LAST-MODIFIED:20151114T190150Z
UID:372-1432974600-1432981800@bsatroop354.com
SUMMARY:Calverton flag Pickup
DESCRIPTION:We will be picking up the flags placed on the graves at Calverton national cemetery
URL:https://bsatroop354.com/event/calverton-flag-pickup/
END:VEVENT
BEGIN:VEVENT
DTSTART;TZID=America/New_York:20150531T123000
DTEND;TZID=America/New_York:20150531T160000
DTSTAMP:20260425T113441
CREATED:20151114T190403Z
LAST-MODIFIED:20151114T190403Z
UID:373-1433075400-1433088000@bsatroop354.com
SUMMARY:Eagle Court of Honor
DESCRIPTION:This is the eagle scout Court of Honor for Brandon Behrens and Matthew O’Shaughnessy. \nWill be held at the main firehouse on Jayne blvd.
URL:https://bsatroop354.com/event/eagle-court-of-honor-4/
END:VEVENT
END:VCALENDAR