BEGIN:VCALENDAR
VERSION:2.0
PRODID:-//Port Jefferson Station - BSA Troop 354 - ECPv6.2.3.2//NONSGML v1.0//EN
CALSCALE:GREGORIAN
METHOD:PUBLISH
X-WR-CALNAME:Port Jefferson Station - BSA Troop 354
X-ORIGINAL-URL:https://bsatroop354.com
X-WR-CALDESC:Events for Port Jefferson Station - BSA Troop 354
REFRESH-INTERVAL;VALUE=DURATION:PT1H
X-Robots-Tag:noindex
X-PUBLISHED-TTL:PT1H
BEGIN:VTIMEZONE
TZID:America/New_York
BEGIN:DAYLIGHT
TZOFFSETFROM:-0500
TZOFFSETTO:-0400
TZNAME:EDT
DTSTART:20150308T070000
END:DAYLIGHT
BEGIN:STANDARD
TZOFFSETFROM:-0400
TZOFFSETTO:-0500
TZNAME:EST
DTSTART:20151101T060000
END:STANDARD
END:VTIMEZONE
BEGIN:VEVENT
DTSTART;TZID=America/New_York:20150404T140000
DTEND;TZID=America/New_York:20150404T160000
DTSTAMP:20260425T132228
CREATED:20150802T203447Z
LAST-MODIFIED:20150802T203447Z
UID:119-1428156000-1428163200@bsatroop354.com
SUMMARY:Orienteering
DESCRIPTION:We will be having a map and compass course at JFK Middle School. Bring a map/compass if you have one. You should bring your book so the first class requirement can be signed off on. Dress warmly over your class B uniform.
URL:https://bsatroop354.com/event/orienteering/
END:VEVENT
BEGIN:VEVENT
DTSTART;TZID=America/New_York:20150406T193000
DTEND;TZID=America/New_York:20150406T210000
DTSTAMP:20260425T132228
CREATED:20150802T203053Z
LAST-MODIFIED:20150802T203053Z
UID:118-1428348600-1428354000@bsatroop354.com
SUMMARY:No Meeting
DESCRIPTION:
URL:https://bsatroop354.com/event/no-meeting/
END:VEVENT
BEGIN:VEVENT
DTSTART;TZID=America/New_York:20150413T193000
DTEND;TZID=America/New_York:20150413T210000
DTSTAMP:20260425T132228
CREATED:20150802T202838Z
LAST-MODIFIED:20150802T202838Z
UID:117-1428953400-1428958800@bsatroop354.com
SUMMARY:Court of Honor
DESCRIPTION:Troop Court of Honor will be held tonight at Clinton Elementary School. All are invited to see their boys earn awards and volunteers are needed to bring food and drinks for the boys after awards are distributed. Class A uniforms
URL:https://bsatroop354.com/event/court-of-honor/
END:VEVENT
BEGIN:VEVENT
DTSTART;TZID=America/New_York:20150420T193000
DTEND;TZID=America/New_York:20150420T210000
DTSTAMP:20260425T132228
CREATED:20150802T202620Z
LAST-MODIFIED:20150802T202620Z
UID:116-1429558200-1429563600@bsatroop354.com
SUMMARY:Troop Meeting
DESCRIPTION:at Clinton Elementary School. Class B uniform
URL:https://bsatroop354.com/event/meeting-5/
END:VEVENT
BEGIN:VEVENT
DTSTART;TZID=America/New_York:20150423T193000
DTEND;TZID=America/New_York:20150423T203000
DTSTAMP:20260425T132228
CREATED:20150802T202432Z
LAST-MODIFIED:20150802T202432Z
UID:115-1429817400-1429821000@bsatroop354.com
SUMMARY:Shopping
DESCRIPTION:We will be shopping at Bj’s for the Cathedral Pines campout. No uniform required
URL:https://bsatroop354.com/event/shopping/
END:VEVENT
BEGIN:VEVENT
DTSTART;TZID=America/New_York:20150425T090000
DTEND;TZID=America/New_York:20150426T120000
DTSTAMP:20260425T132228
CREATED:20150802T202111Z
LAST-MODIFIED:20150802T202111Z
UID:114-1429952400-1430049600@bsatroop354.com
SUMMARY:Cathedral Pines Campout
DESCRIPTION:This is our annual Cathedral Pines camping trip. Scouts and leaders should bring their bikes\, there are plenty of trails to explore. Helmets must be worn while riding. We will meet at the Elks Lodge on Route 112 and then head out to set up camp at Cathedral Pines. Class B uniforms are appropriate
URL:https://bsatroop354.com/event/cathedral-pines-campout/
END:VEVENT
BEGIN:VEVENT
DTSTART;TZID=America/New_York:20150427T193000
DTEND;TZID=America/New_York:20150427T210000
DTSTAMP:20260425T132228
CREATED:20150802T200133Z
LAST-MODIFIED:20150802T200133Z
UID:113-1430163000-1430168400@bsatroop354.com
SUMMARY:Troop Meeting
DESCRIPTION:at Clinton Elementary School. Class B uniforms
URL:https://bsatroop354.com/event/meeting-4/
END:VEVENT
END:VCALENDAR