BEGIN:VCALENDAR
VERSION:2.0
PRODID:-//Port Jefferson Station - BSA Troop 354 - ECPv6.2.3.2//NONSGML v1.0//EN
CALSCALE:GREGORIAN
METHOD:PUBLISH
X-WR-CALNAME:Port Jefferson Station - BSA Troop 354
X-ORIGINAL-URL:https://bsatroop354.com
X-WR-CALDESC:Events for Port Jefferson Station - BSA Troop 354
REFRESH-INTERVAL;VALUE=DURATION:PT1H
X-Robots-Tag:noindex
X-PUBLISHED-TTL:PT1H
BEGIN:VTIMEZONE
TZID:America/New_York
BEGIN:DAYLIGHT
TZOFFSETFROM:-0500
TZOFFSETTO:-0400
TZNAME:EDT
DTSTART:20150308T070000
END:DAYLIGHT
BEGIN:STANDARD
TZOFFSETFROM:-0400
TZOFFSETTO:-0500
TZNAME:EST
DTSTART:20151101T060000
END:STANDARD
END:VTIMEZONE
BEGIN:VEVENT
DTSTART;TZID=America/New_York:20150322T120000
DTEND;TZID=America/New_York:20150322T170000
DTSTAMP:20260420T005107
CREATED:20150320T153101Z
LAST-MODIFIED:20150323T182301Z
UID:75-1427025600-1427043600@bsatroop354.com
SUMMARY:Eagle Court of Honor
DESCRIPTION:This is a Sunday Eagle Court of Honor for Christian and Daniel Roder. \nThis will be held at the Infant Jesus Church parish hall at 2:00 pm. \nI need all the boys to attend this ceremony.  We need to show our support for the Eagles\, and it lets them see a little of what achieving the Eagle Scout rank means. \nI will need them all to show up a little early\, 12:30 pm so we can do a practice run through of the ceremony. \nThere will be coffee and cake after the ceremony for those who attend.
URL:https://bsatroop354.com/event/eagle-court-of-honor/
END:VEVENT
BEGIN:VEVENT
DTSTART;TZID=America/New_York:20150316T193000
DTEND;TZID=America/New_York:20150316T210000
DTSTAMP:20260420T005107
CREATED:20151114T184406Z
LAST-MODIFIED:20151114T184406Z
UID:363-1426534200-1426539600@bsatroop354.com
SUMMARY:Troop Meeting
DESCRIPTION:Class B uniforms \nLaw merit badge\, mock court
URL:https://bsatroop354.com/event/troop-meeting-11/
END:VEVENT
BEGIN:VEVENT
DTSTART;TZID=America/New_York:20150314T123000
DTEND;TZID=America/New_York:20150314T160000
DTSTAMP:20260420T005107
CREATED:20151114T184156Z
LAST-MODIFIED:20151114T184156Z
UID:362-1426336200-1426348800@bsatroop354.com
SUMMARY:Eagle Court of Honor
DESCRIPTION:This court of honor will be for Ben Granger\, Harrison Granger\, Andrew McHugh\, and Kyle Schauss. \nIt will be held at the new elks lodge 41 Horseblock road in centereach.
URL:https://bsatroop354.com/event/eagle-court-of-honor-2/
END:VEVENT
BEGIN:VEVENT
DTSTART;TZID=America/New_York:20150309T193000
DTEND;TZID=America/New_York:20150309T210000
DTSTAMP:20260420T005107
CREATED:20151114T183809Z
LAST-MODIFIED:20151114T183809Z
UID:361-1425929400-1425934800@bsatroop354.com
SUMMARY:Troop Meeting
DESCRIPTION:Class B uniforms \nWe will be working on the law merit badge and Eagle COH practice
URL:https://bsatroop354.com/event/troop-meeting-10/
END:VEVENT
BEGIN:VEVENT
DTSTART;TZID=America/New_York:20150307T070000
DTEND;TZID=America/New_York:20150307T100000
DTSTAMP:20260420T005107
CREATED:20151114T183433Z
LAST-MODIFIED:20151114T183629Z
UID:359-1425711600-1425722400@bsatroop354.com
SUMMARY:Applebees Pancake Breakfast Troop Fundraiser
DESCRIPTION:
URL:https://bsatroop354.com/event/applebees-pancake-breakfast-troop-fundraiser/
END:VEVENT
BEGIN:VEVENT
DTSTART;TZID=America/New_York:20150302T193000
DTEND;TZID=America/New_York:20150302T210000
DTSTAMP:20260420T005107
CREATED:20151114T183314Z
LAST-MODIFIED:20151114T183314Z
UID:358-1425324600-1425330000@bsatroop354.com
SUMMARY:Webelos Visiting Night
DESCRIPTION:Class A uniforms\, best behavior \nWe will be doing our usual show and tell stations at Clinton Ave Elementary School
URL:https://bsatroop354.com/event/webelos-visiting-night/
END:VEVENT
BEGIN:VEVENT
DTSTART;TZID=America/New_York:20150223T193000
DTEND;TZID=America/New_York:20150223T210000
DTSTAMP:20260420T005107
CREATED:20150802T203856Z
LAST-MODIFIED:20150802T203856Z
UID:120-1424719800-1424725200@bsatroop354.com
SUMMARY:Troop Meeting
DESCRIPTION:We’re working on the Law merit badge and we will be meeting at Clinton Elementary School. Class B uniforms
URL:https://bsatroop354.com/event/meeting-6/
END:VEVENT
BEGIN:VEVENT
DTSTART;TZID=America/New_York:20150221T070000
DTEND;TZID=America/New_York:20150222T120000
DTSTAMP:20260420T005107
CREATED:20150802T204727Z
LAST-MODIFIED:20150802T204727Z
UID:121-1424502000-1424606400@bsatroop354.com
SUMMARY:Shiff Camping Trip
DESCRIPTION:We will meet in the Uncle Giuseppe’s parking lot to load up the trailer and head out to shiff. Class B uniforms
URL:https://bsatroop354.com/event/shiff-camping-trip/
END:VEVENT
BEGIN:VEVENT
DTSTART;TZID=America/New_York:20150219T193000
DTEND;TZID=America/New_York:20150219T203000
DTSTAMP:20260420T005107
CREATED:20150802T204941Z
LAST-MODIFIED:20150803T133726Z
UID:122-1424374200-1424377800@bsatroop354.com
SUMMARY:Shopping
DESCRIPTION:We will be shopping for our Shiff camping trip at BJ’s
URL:https://bsatroop354.com/event/shopping-2/
END:VEVENT
BEGIN:VEVENT
DTSTART;TZID=America/New_York:20150216T193000
DTEND;TZID=America/New_York:20150216T193000
DTSTAMP:20260420T005107
CREATED:20150802T161418Z
LAST-MODIFIED:20150802T161418Z
UID:103-1424115000-1424115000@bsatroop354.com
SUMMARY:No meeting\, school is closed
DESCRIPTION:
URL:https://bsatroop354.com/event/no-meeting-school-is-closed/
END:VEVENT
BEGIN:VEVENT
DTSTART;TZID=America/New_York:20150126T193000
DTEND;TZID=America/New_York:20150126T210000
DTSTAMP:20260420T005107
CREATED:20151114T183047Z
LAST-MODIFIED:20151114T183047Z
UID:357-1422300600-1422306000@bsatroop354.com
SUMMARY:Troop Meeting
DESCRIPTION:Class B uniforms
URL:https://bsatroop354.com/event/troop-meeting-9/
END:VEVENT
BEGIN:VEVENT
DTSTART;VALUE=DATE:20150119
DTEND;VALUE=DATE:20150120
DTSTAMP:20260420T005107
CREATED:20151114T182918Z
LAST-MODIFIED:20151114T182918Z
UID:356-1421625600-1421711999@bsatroop354.com
SUMMARY:NO Troop Meeting
DESCRIPTION:Martin Luther King Jr. day
URL:https://bsatroop354.com/event/no-troop-meeting/
END:VEVENT
BEGIN:VEVENT
DTSTART;TZID=America/New_York:20150106T193000
DTEND;TZID=America/New_York:20150106T210000
DTSTAMP:20260420T005107
CREATED:20151114T182623Z
LAST-MODIFIED:20151114T182623Z
UID:354-1420572600-1420578000@bsatroop354.com
SUMMARY:Eagle court of honor meeting
DESCRIPTION:This is a meeting for the Eagle Scout families we are arranging upcoming courts of honor for\, and for those adults who can help us out. \nmeeting at 41 horseblock road
URL:https://bsatroop354.com/event/eagle-court-of-honor-meeting/
END:VEVENT
BEGIN:VEVENT
DTSTART;TZID=America/New_York:20150105T073000
DTEND;TZID=America/New_York:20150105T210000
DTSTAMP:20260420T005107
CREATED:20151114T182204Z
LAST-MODIFIED:20151114T182204Z
UID:353-1420443000-1420491600@bsatroop354.com
SUMMARY:Troop Meeting
DESCRIPTION:Class A uniforms
URL:https://bsatroop354.com/event/troop-meeting-7/
END:VEVENT
END:VCALENDAR