BEGIN:VCALENDAR
VERSION:2.0
PRODID:-//Port Jefferson Station - BSA Troop 354 - ECPv6.2.3.2//NONSGML v1.0//EN
CALSCALE:GREGORIAN
METHOD:PUBLISH
X-WR-CALNAME:Port Jefferson Station - BSA Troop 354
X-ORIGINAL-URL:https://bsatroop354.com
X-WR-CALDESC:Events for Port Jefferson Station - BSA Troop 354
REFRESH-INTERVAL;VALUE=DURATION:PT1H
X-Robots-Tag:noindex
X-PUBLISHED-TTL:PT1H
BEGIN:VTIMEZONE
TZID:America/New_York
BEGIN:DAYLIGHT
TZOFFSETFROM:-0500
TZOFFSETTO:-0400
TZNAME:EDT
DTSTART:20150308T070000
END:DAYLIGHT
BEGIN:STANDARD
TZOFFSETFROM:-0400
TZOFFSETTO:-0500
TZNAME:EST
DTSTART:20151101T060000
END:STANDARD
END:VTIMEZONE
BEGIN:VEVENT
DTSTART;TZID=America/New_York:20151105T193000
DTEND;TZID=America/New_York:20151105T203000
DTSTAMP:20260420T000457
CREATED:20151029T142416Z
LAST-MODIFIED:20151029T142457Z
UID:280-1446751800-1446755400@bsatroop354.com
SUMMARY:Shopping
DESCRIPTION:We will be shopping for food for the trip on Thursday evening 11/5/15\, 7:30 pm at BJs in Setauket on route 347. \nThe cost is $15 for food for the boys\, and the adults coming along are free.
URL:https://bsatroop354.com/event/weblos-woods-shopping/
END:VEVENT
BEGIN:VEVENT
DTSTART;TZID=America/New_York:20151102T193000
DTEND;TZID=America/New_York:20151102T210000
DTSTAMP:20260420T000457
CREATED:20151028T144601Z
LAST-MODIFIED:20151029T143320Z
UID:259-1446492600-1446498000@bsatroop354.com
SUMMARY:Troop Meeting
DESCRIPTION:Steven Poulos has been awarded for his efforts with anti-bullying at school this Monday night at a school board meeting.  This boy is a member of our troop (BSA Troop 354)\, and we would like to bring our troop down to the meeting to show our support for Steven.  This is going to be a surprise for Steven\, but his parents know about it.  Thank you very much for recognizing him\, and we want to be there to show our support too. \nThis will also satisfy a requirement for attending a school board meeting that the boys have for Citizenship in the Community Merit Badge.  So\, it will serve more than one purpose.  We plan on meeting in the back parking lot of Norwood Ave school at 7:45\, and coming in around 7:55.  I hope this is OK with you.  It is short notice\, but I only just recently found out about it\, and I’m making the arrangements with the troop.  Please let me know if you have any concerns.
URL:https://bsatroop354.com/event/meeting-7/
END:VEVENT
BEGIN:VEVENT
DTSTART;TZID=America/New_York:20151026T193000
DTEND;TZID=America/New_York:20151026T210000
DTSTAMP:20260420T000457
CREATED:20151014T215037Z
LAST-MODIFIED:20151014T215037Z
UID:174-1445887800-1445893200@bsatroop354.com
SUMMARY:Troop Meeting
DESCRIPTION:Meeting at Clinton Avenue Elementary School Class B uniforms
URL:https://bsatroop354.com/event/meeting-10/
END:VEVENT
BEGIN:VEVENT
DTSTART;TZID=America/New_York:20151025T144500
DTEND;TZID=America/New_York:20151025T170000
DTSTAMP:20260420T000457
CREATED:20151014T214717Z
LAST-MODIFIED:20151014T214717Z
UID:172-1445784300-1445792400@bsatroop354.com
SUMMARY:Ian's Eagle Project
DESCRIPTION:Please attend Ian Bayer’s Eagle scout fundraiser at Port Jeff Bowl on Sunday\, October 25th for he will be building picnic tables for the Chamber of Commerce. Let him know by the twentieth
URL:https://bsatroop354.com/event/ians-eagle-project/
END:VEVENT
BEGIN:VEVENT
DTSTART;TZID=America/New_York:20151019T193000
DTEND;TZID=America/New_York:20151019T210000
DTSTAMP:20260420T000457
CREATED:20151005T185143Z
LAST-MODIFIED:20151005T185143Z
UID:166-1445283000-1445288400@bsatroop354.com
SUMMARY:Troop Meeting
DESCRIPTION:Class B at Clinton
URL:https://bsatroop354.com/event/meeting-8/
END:VEVENT
BEGIN:VEVENT
DTSTART;TZID=America/New_York:20151017T090000
DTEND;TZID=America/New_York:20151018T120000
DTSTAMP:20260420T000457
CREATED:20151014T214357Z
LAST-MODIFIED:20151014T214357Z
UID:171-1445072400-1445169600@bsatroop354.com
SUMMARY:Cathedral Pines
DESCRIPTION:There will be a Cathedral Pines camping trip\, we will meet at the old elks lodge on route 112 at 9 AM and make sure to bring your bikes and helmets. Don’t miss out because we will be working on the sustainability badge which is required for eagle. The cost is fifteen dollars per scout and class b uniforms are appropriate.
URL:https://bsatroop354.com/event/cathedral-pines/
END:VEVENT
BEGIN:VEVENT
DTSTART;TZID=America/New_York:20151015T193000
DTEND;TZID=America/New_York:20151015T210000
DTSTAMP:20260420T000457
CREATED:20151014T214916Z
LAST-MODIFIED:20151014T214916Z
UID:173-1444937400-1444942800@bsatroop354.com
SUMMARY:Shopping
DESCRIPTION:We will be shopping for the Cathedral Pines trip on the fifteenth at BJ’s
URL:https://bsatroop354.com/event/shopping-3/
END:VEVENT
BEGIN:VEVENT
DTSTART;TZID=America/New_York:20151012T080000
DTEND;TZID=America/New_York:20151012T080000
DTSTAMP:20260420T000457
CREATED:20151005T183947Z
LAST-MODIFIED:20151005T184545Z
UID:163-1444636800-1444636800@bsatroop354.com
SUMMARY:No Meeting
DESCRIPTION:Columbus day
URL:https://bsatroop354.com/event/no-meeting-2/
END:VEVENT
BEGIN:VEVENT
DTSTART;TZID=America/New_York:20151005T193000
DTEND;TZID=America/New_York:20151005T210000
DTSTAMP:20260420T000457
CREATED:20150814T221709Z
LAST-MODIFIED:20151005T183841Z
UID:145-1444073400-1444078800@bsatroop354.com
SUMMARY:Court of honor
DESCRIPTION:Class A uniforms\, at Clinton \n 
URL:https://bsatroop354.com/event/court-of-honor-2/
END:VEVENT
BEGIN:VEVENT
DTSTART;TZID=America/New_York:20151005T080000
DTEND;TZID=America/New_York:20151005T170000
DTSTAMP:20260420T000457
CREATED:20151005T185312Z
LAST-MODIFIED:20151005T185312Z
UID:167-1444032000-1444064400@bsatroop354.com
SUMMARY:Troop Meeting
DESCRIPTION:Class B uniforms at Clinton
URL:https://bsatroop354.com/event/meeting-9/
END:VEVENT
BEGIN:VEVENT
DTSTART;TZID=America/New_York:20150928T193000
DTEND;TZID=America/New_York:20150928T210000
DTSTAMP:20260420T000457
CREATED:20151114T192651Z
LAST-MODIFIED:20151114T192651Z
UID:380-1443468600-1443474000@bsatroop354.com
SUMMARY:Troop Meeting
DESCRIPTION:Class B uniforms
URL:https://bsatroop354.com/event/troop-meeting-14/
END:VEVENT
BEGIN:VEVENT
DTSTART;TZID=America/New_York:20150921T193000
DTEND;TZID=America/New_York:20150921T210000
DTSTAMP:20260420T000457
CREATED:20151114T192546Z
LAST-MODIFIED:20151114T192546Z
UID:379-1442863800-1442869200@bsatroop354.com
SUMMARY:first Monday night meeting
DESCRIPTION:Class A uniform at the elks lodge in centereach
URL:https://bsatroop354.com/event/first-monday-night-meeting/
END:VEVENT
BEGIN:VEVENT
DTSTART;VALUE=DATE:20150914
DTEND;VALUE=DATE:20150915
DTSTAMP:20260420T000457
CREATED:20151114T192228Z
LAST-MODIFIED:20151114T192228Z
UID:378-1442188800-1442275199@bsatroop354.com
SUMMARY:No Meeting\, Rosh Hashana
DESCRIPTION:
URL:https://bsatroop354.com/event/no-meeting-rosh-hashana/
END:VEVENT
BEGIN:VEVENT
DTSTART;VALUE=DATE:20150907
DTEND;VALUE=DATE:20150908
DTSTAMP:20260420T000457
CREATED:20151114T192110Z
LAST-MODIFIED:20151114T192110Z
UID:377-1441584000-1441670399@bsatroop354.com
SUMMARY:No Meeting\, Labor Day
DESCRIPTION:
URL:https://bsatroop354.com/event/no-meeting-labor-day/
END:VEVENT
BEGIN:VEVENT
DTSTART;TZID=America/New_York:20150801T090000
DTEND;TZID=America/New_York:20150801T090000
DTSTAMP:20260420T000457
CREATED:20150802T162006Z
LAST-MODIFIED:20150802T162006Z
UID:104-1438419600-1438419600@bsatroop354.com
SUMMARY:Sean's Eagle Project
DESCRIPTION:Sean Mattera is working on his Eagle project at Save a Pet on route 112. There are things that boys of all ages can help with\, and food/drinks will be served. Sean would really appreciate the help.
URL:https://bsatroop354.com/event/seans-eagle-project/
END:VEVENT
BEGIN:VEVENT
DTSTART;VALUE=DATE:20150719
DTEND;VALUE=DATE:20150727
DTSTAMP:20260420T000457
CREATED:20151114T191845Z
LAST-MODIFIED:20151114T191845Z
UID:376-1437264000-1437955199@bsatroop354.com
SUMMARY:Yawgoog
DESCRIPTION:
URL:https://bsatroop354.com/event/yawgoog/
END:VEVENT
BEGIN:VEVENT
DTSTART;TZID=America/New_York:20150711T100000
DTEND;TZID=America/New_York:20150711T101500
DTSTAMP:20260420T000457
CREATED:20151114T191645Z
LAST-MODIFIED:20151114T191645Z
UID:375-1436608800-1436609700@bsatroop354.com
SUMMARY:Personal Fitness meeting
DESCRIPTION:Meeting at JFK Middle School to finish the personal fitness merit badge
URL:https://bsatroop354.com/event/personal-fitness-meeting/
END:VEVENT
BEGIN:VEVENT
DTSTART;TZID=America/New_York:20150629T193000
DTEND;TZID=America/New_York:20150629T210000
DTSTAMP:20260420T000457
CREATED:20150802T162646Z
LAST-MODIFIED:20150802T162646Z
UID:105-1435606200-1435611600@bsatroop354.com
SUMMARY:Last Meeting
DESCRIPTION:Last meeting before September. Parents should prepare to see their kids receive awards and badges at the new elks lodge in Centereach (41 Horseblock rd)  Class A unforms
URL:https://bsatroop354.com/event/last-meeting/
END:VEVENT
BEGIN:VEVENT
DTSTART;TZID=America/New_York:20150622T193000
DTEND;TZID=America/New_York:20150622T210000
DTSTAMP:20260420T000457
CREATED:20150802T162923Z
LAST-MODIFIED:20150802T162923Z
UID:106-1435001400-1435006800@bsatroop354.com
SUMMARY:Troop Meeting
DESCRIPTION:Meeting at Clinton Elementary School to go over advancements before next week’s court of honor. Class B uniforms
URL:https://bsatroop354.com/event/meeting/
END:VEVENT
BEGIN:VEVENT
DTSTART;TZID=America/New_York:20150615T193000
DTEND;TZID=America/New_York:20150615T210000
DTSTAMP:20260420T000457
CREATED:20150802T163113Z
LAST-MODIFIED:20150802T163113Z
UID:107-1434396600-1434402000@bsatroop354.com
SUMMARY:Yawgoog Night
DESCRIPTION:Meeting at Clinton Elementary School to review plans for Summer camp. Class B uniforms
URL:https://bsatroop354.com/event/yawgoog-night/
END:VEVENT
BEGIN:VEVENT
DTSTART;TZID=America/New_York:20150614T133000
DTEND;TZID=America/New_York:20150614T150000
DTSTAMP:20260420T000457
CREATED:20150802T163453Z
LAST-MODIFIED:20150802T163453Z
UID:108-1434288600-1434294000@bsatroop354.com
SUMMARY:Flag Ceremony
DESCRIPTION:We will have our annual Flag Day ceremony at the Atria (assisted living facility) on 347 and it will last about an hour. Class A uniforms
URL:https://bsatroop354.com/event/flag-ceremony/
END:VEVENT
BEGIN:VEVENT
DTSTART;TZID=America/New_York:20150612T183000
DTEND;TZID=America/New_York:20150612T200000
DTSTAMP:20260420T000457
CREATED:20150802T163905Z
LAST-MODIFIED:20150802T163905Z
UID:110-1434133800-1434139200@bsatroop354.com
SUMMARY:Ceremony
DESCRIPTION:Pack 354 is having their annual Flag Retirement Ceremony at Comsewogue High School. Class A uniforms
URL:https://bsatroop354.com/event/ceremony/
END:VEVENT
BEGIN:VEVENT
DTSTART;TZID=America/New_York:20150608T193000
DTEND;TZID=America/New_York:20150608T210000
DTSTAMP:20260420T000457
CREATED:20150802T195737Z
LAST-MODIFIED:20150802T195737Z
UID:111-1433791800-1433797200@bsatroop354.com
SUMMARY:Troop Meeting
DESCRIPTION:at Clinton Elementary School. Class B uniforms
URL:https://bsatroop354.com/event/meeting-2/
END:VEVENT
BEGIN:VEVENT
DTSTART;TZID=America/New_York:20150601T193000
DTEND;TZID=America/New_York:20150601T210000
DTSTAMP:20260420T000457
CREATED:20150802T195915Z
LAST-MODIFIED:20150802T195915Z
UID:112-1433187000-1433192400@bsatroop354.com
SUMMARY:Troop Meeting
DESCRIPTION:at Clinton Elementary School. Class B uniforms
URL:https://bsatroop354.com/event/meeting-3/
END:VEVENT
BEGIN:VEVENT
DTSTART;TZID=America/New_York:20150531T123000
DTEND;TZID=America/New_York:20150531T160000
DTSTAMP:20260420T000457
CREATED:20151114T190403Z
LAST-MODIFIED:20151114T190403Z
UID:373-1433075400-1433088000@bsatroop354.com
SUMMARY:Eagle Court of Honor
DESCRIPTION:This is the eagle scout Court of Honor for Brandon Behrens and Matthew O’Shaughnessy. \nWill be held at the main firehouse on Jayne blvd.
URL:https://bsatroop354.com/event/eagle-court-of-honor-4/
END:VEVENT
BEGIN:VEVENT
DTSTART;TZID=America/New_York:20150530T083000
DTEND;TZID=America/New_York:20150530T103000
DTSTAMP:20260420T000457
CREATED:20151114T190150Z
LAST-MODIFIED:20151114T190150Z
UID:372-1432974600-1432981800@bsatroop354.com
SUMMARY:Calverton flag Pickup
DESCRIPTION:We will be picking up the flags placed on the graves at Calverton national cemetery
URL:https://bsatroop354.com/event/calverton-flag-pickup/
END:VEVENT
BEGIN:VEVENT
DTSTART;VALUE=DATE:20150525
DTEND;VALUE=DATE:20150526
DTSTAMP:20260420T000457
CREATED:20151114T190003Z
LAST-MODIFIED:20151114T190003Z
UID:371-1432512000-1432598399@bsatroop354.com
SUMMARY:No Meeting Memorial day
DESCRIPTION:
URL:https://bsatroop354.com/event/no-meeting-memorial-day/
END:VEVENT
BEGIN:VEVENT
DTSTART;TZID=America/New_York:20150523T083000
DTEND;TZID=America/New_York:20150523T103000
DTSTAMP:20260420T000457
CREATED:20151114T185930Z
LAST-MODIFIED:20151114T185930Z
UID:370-1432369800-1432377000@bsatroop354.com
SUMMARY:Calverton Flag Placement
DESCRIPTION:We will be placing flags down on the graves in Calverton national cemetery \nArea #24
URL:https://bsatroop354.com/event/calverton-flag-placement/
END:VEVENT
BEGIN:VEVENT
DTSTART;TZID=America/New_York:20150518T193000
DTEND;TZID=America/New_York:20150518T210000
DTSTAMP:20260420T000457
CREATED:20151114T185712Z
LAST-MODIFIED:20151114T185712Z
UID:369-1431977400-1431982800@bsatroop354.com
SUMMARY:Troop Meeting GAME NIGHT
DESCRIPTION:This is a day when the boys can have some fun. They can play in the gym or bring a game so the boys can play together.
URL:https://bsatroop354.com/event/troop-meeting-game-night/
END:VEVENT
BEGIN:VEVENT
DTSTART;TZID=America/New_York:20150516T090000
DTEND;TZID=America/New_York:20150516T120000
DTSTAMP:20260420T000457
CREATED:20150515T193334Z
LAST-MODIFIED:20150515T193334Z
UID:90-1431766800-1431777600@bsatroop354.com
SUMMARY:Washington Ave. Park Cleanup
DESCRIPTION:The Enjoy Life Project is sponsoring an event to clean up Washington Avenue Park in Port Jefferson Station\, from 9:00 am to Noon on This Saturday morning 5/16/15.  A flier is attached.  If you have some time\, please stop by and help with the cleanup for a while.  Wear your class B tee-shirts so everyone knows who you are there with.  I will be away that weekend\, so please let Christina Grimes know you are there so she can keep track of who showed up to help.  Also\, please let Christina know if you are planning to attend ( cgrimes1213@optonline.net\, or Dina Simoes at 631-331-2675 ).  They need to know about how many will be there to help. This is a park in our own community\, so let’s stop by and help out for a little while.
URL:https://bsatroop354.com/event/washington-ave-park-cleanup/
END:VEVENT
END:VCALENDAR