BEGIN:VCALENDAR
VERSION:2.0
PRODID:-//Port Jefferson Station - BSA Troop 354 - ECPv6.2.3.2//NONSGML v1.0//EN
CALSCALE:GREGORIAN
METHOD:PUBLISH
X-WR-CALNAME:Port Jefferson Station - BSA Troop 354
X-ORIGINAL-URL:https://bsatroop354.com
X-WR-CALDESC:Events for Port Jefferson Station - BSA Troop 354
REFRESH-INTERVAL;VALUE=DURATION:PT1H
X-Robots-Tag:noindex
X-PUBLISHED-TTL:PT1H
BEGIN:VTIMEZONE
TZID:America/New_York
BEGIN:DAYLIGHT
TZOFFSETFROM:-0500
TZOFFSETTO:-0400
TZNAME:EDT
DTSTART:20220313T070000
END:DAYLIGHT
BEGIN:STANDARD
TZOFFSETFROM:-0400
TZOFFSETTO:-0500
TZNAME:EST
DTSTART:20221106T060000
END:STANDARD
END:VTIMEZONE
BEGIN:VEVENT
DTSTART;TZID=America/New_York:20220319T080000
DTEND;TZID=America/New_York:20220319T100000
DTSTAMP:20260419T093428
CREATED:20220121T172418Z
LAST-MODIFIED:20220121T173621Z
UID:3708-1647676800-1647684000@bsatroop354.com
SUMMARY:Applebees Troop Fundraiser
DESCRIPTION:Our Applebee’s Pancake Breakfast is BACK! \nTickets & Date– A flier with all the information is attached\, please start selling tickets for this event\, we need to guarantee 100 people. \nBoys will earn between $5.00-$6.00 per ticket sold. \nPlease have your guest pay you up front to reserve their seats. Checks made payable to “BSA Troop 354” \nPlease print and fill out the attached order form and return with full payment to Liz Roder by March 4th.  \nPurchased tickets will be at the front door day of the event.  Your guest will give your scout’s name\, we will seat them and give them their tickets for breakfast. \nWe will have a very limited amount of tickets at the door this year\, so PLEASE have your guest purchase tickets ahead of time. \nHelpers–  Our event is a Scout/Parent run event!  We will need plenty of help that day!  We will need Kitchen Expeditors\, Servers\, Bussers\, Help Selling of Raffle tickets\, Seaters and people to help clean up.  Only thing we don’t do is Cook!  Boys can help just not in the kitchen. \nAnyone attending\, whether they are helpers or not will need tickets. \nBoys should wear Class B shirts. \nIt will be a great day\, with plenty of fun to be had!  Let’s support our Boys & Troop by getting those tickets sold and our raffle baskets donated. \nSupporting Files: 1) Donation Letter 2) Applebees Flier 3) Breakfast Order Form
URL:https://bsatroop354.com/event/applebees-troop-fundraiser-2/
LOCATION:Applebee’s\, 355 NY-25A\, Miller Place\, 11764\, United States
END:VEVENT
END:VCALENDAR