BEGIN:VCALENDAR
VERSION:2.0
PRODID:-//Port Jefferson Station - BSA Troop 354 - ECPv6.2.3.2//NONSGML v1.0//EN
CALSCALE:GREGORIAN
METHOD:PUBLISH
X-WR-CALNAME:Port Jefferson Station - BSA Troop 354
X-ORIGINAL-URL:https://bsatroop354.com
X-WR-CALDESC:Events for Port Jefferson Station - BSA Troop 354
REFRESH-INTERVAL;VALUE=DURATION:PT1H
X-Robots-Tag:noindex
X-PUBLISHED-TTL:PT1H
BEGIN:VTIMEZONE
TZID:America/New_York
BEGIN:DAYLIGHT
TZOFFSETFROM:-0500
TZOFFSETTO:-0400
TZNAME:EDT
DTSTART:20210314T070000
END:DAYLIGHT
BEGIN:STANDARD
TZOFFSETFROM:-0400
TZOFFSETTO:-0500
TZNAME:EST
DTSTART:20211107T060000
END:STANDARD
END:VTIMEZONE
BEGIN:VEVENT
DTSTART;VALUE=DATE:20211113
DTEND;VALUE=DATE:20211115
DTSTAMP:20260419T164643
CREATED:20211018T145350Z
LAST-MODIFIED:20211018T145350Z
UID:3607-1636761600-1636934399@bsatroop354.com
SUMMARY:Holiday Wreath Distribution
DESCRIPTION:The exact date and times for this are not fixed yet.  We will let you know.
URL:https://bsatroop354.com/event/holiday-wreath-distribution/
END:VEVENT
BEGIN:VEVENT
DTSTART;TZID=America/New_York:20211113T060000
DTEND;TZID=America/New_York:20211114T140000
DTSTAMP:20260419T164643
CREATED:20210927T155407Z
LAST-MODIFIED:20211018T145259Z
UID:3578-1636783200-1636898400@bsatroop354.com
SUMMARY:Backpacking Trip
DESCRIPTION:This is a backpacking trip up at Harriman State park\, NY.  The boys have to carry everything with them in their backpacks. \nThey have to plan their own meals\, do their own shopping\, and carry everything in and out with them. \nThey divide up into teams and share the load among the team for carrying the tent\, stoves\, pots\, and food. \nThis is not necessarily a campout for the younger and smaller boys\, although if a boy wants to go\, we will work with them.
URL:https://bsatroop354.com/event/backpacking-trip-8/
END:VEVENT
END:VCALENDAR