BEGIN:VCALENDAR
VERSION:2.0
PRODID:-//Port Jefferson Station - BSA Troop 354 - ECPv6.2.3.2//NONSGML v1.0//EN
CALSCALE:GREGORIAN
METHOD:PUBLISH
X-ORIGINAL-URL:https://bsatroop354.com
X-WR-CALDESC:Events for Port Jefferson Station - BSA Troop 354
REFRESH-INTERVAL;VALUE=DURATION:PT1H
X-Robots-Tag:noindex
X-PUBLISHED-TTL:PT1H
BEGIN:VTIMEZONE
TZID:America/New_York
BEGIN:DAYLIGHT
TZOFFSETFROM:-0500
TZOFFSETTO:-0400
TZNAME:EDT
DTSTART:20210314T070000
END:DAYLIGHT
BEGIN:STANDARD
TZOFFSETFROM:-0400
TZOFFSETTO:-0500
TZNAME:EST
DTSTART:20211107T060000
END:STANDARD
END:VTIMEZONE
BEGIN:VEVENT
DTSTART;VALUE=DATE:20211001
DTEND;VALUE=DATE:20211026
DTSTAMP:20260419T182754
CREATED:20211005T143800Z
LAST-MODIFIED:20211005T143825Z
UID:3591-1633046400-1635206399@bsatroop354.com
SUMMARY:Holiday Evergreen Fundraiser
DESCRIPTION:We are trying a new fundraiser this year.  It is a holiday wreath and decorations fundraiser. \nLast night we handed out the packets.  Below is a flier explaining the details. \nHoliday (PDF)
URL:https://bsatroop354.com/event/holiday-evergreen-fundraiser/
END:VEVENT
BEGIN:VEVENT
DTSTART;TZID=America/New_York:20211018T193000
DTEND;TZID=America/New_York:20211018T210000
DTSTAMP:20260419T182754
CREATED:20210912T183505Z
LAST-MODIFIED:20211018T144847Z
UID:3566-1634585400-1634590800@bsatroop354.com
SUMMARY:Troop Meeting
DESCRIPTION:This meeting will be at Norwood Ave School\, 7:30 to 9:00 pm\, Class B uniforms. \nWe will be finishing up Collections MB if you haven’t already. \nWe can start Athletics MB if there is an interest in it. \nContinuing with Advancement\, and signing off on requirements satisfied on the camping trip.
URL:https://bsatroop354.com/event/troop-meeting-135/
LOCATION:Norwood Avenue School\, 290 Norwood Ave\, Port Jefferson Station\, NY\, 11776
END:VEVENT
END:VCALENDAR