BEGIN:VCALENDAR
VERSION:2.0
PRODID:-//Port Jefferson Station - BSA Troop 354 - ECPv6.2.3.2//NONSGML v1.0//EN
CALSCALE:GREGORIAN
METHOD:PUBLISH
X-ORIGINAL-URL:https://bsatroop354.com
X-WR-CALDESC:Events for Port Jefferson Station - BSA Troop 354
REFRESH-INTERVAL;VALUE=DURATION:PT1H
X-Robots-Tag:noindex
X-PUBLISHED-TTL:PT1H
BEGIN:VTIMEZONE
TZID:America/New_York
BEGIN:DAYLIGHT
TZOFFSETFROM:-0500
TZOFFSETTO:-0400
TZNAME:EDT
DTSTART:20210314T070000
END:DAYLIGHT
BEGIN:STANDARD
TZOFFSETFROM:-0400
TZOFFSETTO:-0500
TZNAME:EST
DTSTART:20211107T060000
END:STANDARD
END:VTIMEZONE
BEGIN:VEVENT
DTSTART;VALUE=DATE:20211001
DTEND;VALUE=DATE:20211026
DTSTAMP:20260419T182754
CREATED:20211005T143800Z
LAST-MODIFIED:20211005T143825Z
UID:3591-1633046400-1635206399@bsatroop354.com
SUMMARY:Holiday Evergreen Fundraiser
DESCRIPTION:We are trying a new fundraiser this year.  It is a holiday wreath and decorations fundraiser. \nLast night we handed out the packets.  Below is a flier explaining the details. \nHoliday (PDF)
URL:https://bsatroop354.com/event/holiday-evergreen-fundraiser/
END:VEVENT
BEGIN:VEVENT
DTSTART;TZID=America/New_York:20211002T090000
DTEND;TZID=America/New_York:20211003T130000
DTSTAMP:20260419T182754
CREATED:20210927T154710Z
LAST-MODIFIED:20210930T142308Z
UID:3572-1633165200-1633266000@bsatroop354.com
SUMMARY:Bike Campout at Cathedral Pines
DESCRIPTION:I received the confirmation for camping at Cathedral Pines. \nWe will be in the youth area 7\, all the way to the right when you get into the park. \nI attached a map to this email. \nDirections to Cathedral Pines \nCamp site Map
URL:https://bsatroop354.com/event/bike-campout-at-cathedral-pines/
END:VEVENT
BEGIN:VEVENT
DTSTART;TZID=America/New_York:20211003T100000
DTEND;TZID=America/New_York:20211003T120000
DTSTAMP:20260419T182754
CREATED:20210927T154932Z
LAST-MODIFIED:20210930T141930Z
UID:3574-1633255200-1633262400@bsatroop354.com
SUMMARY:Mums Pickup
DESCRIPTION:The Mums pickup is this Sunday morning between 10:00 am and 12:00 noon at the Norwood Avenue Elementary school.  If you can’t make that please let us know\, and we can try and work something out.  We have a lot of plants to sort out for the orders\, so please be patient.  We should have them sorted before you get there\, but we are not going to release any orders until they are all sorted out to make sure they are all correct.  Liz’s phone number is 631-974-2968\, and if you text her\, make sure you give your name.  I will be there later in the morning with the trailer to help transport the flowers if needed. \nThe delivery of the mums is 7:00 am that Sunday morning\, and there will be approximately 700 plants to sort out.  So that is a lot of plants\, and we need some help sorting out the orders.  I will be on the camping trip\, so I can’t be there early in the morning to help out.  We need some people to come down and help Liz sort the orders.  This counts as community service for the boys.  Please do what you can to help Liz that morning.
URL:https://bsatroop354.com/event/mums-pickup-2/
LOCATION:Norwood Avenue School\, 290 Norwood Ave\, Port Jefferson Station\, NY\, 11776
END:VEVENT
END:VCALENDAR