BEGIN:VCALENDAR
VERSION:2.0
PRODID:-//Port Jefferson Station - BSA Troop 354 - ECPv6.2.3.2//NONSGML v1.0//EN
CALSCALE:GREGORIAN
METHOD:PUBLISH
X-WR-CALNAME:Port Jefferson Station - BSA Troop 354
X-ORIGINAL-URL:https://bsatroop354.com
X-WR-CALDESC:Events for Port Jefferson Station - BSA Troop 354
REFRESH-INTERVAL;VALUE=DURATION:PT1H
X-Robots-Tag:noindex
X-PUBLISHED-TTL:PT1H
BEGIN:VTIMEZONE
TZID:America/New_York
BEGIN:DAYLIGHT
TZOFFSETFROM:-0500
TZOFFSETTO:-0400
TZNAME:EDT
DTSTART:20210314T070000
END:DAYLIGHT
BEGIN:STANDARD
TZOFFSETFROM:-0400
TZOFFSETTO:-0500
TZNAME:EST
DTSTART:20211107T060000
END:STANDARD
END:VTIMEZONE
BEGIN:VEVENT
DTSTART;TZID=America/New_York:20210927T193000
DTEND;TZID=America/New_York:20210927T210000
DTSTAMP:20260419T182730
CREATED:20210912T183354Z
LAST-MODIFIED:20210927T154346Z
UID:3562-1632771000-1632776400@bsatroop354.com
SUMMARY:Troop Meeting
DESCRIPTION:This meeting will be at Norwood Ave School\, 7:30 to 9:00 pm\, Class B uniforms. \nWe will be doing what we can for Collections Merit badge so bring your work. \nWe will also be working on advancement to get done what we can before the COH on 10/4.
URL:https://bsatroop354.com/event/troop-meeting-134/
LOCATION:Norwood Avenue School\, 290 Norwood Ave\, Port Jefferson Station\, NY\, 11776
END:VEVENT
END:VCALENDAR