BEGIN:VCALENDAR
VERSION:2.0
PRODID:-//Port Jefferson Station - BSA Troop 354 - ECPv6.2.3.2//NONSGML v1.0//EN
CALSCALE:GREGORIAN
METHOD:PUBLISH
X-ORIGINAL-URL:https://bsatroop354.com
X-WR-CALDESC:Events for Port Jefferson Station - BSA Troop 354
REFRESH-INTERVAL;VALUE=DURATION:PT1H
X-Robots-Tag:noindex
X-PUBLISHED-TTL:PT1H
BEGIN:VTIMEZONE
TZID:America/New_York
BEGIN:DAYLIGHT
TZOFFSETFROM:-0500
TZOFFSETTO:-0400
TZNAME:EDT
DTSTART:20210314T070000
END:DAYLIGHT
BEGIN:STANDARD
TZOFFSETFROM:-0400
TZOFFSETTO:-0500
TZNAME:EST
DTSTART:20211107T060000
END:STANDARD
END:VTIMEZONE
BEGIN:VEVENT
DTSTART;TZID=America/New_York:20210913T193000
DTEND;TZID=America/New_York:20210913T210000
DTSTAMP:20260419T200640
CREATED:20210819T143850Z
LAST-MODIFIED:20210819T143850Z
UID:3555-1631561400-1631566800@bsatroop354.com
SUMMARY:Troop Meeting
DESCRIPTION:This is the first meeting of the fall\, 7:30 to 9:00 pm\, Class B uniforms. \nIt will either be at the school\, or at the Elks lodge\, I will let you know when I confirm it. \nPlease bring the Mums Totals order forms with you and the money for the orders. \nPlease bring any blue cards that you earned over the summer.
URL:https://bsatroop354.com/event/troop-meeting-132/
END:VEVENT
END:VCALENDAR