BEGIN:VCALENDAR
VERSION:2.0
PRODID:-//Port Jefferson Station - BSA Troop 354 - ECPv6.2.3.2//NONSGML v1.0//EN
CALSCALE:GREGORIAN
METHOD:PUBLISH
X-ORIGINAL-URL:https://bsatroop354.com
X-WR-CALDESC:Events for Port Jefferson Station - BSA Troop 354
REFRESH-INTERVAL;VALUE=DURATION:PT1H
X-Robots-Tag:noindex
X-PUBLISHED-TTL:PT1H
BEGIN:VTIMEZONE
TZID:America/New_York
BEGIN:DAYLIGHT
TZOFFSETFROM:-0500
TZOFFSETTO:-0400
TZNAME:EDT
DTSTART:20210314T070000
END:DAYLIGHT
BEGIN:STANDARD
TZOFFSETFROM:-0400
TZOFFSETTO:-0500
TZNAME:EST
DTSTART:20211107T060000
END:STANDARD
END:VTIMEZONE
BEGIN:VEVENT
DTSTART;TZID=America/New_York:20210718T120000
DTEND;TZID=America/New_York:20210724T150000
DTSTAMP:20260419T235037
CREATED:20210312T152624Z
LAST-MODIFIED:20210413T150650Z
UID:3337-1626609600-1627138800@bsatroop354.com
SUMMARY:Yawgoog
DESCRIPTION:Concerning Covid-19\, youth must have proof of a negative Covid-19 test at least 72 hours before arriving at camp\, and they are expected to self-isolate for that 72 hours after the test.\nConcerning Covid-19\, adults must have either proof of vaccination\, or proof of a negative Covid-19 test at least 72 hours before arriving at camp\, and they are expected to self-isolate for that 72 hours after the test.\nOur money is safe.  If anyone has to back out of going to camp because of Covid-19\, they will receive a full refund.\nI’m not sure about what ferry we are taking to go to camp yet.  Probably the same one which is a 2:00 pm out of Orient Point.  They are saying arrival on Sunday will be staggered to allow for keeping separate.\nBut we are going home on Saturday\, not Sunday.\nSo the dates for Yawgoog this year are Sunday 7/18/21 to Saturday 7/24/21\nNo dress parade.\nWelcome campfire may be on the Tim O’Neil field.\nFor now\, the Friday night show will be on the Tim O’Neil field.\nThe swim carnival is going to be Saturday morning.\nMany merit badge classes will be outside to allow for social distancing.\nThey recommend bringing your own chairs to things such as gatherings\, and merit badge classes.\nMerit badge classes will run Monday to Friday  For the boys\, it means we are going to have to prepare earlier for what you are preparing to do so we can make up our schedules.\nNo individual pictures\, but there are still group pictures.  No Tuesday or Sunday Barbeque\nThe staff’s day off is Saturday 10 am to Sunday 10 am\nSinging and cheers will not be allowed during meals\, and the program in the dining hall will be limited.
URL:https://bsatroop354.com/event/yawgoog-5/
END:VEVENT
END:VCALENDAR