BEGIN:VCALENDAR
VERSION:2.0
PRODID:-//Port Jefferson Station - BSA Troop 354 - ECPv6.2.3.2//NONSGML v1.0//EN
CALSCALE:GREGORIAN
METHOD:PUBLISH
X-ORIGINAL-URL:https://bsatroop354.com
X-WR-CALDESC:Events for Port Jefferson Station - BSA Troop 354
REFRESH-INTERVAL;VALUE=DURATION:PT1H
X-Robots-Tag:noindex
X-PUBLISHED-TTL:PT1H
BEGIN:VTIMEZONE
TZID:America/New_York
BEGIN:DAYLIGHT
TZOFFSETFROM:-0500
TZOFFSETTO:-0400
TZNAME:EDT
DTSTART:20210314T070000
END:DAYLIGHT
BEGIN:STANDARD
TZOFFSETFROM:-0400
TZOFFSETTO:-0500
TZNAME:EST
DTSTART:20211107T060000
END:STANDARD
END:VTIMEZONE
BEGIN:VEVENT
DTSTART;TZID=America/New_York:20210706T193000
DTEND;TZID=America/New_York:20210706T210000
DTSTAMP:20260419T234959
CREATED:20210608T143111Z
LAST-MODIFIED:20210608T143111Z
UID:3470-1625599800-1625605200@bsatroop354.com
SUMMARY:Yawgoog Night
DESCRIPTION:This is a night for those boys and parents new to Summer Camp to get an idea of what they need for camp. \nWe will go over everything and all questions answered. \n7:30 pm at the Elks lodge in Centereach\, 41 Horseblock Road.  No uniforms necessary.
URL:https://bsatroop354.com/event/yawgoog-night-3/
LOCATION:Elk’s Lodge\, 41 Horseblock Road\, Centereach\, NY\, 11720\, United States
END:VEVENT
END:VCALENDAR