BEGIN:VCALENDAR
VERSION:2.0
PRODID:-//Port Jefferson Station - BSA Troop 354 - ECPv6.2.3.2//NONSGML v1.0//EN
CALSCALE:GREGORIAN
METHOD:PUBLISH
X-WR-CALNAME:Port Jefferson Station - BSA Troop 354
X-ORIGINAL-URL:https://bsatroop354.com
X-WR-CALDESC:Events for Port Jefferson Station - BSA Troop 354
REFRESH-INTERVAL;VALUE=DURATION:PT1H
X-Robots-Tag:noindex
X-PUBLISHED-TTL:PT1H
BEGIN:VTIMEZONE
TZID:America/New_York
BEGIN:DAYLIGHT
TZOFFSETFROM:-0500
TZOFFSETTO:-0400
TZNAME:EDT
DTSTART:20210314T070000
END:DAYLIGHT
BEGIN:STANDARD
TZOFFSETFROM:-0400
TZOFFSETTO:-0500
TZNAME:EST
DTSTART:20211107T060000
END:STANDARD
END:VTIMEZONE
BEGIN:VEVENT
DTSTART;TZID=America/New_York:20210613T133000
DTEND;TZID=America/New_York:20210613T153000
DTSTAMP:20260420T014912
CREATED:20210602T135439Z
LAST-MODIFIED:20210602T135439Z
UID:3460-1623591000-1623598200@bsatroop354.com
SUMMARY:Flag Day Ceremony
DESCRIPTION:We are supporting the Elks this year for a flag day ceremony at a facility by the Lake Grove Mall. \nThere will be a separate email about this.  We don’t need the whole troop\, maybe 6 to 10 boys\, Class A uniforms. \nIt will be at 1:30 pm in the afternoon\, and probably last till 3:00 or 3:30 pm. \nThis does count as community service for rank advancement for the boys.
URL:https://bsatroop354.com/event/flag-day-ceremony/
END:VEVENT
END:VCALENDAR