BEGIN:VCALENDAR
VERSION:2.0
PRODID:-//Port Jefferson Station - BSA Troop 354 - ECPv6.2.3.2//NONSGML v1.0//EN
CALSCALE:GREGORIAN
METHOD:PUBLISH
X-WR-CALNAME:Port Jefferson Station - BSA Troop 354
X-ORIGINAL-URL:https://bsatroop354.com
X-WR-CALDESC:Events for Port Jefferson Station - BSA Troop 354
REFRESH-INTERVAL;VALUE=DURATION:PT1H
X-Robots-Tag:noindex
X-PUBLISHED-TTL:PT1H
BEGIN:VTIMEZONE
TZID:America/New_York
BEGIN:DAYLIGHT
TZOFFSETFROM:-0500
TZOFFSETTO:-0400
TZNAME:EDT
DTSTART:20210314T070000
END:DAYLIGHT
BEGIN:STANDARD
TZOFFSETFROM:-0400
TZOFFSETTO:-0500
TZNAME:EST
DTSTART:20211107T060000
END:STANDARD
END:VTIMEZONE
BEGIN:VEVENT
DTSTART;TZID=America/New_York:20210515T100000
DTEND;TZID=America/New_York:20210515T160000
DTSTAMP:20260420T034632
CREATED:20210413T150315Z
LAST-MODIFIED:20210413T150315Z
UID:3391-1621072800-1621094400@bsatroop354.com
SUMMARY:Cuboree at Baiting Hallow
DESCRIPTION:This is a Suffolk County Council Cub Scout Recruiting event and they need help running stations for prospective cub scouts. \nThis is from 10:00 am to 4:00 pm\, and we will be helping them run a station or two. \nI will be looking for volunteers when it get closer to this event\, but please put it on your calendars for the boys. \nThis counts as community service for rank advancement for the boys.
URL:https://bsatroop354.com/event/cuboree-at-baiting-hallow/
LOCATION:Baiting Hollow Scout Camp\, 1774 Sound Ave\, Calverton\, 11933\, United States
END:VEVENT
END:VCALENDAR