BEGIN:VCALENDAR
VERSION:2.0
PRODID:-//Port Jefferson Station - BSA Troop 354 - ECPv6.2.3.2//NONSGML v1.0//EN
CALSCALE:GREGORIAN
METHOD:PUBLISH
X-WR-CALNAME:Port Jefferson Station - BSA Troop 354
X-ORIGINAL-URL:https://bsatroop354.com
X-WR-CALDESC:Events for Port Jefferson Station - BSA Troop 354
REFRESH-INTERVAL;VALUE=DURATION:PT1H
X-Robots-Tag:noindex
X-PUBLISHED-TTL:PT1H
BEGIN:VTIMEZONE
TZID:America/New_York
BEGIN:DAYLIGHT
TZOFFSETFROM:-0500
TZOFFSETTO:-0400
TZNAME:EDT
DTSTART:20210314T070000
END:DAYLIGHT
BEGIN:STANDARD
TZOFFSETFROM:-0400
TZOFFSETTO:-0500
TZNAME:EST
DTSTART:20211107T060000
END:STANDARD
END:VTIMEZONE
BEGIN:VEVENT
DTSTART;TZID=America/New_York:20210424T090000
DTEND;TZID=America/New_York:20210424T130000
DTSTAMP:20260420T053942
CREATED:20210403T163711Z
LAST-MODIFIED:20210403T163711Z
UID:3360-1619254800-1619269200@bsatroop354.com
SUMMARY:In-person Merit Badge Workshop
DESCRIPTION:Join us April 10th and April 24th for \nIn-Person Merit Badge Workshops at \nSchiff Scout Reservation \n1606 Wading River Manor Rd\, Wading River NY 11792 \n  \nSaturday April 10th\, 2021: Indian Lore or Search & Rescue \nSaturday April 24th\, 2021: Space Exploration or Geocaching \n  \nClasses Run from 9:00am – 1:00pm  \nClasses are limited to 30 Scouts per class. \nCost varies per badge\, badges starting at $35 \n  \nRegistration will open on Monday\, April 5th at 10am \nIf you have any questions or concerns please contact Rob Wolf or Dave Swartz \n  \nFor more information and to register click the button below!\n\n\n\n  \n\n\n\n\n\n\n\n\n\n\n\nClick Here for More Info & to Register
URL:https://bsatroop354.com/event/in-person-merit-badge-workshop-2/
END:VEVENT
BEGIN:VEVENT
DTSTART;TZID=America/New_York:20210424T120000
DTEND;TZID=America/New_York:20210424T143000
DTSTAMP:20260420T053942
CREATED:20210415T151012Z
LAST-MODIFIED:20210421T165304Z
UID:3396-1619265600-1619274600@bsatroop354.com
SUMMARY:Sculpture Merit Badge
DESCRIPTION:Mr. Reed has graciously agreed to run a Sculpture Merit badge session on Saturday April 24th.  It will be at the Long Island Art and Carriage House Museum in Stony Brook.  The boys will be completing the merit badge all on this day.  The time will be arranged later\, but it will be late morning and lunch time.  The boys will be touring the sculptures at the facility\, and will also have time to create their own sculptures with some clay.  We will be serving some soda and pizza for lunch.  The cost will be $10.00 per boy.  Again\, I will give you the exact times when we have settled on them.  Please put it on your calendar for those boys that don’t have the badge. \nDirections; Take Nicolls Road all the way north to the end which is 25A.  Make a left\, and go to the end\, about a mile\, make a left and quick right and the office is right there. \nR
URL:https://bsatroop354.com/event/sculpture-merit-badge-2/
END:VEVENT
END:VCALENDAR