BEGIN:VCALENDAR
VERSION:2.0
PRODID:-//Port Jefferson Station - BSA Troop 354 - ECPv6.2.3.2//NONSGML v1.0//EN
CALSCALE:GREGORIAN
METHOD:PUBLISH
X-WR-CALNAME:Port Jefferson Station - BSA Troop 354
X-ORIGINAL-URL:https://bsatroop354.com
X-WR-CALDESC:Events for Port Jefferson Station - BSA Troop 354
REFRESH-INTERVAL;VALUE=DURATION:PT1H
X-Robots-Tag:noindex
X-PUBLISHED-TTL:PT1H
BEGIN:VTIMEZONE
TZID:America/New_York
BEGIN:DAYLIGHT
TZOFFSETFROM:-0500
TZOFFSETTO:-0400
TZNAME:EDT
DTSTART:20210314T070000
END:DAYLIGHT
BEGIN:STANDARD
TZOFFSETFROM:-0400
TZOFFSETTO:-0500
TZNAME:EST
DTSTART:20211107T060000
END:STANDARD
END:VTIMEZONE
BEGIN:VEVENT
DTSTART;TZID=America/New_York:20210418T100000
DTEND;TZID=America/New_York:20210418T133000
DTSTAMP:20260420T053942
CREATED:20210406T160125Z
LAST-MODIFIED:20210413T145803Z
UID:3364-1618740000-1618752600@bsatroop354.com
SUMMARY:Pine Barrens Hike
DESCRIPTION:The weather looks OK for this weekend right now.  I was checking out the hike this past Saturday\, and the start of the hike is in a small parking lot on the south side of 25A\, just after J&R Steak house in Rocky Point\, and just before the Stop and Shop.  Those two shops are on the north side (left)\, but the parking lot is on the south side.  The sign for the parking lot is set back from the road.  You don’t see it until you are right on top of it\, so slow down just before Stop and Shop.  I’m guessing 3 to 4 hours to do the hike.  The pickup point is on Whiskey Road.  From the drop off point\, you go a little further on 25A and make a right at the light at Rocky Point Yaphank Road.  You go south on that for a couple of miles\, and make a left on Whiskey Road (there is a traffic light there).  The pickup point is about a mile down the road on the left hand side.  You will see my truck there (dark grey Tahoe).  If we get a lot of boys\, we will need you to pick them up.  But if we have enough cars we will transport them back to the high school.  This is a long walk so please make sure the boys are wearing comfortable shoes\, and have them bring something to drink. \n  \nMap (PDF): PineBarrensRockyPtToRidge_wnotes
URL:https://bsatroop354.com/event/pine-barrens-hike-2/
END:VEVENT
END:VCALENDAR