BEGIN:VCALENDAR
VERSION:2.0
PRODID:-//Port Jefferson Station - BSA Troop 354 - ECPv6.2.3.2//NONSGML v1.0//EN
CALSCALE:GREGORIAN
METHOD:PUBLISH
X-ORIGINAL-URL:https://bsatroop354.com
X-WR-CALDESC:Events for Port Jefferson Station - BSA Troop 354
REFRESH-INTERVAL;VALUE=DURATION:PT1H
X-Robots-Tag:noindex
X-PUBLISHED-TTL:PT1H
BEGIN:VTIMEZONE
TZID:America/New_York
BEGIN:DAYLIGHT
TZOFFSETFROM:-0500
TZOFFSETTO:-0400
TZNAME:EDT
DTSTART:20210314T070000
END:DAYLIGHT
BEGIN:STANDARD
TZOFFSETFROM:-0400
TZOFFSETTO:-0500
TZNAME:EST
DTSTART:20211107T060000
END:STANDARD
END:VTIMEZONE
BEGIN:VEVENT
DTSTART;TZID=America/New_York:20210410T090000
DTEND;TZID=America/New_York:20210410T130000
DTSTAMP:20260420T054003
CREATED:20210403T163532Z
LAST-MODIFIED:20210403T163532Z
UID:3358-1618045200-1618059600@bsatroop354.com
SUMMARY:In-person Merit Badge Workshop
DESCRIPTION:Join us April 10th and April 24th for \nIn-Person Merit Badge Workshops at \nSchiff Scout Reservation \n1606 Wading River Manor Rd\, Wading River NY 11792 \n  \nSaturday April 10th\, 2021: Indian Lore or Search & Rescue \nSaturday April 24th\, 2021: Space Exploration or Geocaching \n  \nClasses Run from 9:00am – 1:00pm  \nClasses are limited to 30 Scouts per class. \nCost varies per badge\, badges starting at $35 \n  \nRegistration will open on Monday\, April 5th at 10am \nIf you have any questions or concerns please contact Rob Wolf or Dave Swartz \n  \nFor more information and to register click the button below!\n\n\n\n  \n\n\n\n\n\n\n\n\n\n\n\nClick Here for More Info & to Register
URL:https://bsatroop354.com/event/in-person-merit-badge-workshop/
END:VEVENT
END:VCALENDAR