BEGIN:VCALENDAR
VERSION:2.0
PRODID:-//Port Jefferson Station - BSA Troop 354 - ECPv6.2.3.2//NONSGML v1.0//EN
CALSCALE:GREGORIAN
METHOD:PUBLISH
X-ORIGINAL-URL:https://bsatroop354.com
X-WR-CALDESC:Events for Port Jefferson Station - BSA Troop 354
REFRESH-INTERVAL;VALUE=DURATION:PT1H
X-Robots-Tag:noindex
X-PUBLISHED-TTL:PT1H
BEGIN:VTIMEZONE
TZID:America/New_York
BEGIN:DAYLIGHT
TZOFFSETFROM:-0500
TZOFFSETTO:-0400
TZNAME:EDT
DTSTART:20210314T070000
END:DAYLIGHT
BEGIN:STANDARD
TZOFFSETFROM:-0400
TZOFFSETTO:-0500
TZNAME:EST
DTSTART:20211107T060000
END:STANDARD
END:VTIMEZONE
BEGIN:VEVENT
DTSTART;TZID=America/New_York:20210405T193000
DTEND;TZID=America/New_York:20210405T210000
DTSTAMP:20260420T054003
CREATED:20210329T155009Z
LAST-MODIFIED:20210329T191444Z
UID:3354-1617651000-1617656400@bsatroop354.com
SUMMARY:Troop Meeting
DESCRIPTION:Class B Uniforms\, Elk’s Lodge in Centereach \nFor now\, the meetings will be every other week.  We will all be wearing masks\, we will be taking temperatures\, and there will be sign in sheet.
URL:https://bsatroop354.com/event/troop-meeting-124/
LOCATION:Elk’s Lodge\, 41 Horseblock Road\, Centereach\, NY\, 11720\, United States
END:VEVENT
END:VCALENDAR