BEGIN:VCALENDAR
VERSION:2.0
PRODID:-//Port Jefferson Station - BSA Troop 354 - ECPv6.2.3.2//NONSGML v1.0//EN
CALSCALE:GREGORIAN
METHOD:PUBLISH
X-WR-CALNAME:Port Jefferson Station - BSA Troop 354
X-ORIGINAL-URL:https://bsatroop354.com
X-WR-CALDESC:Events for Port Jefferson Station - BSA Troop 354
REFRESH-INTERVAL;VALUE=DURATION:PT1H
X-Robots-Tag:noindex
X-PUBLISHED-TTL:PT1H
BEGIN:VTIMEZONE
TZID:America/New_York
BEGIN:DAYLIGHT
TZOFFSETFROM:-0500
TZOFFSETTO:-0400
TZNAME:EDT
DTSTART:20200308T070000
END:DAYLIGHT
BEGIN:STANDARD
TZOFFSETFROM:-0400
TZOFFSETTO:-0500
TZNAME:EST
DTSTART:20201101T060000
END:STANDARD
END:VTIMEZONE
BEGIN:VEVENT
DTSTART;TZID=America/New_York:20201005T193000
DTEND;TZID=America/New_York:20201005T210000
DTSTAMP:20260420T162009
CREATED:20200921T172642Z
LAST-MODIFIED:20200921T172642Z
UID:3261-1601926200-1601931600@bsatroop354.com
SUMMARY:Troop Meeting
DESCRIPTION:We will have to wear masks inside the lodge.\nIf you think your family has been exposed\, or someone is sick\, then you shouldn’t come to the meetings.  Send me email about it and let me know what is going on.  I need to know right away if someone thinks they caught something at our meetings or elsewhere.\nThere will be hand sanitizer at the meetings\, and the boys should use it.\nThe boys should keep their distance from one another.\nNo wrestling or touching one another.\nThere won’t be any ball throwing in the lodge.  The ceiling is low and we need to take care of the lodge.\n\nClass B Uniforms
URL:https://bsatroop354.com/event/troop-meeting-120/
LOCATION:Elk’s Lodge\, 41 Horseblock Road\, Centereach\, NY\, 11720\, United States
END:VEVENT
END:VCALENDAR