BEGIN:VCALENDAR
VERSION:2.0
PRODID:-//Port Jefferson Station - BSA Troop 354 - ECPv6.2.3.2//NONSGML v1.0//EN
CALSCALE:GREGORIAN
METHOD:PUBLISH
X-WR-CALNAME:Port Jefferson Station - BSA Troop 354
X-ORIGINAL-URL:https://bsatroop354.com
X-WR-CALDESC:Events for Port Jefferson Station - BSA Troop 354
REFRESH-INTERVAL;VALUE=DURATION:PT1H
X-Robots-Tag:noindex
X-PUBLISHED-TTL:PT1H
BEGIN:VTIMEZONE
TZID:America/New_York
BEGIN:DAYLIGHT
TZOFFSETFROM:-0500
TZOFFSETTO:-0400
TZNAME:EDT
DTSTART:20200308T070000
END:DAYLIGHT
BEGIN:STANDARD
TZOFFSETFROM:-0400
TZOFFSETTO:-0500
TZNAME:EST
DTSTART:20201101T060000
END:STANDARD
END:VTIMEZONE
BEGIN:VEVENT
DTSTART;TZID=America/New_York:20200208T080000
DTEND;TZID=America/New_York:20200208T100000
DTSTAMP:20260421T071711
CREATED:20200106T164307Z
LAST-MODIFIED:20200106T173400Z
UID:3141-1581148800-1581156000@bsatroop354.com
SUMMARY:Applebees Fundraiser
DESCRIPTION:Applebees in Miller Place on 25A\, 8:00 am to 10:00 am\, Class B uniforms \nWe need basket donations\, and volunteers to help serve. \nThere will most likely be a TV up for auction so don’t miss it. \nApplebee Pancake Breakfast (PDF) \nApplebee Donation Letter (PDF)
URL:https://bsatroop354.com/event/applebees-fundraiser/
LOCATION:Applebee’s\, 355 NY-25A\, Miller Place\, 11764\, United States
END:VEVENT
END:VCALENDAR