BEGIN:VCALENDAR
VERSION:2.0
PRODID:-//Port Jefferson Station - BSA Troop 354 - ECPv6.2.3.2//NONSGML v1.0//EN
CALSCALE:GREGORIAN
METHOD:PUBLISH
X-ORIGINAL-URL:https://bsatroop354.com
X-WR-CALDESC:Events for Port Jefferson Station - BSA Troop 354
REFRESH-INTERVAL;VALUE=DURATION:PT1H
X-Robots-Tag:noindex
X-PUBLISHED-TTL:PT1H
BEGIN:VTIMEZONE
TZID:America/New_York
BEGIN:DAYLIGHT
TZOFFSETFROM:-0500
TZOFFSETTO:-0400
TZNAME:EDT
DTSTART:20190310T070000
END:DAYLIGHT
BEGIN:STANDARD
TZOFFSETFROM:-0400
TZOFFSETTO:-0500
TZNAME:EST
DTSTART:20191103T060000
END:STANDARD
END:VTIMEZONE
BEGIN:VEVENT
DTSTART;TZID=America/New_York:20191216T193000
DTEND;TZID=America/New_York:20191216T210000
DTSTAMP:20260421T104219
CREATED:20191125T155733Z
LAST-MODIFIED:20191213T195635Z
UID:3081-1576524600-1576530000@bsatroop354.com
SUMMARY:Holiday Party
DESCRIPTION:Clinton Avenue School\, 7:30 pm to 9:00 pm\, Class B uniforms. \nThere will be a grab bag gift exchange\, as usual. \nThe cost of the gift should be around $20.00 (a little more or less) and appropriate for our boys. It doesn’t have to be scout related\, just in reasonable taste for our boys. \nPlease let me know if you can help with food and drink contributions that night.
URL:https://bsatroop354.com/event/holiday-party-3/
LOCATION:Clinton Avenue Elementary School\, 140 Clinton Avenue\, WX45+5M Port Jefferson Station\, NY\, 11776\, United States
END:VEVENT
END:VCALENDAR