BEGIN:VCALENDAR
VERSION:2.0
PRODID:-//Port Jefferson Station - BSA Troop 354 - ECPv6.2.3.2//NONSGML v1.0//EN
CALSCALE:GREGORIAN
METHOD:PUBLISH
X-ORIGINAL-URL:https://bsatroop354.com
X-WR-CALDESC:Events for Port Jefferson Station - BSA Troop 354
REFRESH-INTERVAL;VALUE=DURATION:PT1H
X-Robots-Tag:noindex
X-PUBLISHED-TTL:PT1H
BEGIN:VTIMEZONE
TZID:America/New_York
BEGIN:DAYLIGHT
TZOFFSETFROM:-0500
TZOFFSETTO:-0400
TZNAME:EDT
DTSTART:20190310T070000
END:DAYLIGHT
BEGIN:STANDARD
TZOFFSETFROM:-0400
TZOFFSETTO:-0500
TZNAME:EST
DTSTART:20191103T060000
END:STANDARD
END:VTIMEZONE
BEGIN:VEVENT
DTSTART;TZID=America/New_York:20191205T180000
DTEND;TZID=America/New_York:20191208T140000
DTSTAMP:20260421T104220
CREATED:20191125T155605Z
LAST-MODIFIED:20191125T155605Z
UID:3077-1575568800-1575813600@bsatroop354.com
SUMMARY:Dicken’s Festival
DESCRIPTION:Mr. Reed and his family setup a very large train display for the Dicken’s festival\, and to benefit Toys for Tots. \nCome down and see the display on Saturday or Sunday\, 12/7 or 12/8. Admission is free but we request you bring an unwrapped toy for Toys for Tots. \nMr. Reed and his family will be setting up the trains on Thursday and Friday evening\, 12/5\, and 12/6. Then the trains will be running on Saturday and Sunday\, 12/7 and 12/8. Mr. Reed will be taking it all down Sunday evening 12/8. \nThe display is in the harbor master building at the west end of the Town of Brookhaven parking lot in Port Jefferson. \nMr. Reed and family will need help during all those times.  Help setting up\, help monitoring the crowds and trains\, and help taking it all down. This counts towards community service\, and rank advancement\, and it is a fun time. \nPlease let Mr. Reed know if you can help him\, his email is charles.reed@linklaters.com \nClass B uniforms for Saturday and Sunday if you are helping monitor the trains. \nWe have to make sure the crowds down touch anything and the trains don’t get too hot when they are running.
URL:https://bsatroop354.com/event/dickens-festival/
END:VEVENT
END:VCALENDAR